BEGIN:VCALENDAR
VERSION:2.0
PRODID:-//Vän i Umeå - ECPv6.15.20//NONSGML v1.0//EN
CALSCALE:GREGORIAN
METHOD:PUBLISH
X-WR-CALNAME:Vän i Umeå
X-ORIGINAL-URL:https://vaniumea.se
X-WR-CALDESC:Händelser för Vän i Umeå
REFRESH-INTERVAL;VALUE=DURATION:PT1H
X-Robots-Tag:noindex
X-PUBLISHED-TTL:PT1H
BEGIN:VTIMEZONE
TZID:Europe/Stockholm
BEGIN:DAYLIGHT
TZOFFSETFROM:+0100
TZOFFSETTO:+0200
TZNAME:CEST
DTSTART:20250330T010000
END:DAYLIGHT
BEGIN:STANDARD
TZOFFSETFROM:+0200
TZOFFSETTO:+0100
TZNAME:CET
DTSTART:20251026T010000
END:STANDARD
BEGIN:DAYLIGHT
TZOFFSETFROM:+0100
TZOFFSETTO:+0200
TZNAME:CEST
DTSTART:20260329T010000
END:DAYLIGHT
BEGIN:STANDARD
TZOFFSETFROM:+0200
TZOFFSETTO:+0100
TZNAME:CET
DTSTART:20261025T010000
END:STANDARD
BEGIN:DAYLIGHT
TZOFFSETFROM:+0100
TZOFFSETTO:+0200
TZNAME:CEST
DTSTART:20270328T010000
END:DAYLIGHT
BEGIN:STANDARD
TZOFFSETFROM:+0200
TZOFFSETTO:+0100
TZNAME:CET
DTSTART:20271031T010000
END:STANDARD
END:VTIMEZONE
BEGIN:VEVENT
DTSTART;TZID=Europe/Stockholm:20260424T133000
DTEND;TZID=Europe/Stockholm:20260424T143000
DTSTAMP:20260424T120332
CREATED:20251219T091526Z
LAST-MODIFIED:20251219T093354Z
UID:10008583-1777037400-1777041000@vaniumea.se
SUMMARY:Vän möter ny vän
DESCRIPTION:Välkommen till Vän möter ny vän fyra fredagar i vår – här kan du möta nya vänner på Seniortorget\, Renmarkstorget 15\n\nVi sitter runt olika bord och pratar kring olika intresseområden. Det kan vara bak- och matlagning\, hälsa och rörelse\, hantverk och kultur. Ni kan också välja att prata om något som intresserar de som du pratar med. Här finns chansen att möta en ny vän\, i olika åldrar! Alla är välkomna!\n\nArrangemanget sker under ledning av Seniortorget i samverkan med Vän i Umeå. Ingen anmälan krävs.\n\nDatum: 20/2\, 20/3\, 24/4 och 22/5Tid: 13.30-14.30Plats: Seniortorget\, Renmarkstorget 15\n\nOm du har frågor ring 090-16 65 00
URL:https://vaniumea.se/aktivitet/van-moter-ny-van-kopiera-2/2026-04-24/
LOCATION:Seniortorget\, Renmarkstorget 15\, Umeå
CATEGORIES:fika
ATTACH;FMTTYPE=image/jpeg:https://media.vaniumea.se/2024/05/Sprakgruppen-scaled.jpg
GEO:63.8270051;20.2607638
X-APPLE-STRUCTURED-LOCATION;VALUE=URI;X-ADDRESS=Seniortorget Renmarkstorget 15 Umeå;X-APPLE-RADIUS=500;X-TITLE=Renmarkstorget 15:geo:20.2607638,63.8270051
END:VEVENT
BEGIN:VEVENT
DTSTART;TZID=Europe/Stockholm:20260424T190000
DTEND;TZID=Europe/Stockholm:20260424T203000
DTSTAMP:20260424T120332
CREATED:20260331T141030Z
LAST-MODIFIED:20260407T121946Z
UID:10008760-1777057200-1777062600@vaniumea.se
SUMMARY:Basket med Vän i Umeå
DESCRIPTION:Kom och spela basket med Vän i Umeå på fredagar kl. 19.00-20.30 på Maja Beskowskolan \n\nAlla kan vara med\, du som aldrig har spelat basket tidigare och du som spelat förut.\nVi ses \n\nOm du har några frågor\, hör av dig till Annie Andersson: 070-648 27 31
URL:https://vaniumea.se/aktivitet/basket-med-van-i-umea-copy-copy-2-kopiera-2-2/2026-04-24/
LOCATION:Maja Beskows idrottshall\, Fridhemsvägen 2\, Umeå\, Sverige
ATTACH;FMTTYPE=image/jpeg:https://media.vaniumea.se/2023/03/Basket.jpeg
END:VEVENT
BEGIN:VEVENT
DTSTART;TZID=Europe/Stockholm:20260424T190000
DTEND;TZID=Europe/Stockholm:20260424T210000
DTSTAMP:20260424T120332
CREATED:20260423T090950Z
LAST-MODIFIED:20260423T090951Z
UID:10008075-1777057200-1777064400@vaniumea.se
SUMMARY:Fotboll för alla
DESCRIPTION:Välkommen att spela fotboll varje fredag kväll.\n\nAlla är välkomna – du som aldrig spelat och du som spelar varje dag – vi lär oss tillsammans\, hjälper varandra och spelar för att det är kul!\n\nOm du har några frågor\, hör av dig till Trey Jonsson\, 073-098 64 25 eller Sofia Lindberg 070-615 80 22
URL:https://vaniumea.se/aktivitet/fotboll-for-alla-3-copy-copy-2-2-kopiera-3-2-2/2026-04-24/
LOCATION:Minervaskolans utomhusplan\, Nygatan 47\, Umeå
CATEGORIES:30+,För tjejer och kvinnor,fotboll,sport,ungdomsgrupp
ATTACH;FMTTYPE=image/jpeg:https://media.vaniumea.se/2023/05/fotboll-new-size-scaled.jpg
END:VEVENT
END:VCALENDAR