BEGIN:VCALENDAR
VERSION:2.0
PRODID:-//Vän i Umeå - ECPv6.15.20//NONSGML v1.0//EN
CALSCALE:GREGORIAN
METHOD:PUBLISH
X-ORIGINAL-URL:https://vaniumea.se
X-WR-CALDESC:Händelser för Vän i Umeå
REFRESH-INTERVAL;VALUE=DURATION:PT1H
X-Robots-Tag:noindex
X-PUBLISHED-TTL:PT1H
BEGIN:VTIMEZONE
TZID:Europe/Stockholm
BEGIN:DAYLIGHT
TZOFFSETFROM:+0100
TZOFFSETTO:+0200
TZNAME:CEST
DTSTART:20300331T010000
END:DAYLIGHT
BEGIN:STANDARD
TZOFFSETFROM:+0200
TZOFFSETTO:+0100
TZNAME:CET
DTSTART:20301027T010000
END:STANDARD
BEGIN:DAYLIGHT
TZOFFSETFROM:+0100
TZOFFSETTO:+0200
TZNAME:CEST
DTSTART:20310330T010000
END:DAYLIGHT
BEGIN:STANDARD
TZOFFSETFROM:+0200
TZOFFSETTO:+0100
TZNAME:CET
DTSTART:20311026T010000
END:STANDARD
BEGIN:DAYLIGHT
TZOFFSETFROM:+0100
TZOFFSETTO:+0200
TZNAME:CEST
DTSTART:20320328T010000
END:DAYLIGHT
BEGIN:STANDARD
TZOFFSETFROM:+0200
TZOFFSETTO:+0100
TZNAME:CET
DTSTART:20321031T010000
END:STANDARD
END:VTIMEZONE
BEGIN:VEVENT
DTSTART;TZID=Europe/Stockholm:20310221T190000
DTEND;TZID=Europe/Stockholm:20310221T210000
DTSTAMP:20260424T181035
CREATED:20260423T090950Z
LAST-MODIFIED:20260423T090951Z
UID:10008796-1929466800-1929474000@vaniumea.se
SUMMARY:Fotboll för alla
DESCRIPTION:Välkommen att spela fotboll varje fredag kväll.\n\nAlla är välkomna – du som aldrig spelat och du som spelar varje dag – vi lär oss tillsammans\, hjälper varandra och spelar för att det är kul!\n\nOm du har några frågor\, hör av dig till Trey Jonsson\, 073-098 64 25 eller Sofia Lindberg 070-615 80 22
URL:https://vaniumea.se/aktivitet/fotboll-for-alla-3-copy-copy-2-2-kopiera-3-2-2/2031-02-21/
LOCATION:Minervaskolans utomhusplan\, Nygatan 47\, Umeå
CATEGORIES:30+,För tjejer och kvinnor,fotboll,sport,ungdomsgrupp
ATTACH;FMTTYPE=image/jpeg:https://media.vaniumea.se/2023/05/fotboll-new-size-scaled.jpg
END:VEVENT
BEGIN:VEVENT
DTSTART;TZID=Europe/Stockholm:20310223T160000
DTEND;TZID=Europe/Stockholm:20310223T173000
DTSTAMP:20260424T181035
CREATED:20260423T091043Z
LAST-MODIFIED:20260424T142423Z
UID:10009138-1929628800-1929634200@vaniumea.se
SUMMARY:Fotboll för tjejer
DESCRIPTION:Alla tjejer/kvinnor/ickebinära är välkomna att spela fotboll med Vän i Umeå! \nDu kan vara nybörjare och aldrig ha spelat förut – vi lär oss tillsammans\, hjälper varandra och spelar för att det är kul! \n Kontakt: Sofia Lindberg 070-615 80 22 Frågor? Mejla kontakt@vaniumea.se\n––\nAll girls\, women\, and non-binary individuals are welcome to play football with Vän in Umeå! You can be someone who plays football every day\, or a beginner who has never played before – we learn together\, help each other\, and play for fun! \n Contact: Sofia Lindberg at 070-615 80 22 Questions? Email kontakt@vaniumea.se
URL:https://vaniumea.se/aktivitet/fotboll-for-tjejer-ickebinara-4-copy-copy-copy-copy-copy-2-kopiera-kopiera-2-2-2/2031-02-23/
LOCATION:Campus Arena\, Campus arena\, Umeå\, 90736\, Sverige
CATEGORIES:Utomhusaktivitet,30+,För tjejer och kvinnor,fotboll,sport,ungdomsgrupp
ATTACH;FMTTYPE=image/jpeg:https://media.vaniumea.se/2023/05/fotboll-new-size-scaled.jpg
END:VEVENT
BEGIN:VEVENT
DTSTART;TZID=Europe/Stockholm:20310227T190000
DTEND;TZID=Europe/Stockholm:20310227T200000
DTSTAMP:20260424T181035
CREATED:20251216T124344Z
LAST-MODIFIED:20260319T113804Z
UID:10008777-1929985200-1929988800@vaniumea.se
SUMMARY:Digitalt språkcafé
DESCRIPTION:Välkommen till vårt digitala språkcafé på torsdagar! Det startar klockan 19.00\, och vi vill gärna att du kommer senast kvart över.\nKlicka på denna länk för att vara med: https://us02web.zoom.us/j/87241111674
URL:https://vaniumea.se/aktivitet/digitalt-sprakcafe-2/2031-02-27/
CATEGORIES:språkcafé
ATTACH;FMTTYPE=image/png:https://media.vaniumea.se/2025/12/Ungdomar-e1773920270807.png
END:VEVENT
BEGIN:VEVENT
DTSTART;TZID=Europe/Stockholm:20310228T190000
DTEND;TZID=Europe/Stockholm:20310228T210000
DTSTAMP:20260424T181035
CREATED:20260423T090950Z
LAST-MODIFIED:20260423T090951Z
UID:10008797-1930071600-1930078800@vaniumea.se
SUMMARY:Fotboll för alla
DESCRIPTION:Välkommen att spela fotboll varje fredag kväll.\n\nAlla är välkomna – du som aldrig spelat och du som spelar varje dag – vi lär oss tillsammans\, hjälper varandra och spelar för att det är kul!\n\nOm du har några frågor\, hör av dig till Trey Jonsson\, 073-098 64 25 eller Sofia Lindberg 070-615 80 22
URL:https://vaniumea.se/aktivitet/fotboll-for-alla-3-copy-copy-2-2-kopiera-3-2-2/2031-02-28/
LOCATION:Minervaskolans utomhusplan\, Nygatan 47\, Umeå
CATEGORIES:30+,För tjejer och kvinnor,fotboll,sport,ungdomsgrupp
ATTACH;FMTTYPE=image/jpeg:https://media.vaniumea.se/2023/05/fotboll-new-size-scaled.jpg
END:VEVENT
BEGIN:VEVENT
DTSTART;TZID=Europe/Stockholm:20310302T160000
DTEND;TZID=Europe/Stockholm:20310302T173000
DTSTAMP:20260424T181035
CREATED:20260423T091043Z
LAST-MODIFIED:20260424T142423Z
UID:10009139-1930233600-1930239000@vaniumea.se
SUMMARY:Fotboll för tjejer
DESCRIPTION:Alla tjejer/kvinnor/ickebinära är välkomna att spela fotboll med Vän i Umeå! \nDu kan vara nybörjare och aldrig ha spelat förut – vi lär oss tillsammans\, hjälper varandra och spelar för att det är kul! \n Kontakt: Sofia Lindberg 070-615 80 22 Frågor? Mejla kontakt@vaniumea.se\n––\nAll girls\, women\, and non-binary individuals are welcome to play football with Vän in Umeå! You can be someone who plays football every day\, or a beginner who has never played before – we learn together\, help each other\, and play for fun! \n Contact: Sofia Lindberg at 070-615 80 22 Questions? Email kontakt@vaniumea.se
URL:https://vaniumea.se/aktivitet/fotboll-for-tjejer-ickebinara-4-copy-copy-copy-copy-copy-2-kopiera-kopiera-2-2-2/2031-03-02/
LOCATION:Campus Arena\, Campus arena\, Umeå\, 90736\, Sverige
CATEGORIES:Utomhusaktivitet,30+,För tjejer och kvinnor,fotboll,sport,ungdomsgrupp
ATTACH;FMTTYPE=image/jpeg:https://media.vaniumea.se/2023/05/fotboll-new-size-scaled.jpg
END:VEVENT
BEGIN:VEVENT
DTSTART;TZID=Europe/Stockholm:20310306T190000
DTEND;TZID=Europe/Stockholm:20310306T200000
DTSTAMP:20260424T181035
CREATED:20251216T124344Z
LAST-MODIFIED:20260319T113804Z
UID:10008778-1930590000-1930593600@vaniumea.se
SUMMARY:Digitalt språkcafé
DESCRIPTION:Välkommen till vårt digitala språkcafé på torsdagar! Det startar klockan 19.00\, och vi vill gärna att du kommer senast kvart över.\nKlicka på denna länk för att vara med: https://us02web.zoom.us/j/87241111674
URL:https://vaniumea.se/aktivitet/digitalt-sprakcafe-2/2031-03-06/
CATEGORIES:språkcafé
ATTACH;FMTTYPE=image/png:https://media.vaniumea.se/2025/12/Ungdomar-e1773920270807.png
END:VEVENT
BEGIN:VEVENT
DTSTART;TZID=Europe/Stockholm:20310307T190000
DTEND;TZID=Europe/Stockholm:20310307T210000
DTSTAMP:20260424T181035
CREATED:20260423T090950Z
LAST-MODIFIED:20260423T090951Z
UID:10008798-1930676400-1930683600@vaniumea.se
SUMMARY:Fotboll för alla
DESCRIPTION:Välkommen att spela fotboll varje fredag kväll.\n\nAlla är välkomna – du som aldrig spelat och du som spelar varje dag – vi lär oss tillsammans\, hjälper varandra och spelar för att det är kul!\n\nOm du har några frågor\, hör av dig till Trey Jonsson\, 073-098 64 25 eller Sofia Lindberg 070-615 80 22
URL:https://vaniumea.se/aktivitet/fotboll-for-alla-3-copy-copy-2-2-kopiera-3-2-2/2031-03-07/
LOCATION:Minervaskolans utomhusplan\, Nygatan 47\, Umeå
CATEGORIES:30+,För tjejer och kvinnor,fotboll,sport,ungdomsgrupp
ATTACH;FMTTYPE=image/jpeg:https://media.vaniumea.se/2023/05/fotboll-new-size-scaled.jpg
END:VEVENT
BEGIN:VEVENT
DTSTART;TZID=Europe/Stockholm:20310309T160000
DTEND;TZID=Europe/Stockholm:20310309T173000
DTSTAMP:20260424T181035
CREATED:20260423T091043Z
LAST-MODIFIED:20260424T142423Z
UID:10009140-1930838400-1930843800@vaniumea.se
SUMMARY:Fotboll för tjejer
DESCRIPTION:Alla tjejer/kvinnor/ickebinära är välkomna att spela fotboll med Vän i Umeå! \nDu kan vara nybörjare och aldrig ha spelat förut – vi lär oss tillsammans\, hjälper varandra och spelar för att det är kul! \n Kontakt: Sofia Lindberg 070-615 80 22 Frågor? Mejla kontakt@vaniumea.se\n––\nAll girls\, women\, and non-binary individuals are welcome to play football with Vän in Umeå! You can be someone who plays football every day\, or a beginner who has never played before – we learn together\, help each other\, and play for fun! \n Contact: Sofia Lindberg at 070-615 80 22 Questions? Email kontakt@vaniumea.se
URL:https://vaniumea.se/aktivitet/fotboll-for-tjejer-ickebinara-4-copy-copy-copy-copy-copy-2-kopiera-kopiera-2-2-2/2031-03-09/
LOCATION:Campus Arena\, Campus arena\, Umeå\, 90736\, Sverige
CATEGORIES:Utomhusaktivitet,30+,För tjejer och kvinnor,fotboll,sport,ungdomsgrupp
ATTACH;FMTTYPE=image/jpeg:https://media.vaniumea.se/2023/05/fotboll-new-size-scaled.jpg
END:VEVENT
BEGIN:VEVENT
DTSTART;TZID=Europe/Stockholm:20310313T190000
DTEND;TZID=Europe/Stockholm:20310313T200000
DTSTAMP:20260424T181035
CREATED:20251216T124344Z
LAST-MODIFIED:20260319T113804Z
UID:10008779-1931194800-1931198400@vaniumea.se
SUMMARY:Digitalt språkcafé
DESCRIPTION:Välkommen till vårt digitala språkcafé på torsdagar! Det startar klockan 19.00\, och vi vill gärna att du kommer senast kvart över.\nKlicka på denna länk för att vara med: https://us02web.zoom.us/j/87241111674
URL:https://vaniumea.se/aktivitet/digitalt-sprakcafe-2/2031-03-13/
CATEGORIES:språkcafé
ATTACH;FMTTYPE=image/png:https://media.vaniumea.se/2025/12/Ungdomar-e1773920270807.png
END:VEVENT
BEGIN:VEVENT
DTSTART;TZID=Europe/Stockholm:20310314T190000
DTEND;TZID=Europe/Stockholm:20310314T210000
DTSTAMP:20260424T181035
CREATED:20260423T090950Z
LAST-MODIFIED:20260423T090951Z
UID:10008799-1931281200-1931288400@vaniumea.se
SUMMARY:Fotboll för alla
DESCRIPTION:Välkommen att spela fotboll varje fredag kväll.\n\nAlla är välkomna – du som aldrig spelat och du som spelar varje dag – vi lär oss tillsammans\, hjälper varandra och spelar för att det är kul!\n\nOm du har några frågor\, hör av dig till Trey Jonsson\, 073-098 64 25 eller Sofia Lindberg 070-615 80 22
URL:https://vaniumea.se/aktivitet/fotboll-for-alla-3-copy-copy-2-2-kopiera-3-2-2/2031-03-14/
LOCATION:Minervaskolans utomhusplan\, Nygatan 47\, Umeå
CATEGORIES:30+,För tjejer och kvinnor,fotboll,sport,ungdomsgrupp
ATTACH;FMTTYPE=image/jpeg:https://media.vaniumea.se/2023/05/fotboll-new-size-scaled.jpg
END:VEVENT
BEGIN:VEVENT
DTSTART;TZID=Europe/Stockholm:20310316T160000
DTEND;TZID=Europe/Stockholm:20310316T173000
DTSTAMP:20260424T181035
CREATED:20260423T091043Z
LAST-MODIFIED:20260424T142423Z
UID:10009141-1931443200-1931448600@vaniumea.se
SUMMARY:Fotboll för tjejer
DESCRIPTION:Alla tjejer/kvinnor/ickebinära är välkomna att spela fotboll med Vän i Umeå! \nDu kan vara nybörjare och aldrig ha spelat förut – vi lär oss tillsammans\, hjälper varandra och spelar för att det är kul! \n Kontakt: Sofia Lindberg 070-615 80 22 Frågor? Mejla kontakt@vaniumea.se\n––\nAll girls\, women\, and non-binary individuals are welcome to play football with Vän in Umeå! You can be someone who plays football every day\, or a beginner who has never played before – we learn together\, help each other\, and play for fun! \n Contact: Sofia Lindberg at 070-615 80 22 Questions? Email kontakt@vaniumea.se
URL:https://vaniumea.se/aktivitet/fotboll-for-tjejer-ickebinara-4-copy-copy-copy-copy-copy-2-kopiera-kopiera-2-2-2/2031-03-16/
LOCATION:Campus Arena\, Campus arena\, Umeå\, 90736\, Sverige
CATEGORIES:Utomhusaktivitet,30+,För tjejer och kvinnor,fotboll,sport,ungdomsgrupp
ATTACH;FMTTYPE=image/jpeg:https://media.vaniumea.se/2023/05/fotboll-new-size-scaled.jpg
END:VEVENT
BEGIN:VEVENT
DTSTART;TZID=Europe/Stockholm:20310321T190000
DTEND;TZID=Europe/Stockholm:20310321T210000
DTSTAMP:20260424T181035
CREATED:20260423T090950Z
LAST-MODIFIED:20260423T090951Z
UID:10008800-1931886000-1931893200@vaniumea.se
SUMMARY:Fotboll för alla
DESCRIPTION:Välkommen att spela fotboll varje fredag kväll.\n\nAlla är välkomna – du som aldrig spelat och du som spelar varje dag – vi lär oss tillsammans\, hjälper varandra och spelar för att det är kul!\n\nOm du har några frågor\, hör av dig till Trey Jonsson\, 073-098 64 25 eller Sofia Lindberg 070-615 80 22
URL:https://vaniumea.se/aktivitet/fotboll-for-alla-3-copy-copy-2-2-kopiera-3-2-2/2031-03-21/
LOCATION:Minervaskolans utomhusplan\, Nygatan 47\, Umeå
CATEGORIES:30+,För tjejer och kvinnor,fotboll,sport,ungdomsgrupp
ATTACH;FMTTYPE=image/jpeg:https://media.vaniumea.se/2023/05/fotboll-new-size-scaled.jpg
END:VEVENT
BEGIN:VEVENT
DTSTART;TZID=Europe/Stockholm:20310323T160000
DTEND;TZID=Europe/Stockholm:20310323T173000
DTSTAMP:20260424T181035
CREATED:20260423T091043Z
LAST-MODIFIED:20260424T142423Z
UID:10009142-1932048000-1932053400@vaniumea.se
SUMMARY:Fotboll för tjejer
DESCRIPTION:Alla tjejer/kvinnor/ickebinära är välkomna att spela fotboll med Vän i Umeå! \nDu kan vara nybörjare och aldrig ha spelat förut – vi lär oss tillsammans\, hjälper varandra och spelar för att det är kul! \n Kontakt: Sofia Lindberg 070-615 80 22 Frågor? Mejla kontakt@vaniumea.se\n––\nAll girls\, women\, and non-binary individuals are welcome to play football with Vän in Umeå! You can be someone who plays football every day\, or a beginner who has never played before – we learn together\, help each other\, and play for fun! \n Contact: Sofia Lindberg at 070-615 80 22 Questions? Email kontakt@vaniumea.se
URL:https://vaniumea.se/aktivitet/fotboll-for-tjejer-ickebinara-4-copy-copy-copy-copy-copy-2-kopiera-kopiera-2-2-2/2031-03-23/
LOCATION:Campus Arena\, Campus arena\, Umeå\, 90736\, Sverige
CATEGORIES:Utomhusaktivitet,30+,För tjejer och kvinnor,fotboll,sport,ungdomsgrupp
ATTACH;FMTTYPE=image/jpeg:https://media.vaniumea.se/2023/05/fotboll-new-size-scaled.jpg
END:VEVENT
BEGIN:VEVENT
DTSTART;TZID=Europe/Stockholm:20310328T190000
DTEND;TZID=Europe/Stockholm:20310328T210000
DTSTAMP:20260424T181035
CREATED:20260423T090950Z
LAST-MODIFIED:20260423T090951Z
UID:10008801-1932490800-1932498000@vaniumea.se
SUMMARY:Fotboll för alla
DESCRIPTION:Välkommen att spela fotboll varje fredag kväll.\n\nAlla är välkomna – du som aldrig spelat och du som spelar varje dag – vi lär oss tillsammans\, hjälper varandra och spelar för att det är kul!\n\nOm du har några frågor\, hör av dig till Trey Jonsson\, 073-098 64 25 eller Sofia Lindberg 070-615 80 22
URL:https://vaniumea.se/aktivitet/fotboll-for-alla-3-copy-copy-2-2-kopiera-3-2-2/2031-03-28/
LOCATION:Minervaskolans utomhusplan\, Nygatan 47\, Umeå
CATEGORIES:30+,För tjejer och kvinnor,fotboll,sport,ungdomsgrupp
ATTACH;FMTTYPE=image/jpeg:https://media.vaniumea.se/2023/05/fotboll-new-size-scaled.jpg
END:VEVENT
BEGIN:VEVENT
DTSTART;TZID=Europe/Stockholm:20310330T160000
DTEND;TZID=Europe/Stockholm:20310330T173000
DTSTAMP:20260424T181035
CREATED:20260423T091043Z
LAST-MODIFIED:20260424T142423Z
UID:10009143-1932652800-1932658200@vaniumea.se
SUMMARY:Fotboll för tjejer
DESCRIPTION:Alla tjejer/kvinnor/ickebinära är välkomna att spela fotboll med Vän i Umeå! \nDu kan vara nybörjare och aldrig ha spelat förut – vi lär oss tillsammans\, hjälper varandra och spelar för att det är kul! \n Kontakt: Sofia Lindberg 070-615 80 22 Frågor? Mejla kontakt@vaniumea.se\n––\nAll girls\, women\, and non-binary individuals are welcome to play football with Vän in Umeå! You can be someone who plays football every day\, or a beginner who has never played before – we learn together\, help each other\, and play for fun! \n Contact: Sofia Lindberg at 070-615 80 22 Questions? Email kontakt@vaniumea.se
URL:https://vaniumea.se/aktivitet/fotboll-for-tjejer-ickebinara-4-copy-copy-copy-copy-copy-2-kopiera-kopiera-2-2-2/2031-03-30/
LOCATION:Campus Arena\, Campus arena\, Umeå\, 90736\, Sverige
CATEGORIES:Utomhusaktivitet,30+,För tjejer och kvinnor,fotboll,sport,ungdomsgrupp
ATTACH;FMTTYPE=image/jpeg:https://media.vaniumea.se/2023/05/fotboll-new-size-scaled.jpg
END:VEVENT
BEGIN:VEVENT
DTSTART;TZID=Europe/Stockholm:20310404T190000
DTEND;TZID=Europe/Stockholm:20310404T210000
DTSTAMP:20260424T181035
CREATED:20260423T090950Z
LAST-MODIFIED:20260423T090951Z
UID:10008845-1933095600-1933102800@vaniumea.se
SUMMARY:Fotboll för alla
DESCRIPTION:Välkommen att spela fotboll varje fredag kväll.\n\nAlla är välkomna – du som aldrig spelat och du som spelar varje dag – vi lär oss tillsammans\, hjälper varandra och spelar för att det är kul!\n\nOm du har några frågor\, hör av dig till Trey Jonsson\, 073-098 64 25 eller Sofia Lindberg 070-615 80 22
URL:https://vaniumea.se/aktivitet/fotboll-for-alla-3-copy-copy-2-2-kopiera-3-2-2/2031-04-04/
LOCATION:Minervaskolans utomhusplan\, Nygatan 47\, Umeå
CATEGORIES:30+,För tjejer och kvinnor,fotboll,sport,ungdomsgrupp
ATTACH;FMTTYPE=image/jpeg:https://media.vaniumea.se/2023/05/fotboll-new-size-scaled.jpg
END:VEVENT
BEGIN:VEVENT
DTSTART;TZID=Europe/Stockholm:20310406T160000
DTEND;TZID=Europe/Stockholm:20310406T173000
DTSTAMP:20260424T181035
CREATED:20260423T091043Z
LAST-MODIFIED:20260424T142423Z
UID:10009144-1933257600-1933263000@vaniumea.se
SUMMARY:Fotboll för tjejer
DESCRIPTION:Alla tjejer/kvinnor/ickebinära är välkomna att spela fotboll med Vän i Umeå! \nDu kan vara nybörjare och aldrig ha spelat förut – vi lär oss tillsammans\, hjälper varandra och spelar för att det är kul! \n Kontakt: Sofia Lindberg 070-615 80 22 Frågor? Mejla kontakt@vaniumea.se\n––\nAll girls\, women\, and non-binary individuals are welcome to play football with Vän in Umeå! You can be someone who plays football every day\, or a beginner who has never played before – we learn together\, help each other\, and play for fun! \n Contact: Sofia Lindberg at 070-615 80 22 Questions? Email kontakt@vaniumea.se
URL:https://vaniumea.se/aktivitet/fotboll-for-tjejer-ickebinara-4-copy-copy-copy-copy-copy-2-kopiera-kopiera-2-2-2/2031-04-06/
LOCATION:Campus Arena\, Campus arena\, Umeå\, 90736\, Sverige
CATEGORIES:Utomhusaktivitet,30+,För tjejer och kvinnor,fotboll,sport,ungdomsgrupp
ATTACH;FMTTYPE=image/jpeg:https://media.vaniumea.se/2023/05/fotboll-new-size-scaled.jpg
END:VEVENT
BEGIN:VEVENT
DTSTART;TZID=Europe/Stockholm:20310411T190000
DTEND;TZID=Europe/Stockholm:20310411T210000
DTSTAMP:20260424T181035
CREATED:20260423T090950Z
LAST-MODIFIED:20260423T090951Z
UID:10008882-1933700400-1933707600@vaniumea.se
SUMMARY:Fotboll för alla
DESCRIPTION:Välkommen att spela fotboll varje fredag kväll.\n\nAlla är välkomna – du som aldrig spelat och du som spelar varje dag – vi lär oss tillsammans\, hjälper varandra och spelar för att det är kul!\n\nOm du har några frågor\, hör av dig till Trey Jonsson\, 073-098 64 25 eller Sofia Lindberg 070-615 80 22
URL:https://vaniumea.se/aktivitet/fotboll-for-alla-3-copy-copy-2-2-kopiera-3-2-2/2031-04-11/
LOCATION:Minervaskolans utomhusplan\, Nygatan 47\, Umeå
CATEGORIES:30+,För tjejer och kvinnor,fotboll,sport,ungdomsgrupp
ATTACH;FMTTYPE=image/jpeg:https://media.vaniumea.se/2023/05/fotboll-new-size-scaled.jpg
END:VEVENT
BEGIN:VEVENT
DTSTART;TZID=Europe/Stockholm:20310413T160000
DTEND;TZID=Europe/Stockholm:20310413T173000
DTSTAMP:20260424T181035
CREATED:20260423T091043Z
LAST-MODIFIED:20260424T142423Z
UID:10009145-1933862400-1933867800@vaniumea.se
SUMMARY:Fotboll för tjejer
DESCRIPTION:Alla tjejer/kvinnor/ickebinära är välkomna att spela fotboll med Vän i Umeå! \nDu kan vara nybörjare och aldrig ha spelat förut – vi lär oss tillsammans\, hjälper varandra och spelar för att det är kul! \n Kontakt: Sofia Lindberg 070-615 80 22 Frågor? Mejla kontakt@vaniumea.se\n––\nAll girls\, women\, and non-binary individuals are welcome to play football with Vän in Umeå! You can be someone who plays football every day\, or a beginner who has never played before – we learn together\, help each other\, and play for fun! \n Contact: Sofia Lindberg at 070-615 80 22 Questions? Email kontakt@vaniumea.se
URL:https://vaniumea.se/aktivitet/fotboll-for-tjejer-ickebinara-4-copy-copy-copy-copy-copy-2-kopiera-kopiera-2-2-2/2031-04-13/
LOCATION:Campus Arena\, Campus arena\, Umeå\, 90736\, Sverige
CATEGORIES:Utomhusaktivitet,30+,För tjejer och kvinnor,fotboll,sport,ungdomsgrupp
ATTACH;FMTTYPE=image/jpeg:https://media.vaniumea.se/2023/05/fotboll-new-size-scaled.jpg
END:VEVENT
BEGIN:VEVENT
DTSTART;TZID=Europe/Stockholm:20310418T190000
DTEND;TZID=Europe/Stockholm:20310418T210000
DTSTAMP:20260424T181035
CREATED:20260423T090950Z
LAST-MODIFIED:20260423T090951Z
UID:10008883-1934305200-1934312400@vaniumea.se
SUMMARY:Fotboll för alla
DESCRIPTION:Välkommen att spela fotboll varje fredag kväll.\n\nAlla är välkomna – du som aldrig spelat och du som spelar varje dag – vi lär oss tillsammans\, hjälper varandra och spelar för att det är kul!\n\nOm du har några frågor\, hör av dig till Trey Jonsson\, 073-098 64 25 eller Sofia Lindberg 070-615 80 22
URL:https://vaniumea.se/aktivitet/fotboll-for-alla-3-copy-copy-2-2-kopiera-3-2-2/2031-04-18/
LOCATION:Minervaskolans utomhusplan\, Nygatan 47\, Umeå
CATEGORIES:30+,För tjejer och kvinnor,fotboll,sport,ungdomsgrupp
ATTACH;FMTTYPE=image/jpeg:https://media.vaniumea.se/2023/05/fotboll-new-size-scaled.jpg
END:VEVENT
BEGIN:VEVENT
DTSTART;TZID=Europe/Stockholm:20310420T160000
DTEND;TZID=Europe/Stockholm:20310420T173000
DTSTAMP:20260424T181035
CREATED:20260423T091043Z
LAST-MODIFIED:20260424T142423Z
UID:10009146-1934467200-1934472600@vaniumea.se
SUMMARY:Fotboll för tjejer
DESCRIPTION:Alla tjejer/kvinnor/ickebinära är välkomna att spela fotboll med Vän i Umeå! \nDu kan vara nybörjare och aldrig ha spelat förut – vi lär oss tillsammans\, hjälper varandra och spelar för att det är kul! \n Kontakt: Sofia Lindberg 070-615 80 22 Frågor? Mejla kontakt@vaniumea.se\n––\nAll girls\, women\, and non-binary individuals are welcome to play football with Vän in Umeå! You can be someone who plays football every day\, or a beginner who has never played before – we learn together\, help each other\, and play for fun! \n Contact: Sofia Lindberg at 070-615 80 22 Questions? Email kontakt@vaniumea.se
URL:https://vaniumea.se/aktivitet/fotboll-for-tjejer-ickebinara-4-copy-copy-copy-copy-copy-2-kopiera-kopiera-2-2-2/2031-04-20/
LOCATION:Campus Arena\, Campus arena\, Umeå\, 90736\, Sverige
CATEGORIES:Utomhusaktivitet,30+,För tjejer och kvinnor,fotboll,sport,ungdomsgrupp
ATTACH;FMTTYPE=image/jpeg:https://media.vaniumea.se/2023/05/fotboll-new-size-scaled.jpg
END:VEVENT
END:VCALENDAR