BEGIN:VCALENDAR
VERSION:2.0
PRODID:-//Vän i Umeå - ECPv6.15.20//NONSGML v1.0//EN
CALSCALE:GREGORIAN
METHOD:PUBLISH
X-ORIGINAL-URL:https://vaniumea.se
X-WR-CALDESC:Händelser för Vän i Umeå
REFRESH-INTERVAL;VALUE=DURATION:PT1H
X-Robots-Tag:noindex
X-PUBLISHED-TTL:PT1H
BEGIN:VTIMEZONE
TZID:Europe/Stockholm
BEGIN:DAYLIGHT
TZOFFSETFROM:+0100
TZOFFSETTO:+0200
TZNAME:CEST
DTSTART:20290325T010000
END:DAYLIGHT
BEGIN:STANDARD
TZOFFSETFROM:+0200
TZOFFSETTO:+0100
TZNAME:CET
DTSTART:20291028T010000
END:STANDARD
BEGIN:DAYLIGHT
TZOFFSETFROM:+0100
TZOFFSETTO:+0200
TZNAME:CEST
DTSTART:20300331T010000
END:DAYLIGHT
BEGIN:STANDARD
TZOFFSETFROM:+0200
TZOFFSETTO:+0100
TZNAME:CET
DTSTART:20301027T010000
END:STANDARD
BEGIN:DAYLIGHT
TZOFFSETFROM:+0100
TZOFFSETTO:+0200
TZNAME:CEST
DTSTART:20310330T010000
END:DAYLIGHT
BEGIN:STANDARD
TZOFFSETFROM:+0200
TZOFFSETTO:+0100
TZNAME:CET
DTSTART:20311026T010000
END:STANDARD
END:VTIMEZONE
BEGIN:VEVENT
DTSTART;TZID=Europe/Stockholm:20300711T190000
DTEND;TZID=Europe/Stockholm:20300711T200000
DTSTAMP:20260420T060137
CREATED:20251216T124344Z
LAST-MODIFIED:20260319T113804Z
UID:10008034-1910026800-1910030400@vaniumea.se
SUMMARY:Digitalt språkcafé
DESCRIPTION:Välkommen till vårt digitala språkcafé på torsdagar! Det startar klockan 19.00\, och vi vill gärna att du kommer senast kvart över.\nKlicka på denna länk för att vara med: https://us02web.zoom.us/j/87241111674
URL:https://vaniumea.se/aktivitet/digitalt-sprakcafe-2/2030-07-11/
CATEGORIES:språkcafé
ATTACH;FMTTYPE=image/png:https://media.vaniumea.se/2025/12/Ungdomar-e1773920270807.png
END:VEVENT
BEGIN:VEVENT
DTSTART;TZID=Europe/Stockholm:20300712T190000
DTEND;TZID=Europe/Stockholm:20300712T210000
DTSTAMP:20260420T060137
CREATED:20260331T140419Z
LAST-MODIFIED:20260407T121935Z
UID:10008295-1910113200-1910120400@vaniumea.se
SUMMARY:Fotboll för alla
DESCRIPTION:Välkommen att spela fotboll varje fredag kväll.\n\nAlla är välkomna – du som aldrig spelat och du som spelar varje dag – vi lär oss tillsammans\, hjälper varandra och spelar för att det är kul!\n\nOm du har några frågor\, hör av dig till Trey Jonsson\, 073-098 64 25 eller Sofia Lindberg 070-615 80 22
URL:https://vaniumea.se/aktivitet/fotboll-for-alla-3-copy-copy-2-2-kopiera-3-2/2030-07-12/
LOCATION:Dragonskolan 2.0\, Dragongatan 1\, Umeå\, 903 22
CATEGORIES:30+,För tjejer och kvinnor,fotboll,sport,ungdomsgrupp
ATTACH;FMTTYPE=image/png:https://media.vaniumea.se/2023/08/fotboll.png
END:VEVENT
BEGIN:VEVENT
DTSTART;TZID=Europe/Stockholm:20300714T143000
DTEND;TZID=Europe/Stockholm:20300714T160000
DTSTAMP:20260420T060137
CREATED:20260331T140608Z
LAST-MODIFIED:20260407T121926Z
UID:10008555-1910269800-1910275200@vaniumea.se
SUMMARY:Fotboll för tjejer
DESCRIPTION:Alla tjejer/kvinnor/ickebinära är välkomna att spela fotboll med Vän i Umeå! \nDu kan vara nybörjare och aldrig ha spelat förut – vi lär oss tillsammans\, hjälper varandra och spelar för att det är kul! \n Kontakt: Sofia Lindberg 070-615 80 22 Frågor? Mejla kontakt@vaniumea.se\n––\nAll girls\, women\, and non-binary individuals are welcome to play football with Vän in Umeå! You can be someone who plays football every day\, or a beginner who has never played before – we learn together\, help each other\, and play for fun! \n Contact: Sofia Lindberg at 070-615 80 22 Questions? Email kontakt@vaniumea.se
URL:https://vaniumea.se/aktivitet/fotboll-for-tjejer-ickebinara-4-copy-copy-copy-copy-copy-2-kopiera-kopiera-2-2/2030-07-14/
LOCATION:Ålidhemshallen\, Humaniststråket 15\, Umeå\, 907 30\, Sverige
CATEGORIES:Utomhusaktivitet,30+,För tjejer och kvinnor,fotboll,sport,ungdomsgrupp
ATTACH;FMTTYPE=image/jpeg:https://media.vaniumea.se/2024/06/fotbolltjejerjuni-e1755780309718.jpeg
END:VEVENT
BEGIN:VEVENT
DTSTART;TZID=Europe/Stockholm:20300718T190000
DTEND;TZID=Europe/Stockholm:20300718T200000
DTSTAMP:20260420T060137
CREATED:20251216T124344Z
LAST-MODIFIED:20260319T113804Z
UID:10008035-1910631600-1910635200@vaniumea.se
SUMMARY:Digitalt språkcafé
DESCRIPTION:Välkommen till vårt digitala språkcafé på torsdagar! Det startar klockan 19.00\, och vi vill gärna att du kommer senast kvart över.\nKlicka på denna länk för att vara med: https://us02web.zoom.us/j/87241111674
URL:https://vaniumea.se/aktivitet/digitalt-sprakcafe-2/2030-07-18/
CATEGORIES:språkcafé
ATTACH;FMTTYPE=image/png:https://media.vaniumea.se/2025/12/Ungdomar-e1773920270807.png
END:VEVENT
BEGIN:VEVENT
DTSTART;TZID=Europe/Stockholm:20300719T190000
DTEND;TZID=Europe/Stockholm:20300719T210000
DTSTAMP:20260420T060137
CREATED:20260331T140419Z
LAST-MODIFIED:20260407T121935Z
UID:10008296-1910718000-1910725200@vaniumea.se
SUMMARY:Fotboll för alla
DESCRIPTION:Välkommen att spela fotboll varje fredag kväll.\n\nAlla är välkomna – du som aldrig spelat och du som spelar varje dag – vi lär oss tillsammans\, hjälper varandra och spelar för att det är kul!\n\nOm du har några frågor\, hör av dig till Trey Jonsson\, 073-098 64 25 eller Sofia Lindberg 070-615 80 22
URL:https://vaniumea.se/aktivitet/fotboll-for-alla-3-copy-copy-2-2-kopiera-3-2/2030-07-19/
LOCATION:Dragonskolan 2.0\, Dragongatan 1\, Umeå\, 903 22
CATEGORIES:30+,För tjejer och kvinnor,fotboll,sport,ungdomsgrupp
ATTACH;FMTTYPE=image/png:https://media.vaniumea.se/2023/08/fotboll.png
END:VEVENT
BEGIN:VEVENT
DTSTART;TZID=Europe/Stockholm:20300721T143000
DTEND;TZID=Europe/Stockholm:20300721T160000
DTSTAMP:20260420T060137
CREATED:20260331T140608Z
LAST-MODIFIED:20260407T121926Z
UID:10008556-1910874600-1910880000@vaniumea.se
SUMMARY:Fotboll för tjejer
DESCRIPTION:Alla tjejer/kvinnor/ickebinära är välkomna att spela fotboll med Vän i Umeå! \nDu kan vara nybörjare och aldrig ha spelat förut – vi lär oss tillsammans\, hjälper varandra och spelar för att det är kul! \n Kontakt: Sofia Lindberg 070-615 80 22 Frågor? Mejla kontakt@vaniumea.se\n––\nAll girls\, women\, and non-binary individuals are welcome to play football with Vän in Umeå! You can be someone who plays football every day\, or a beginner who has never played before – we learn together\, help each other\, and play for fun! \n Contact: Sofia Lindberg at 070-615 80 22 Questions? Email kontakt@vaniumea.se
URL:https://vaniumea.se/aktivitet/fotboll-for-tjejer-ickebinara-4-copy-copy-copy-copy-copy-2-kopiera-kopiera-2-2/2030-07-21/
LOCATION:Ålidhemshallen\, Humaniststråket 15\, Umeå\, 907 30\, Sverige
CATEGORIES:Utomhusaktivitet,30+,För tjejer och kvinnor,fotboll,sport,ungdomsgrupp
ATTACH;FMTTYPE=image/jpeg:https://media.vaniumea.se/2024/06/fotbolltjejerjuni-e1755780309718.jpeg
END:VEVENT
BEGIN:VEVENT
DTSTART;TZID=Europe/Stockholm:20300725T190000
DTEND;TZID=Europe/Stockholm:20300725T200000
DTSTAMP:20260420T060137
CREATED:20251216T124344Z
LAST-MODIFIED:20260319T113804Z
UID:10008036-1911236400-1911240000@vaniumea.se
SUMMARY:Digitalt språkcafé
DESCRIPTION:Välkommen till vårt digitala språkcafé på torsdagar! Det startar klockan 19.00\, och vi vill gärna att du kommer senast kvart över.\nKlicka på denna länk för att vara med: https://us02web.zoom.us/j/87241111674
URL:https://vaniumea.se/aktivitet/digitalt-sprakcafe-2/2030-07-25/
CATEGORIES:språkcafé
ATTACH;FMTTYPE=image/png:https://media.vaniumea.se/2025/12/Ungdomar-e1773920270807.png
END:VEVENT
BEGIN:VEVENT
DTSTART;TZID=Europe/Stockholm:20300726T190000
DTEND;TZID=Europe/Stockholm:20300726T210000
DTSTAMP:20260420T060137
CREATED:20260331T140419Z
LAST-MODIFIED:20260407T121935Z
UID:10008297-1911322800-1911330000@vaniumea.se
SUMMARY:Fotboll för alla
DESCRIPTION:Välkommen att spela fotboll varje fredag kväll.\n\nAlla är välkomna – du som aldrig spelat och du som spelar varje dag – vi lär oss tillsammans\, hjälper varandra och spelar för att det är kul!\n\nOm du har några frågor\, hör av dig till Trey Jonsson\, 073-098 64 25 eller Sofia Lindberg 070-615 80 22
URL:https://vaniumea.se/aktivitet/fotboll-for-alla-3-copy-copy-2-2-kopiera-3-2/2030-07-26/
LOCATION:Dragonskolan 2.0\, Dragongatan 1\, Umeå\, 903 22
CATEGORIES:30+,För tjejer och kvinnor,fotboll,sport,ungdomsgrupp
ATTACH;FMTTYPE=image/png:https://media.vaniumea.se/2023/08/fotboll.png
END:VEVENT
BEGIN:VEVENT
DTSTART;TZID=Europe/Stockholm:20300728T143000
DTEND;TZID=Europe/Stockholm:20300728T160000
DTSTAMP:20260420T060137
CREATED:20260331T140608Z
LAST-MODIFIED:20260407T121926Z
UID:10008557-1911479400-1911484800@vaniumea.se
SUMMARY:Fotboll för tjejer
DESCRIPTION:Alla tjejer/kvinnor/ickebinära är välkomna att spela fotboll med Vän i Umeå! \nDu kan vara nybörjare och aldrig ha spelat förut – vi lär oss tillsammans\, hjälper varandra och spelar för att det är kul! \n Kontakt: Sofia Lindberg 070-615 80 22 Frågor? Mejla kontakt@vaniumea.se\n––\nAll girls\, women\, and non-binary individuals are welcome to play football with Vän in Umeå! You can be someone who plays football every day\, or a beginner who has never played before – we learn together\, help each other\, and play for fun! \n Contact: Sofia Lindberg at 070-615 80 22 Questions? Email kontakt@vaniumea.se
URL:https://vaniumea.se/aktivitet/fotboll-for-tjejer-ickebinara-4-copy-copy-copy-copy-copy-2-kopiera-kopiera-2-2/2030-07-28/
LOCATION:Ålidhemshallen\, Humaniststråket 15\, Umeå\, 907 30\, Sverige
CATEGORIES:Utomhusaktivitet,30+,För tjejer och kvinnor,fotboll,sport,ungdomsgrupp
ATTACH;FMTTYPE=image/jpeg:https://media.vaniumea.se/2024/06/fotbolltjejerjuni-e1755780309718.jpeg
END:VEVENT
BEGIN:VEVENT
DTSTART;TZID=Europe/Stockholm:20300801T190000
DTEND;TZID=Europe/Stockholm:20300801T200000
DTSTAMP:20260420T060137
CREATED:20251216T124344Z
LAST-MODIFIED:20260319T113804Z
UID:10008037-1911841200-1911844800@vaniumea.se
SUMMARY:Digitalt språkcafé
DESCRIPTION:Välkommen till vårt digitala språkcafé på torsdagar! Det startar klockan 19.00\, och vi vill gärna att du kommer senast kvart över.\nKlicka på denna länk för att vara med: https://us02web.zoom.us/j/87241111674
URL:https://vaniumea.se/aktivitet/digitalt-sprakcafe-2/2030-08-01/
CATEGORIES:språkcafé
ATTACH;FMTTYPE=image/png:https://media.vaniumea.se/2025/12/Ungdomar-e1773920270807.png
END:VEVENT
BEGIN:VEVENT
DTSTART;TZID=Europe/Stockholm:20300802T190000
DTEND;TZID=Europe/Stockholm:20300802T210000
DTSTAMP:20260420T060137
CREATED:20260331T140419Z
LAST-MODIFIED:20260407T121935Z
UID:10008298-1911927600-1911934800@vaniumea.se
SUMMARY:Fotboll för alla
DESCRIPTION:Välkommen att spela fotboll varje fredag kväll.\n\nAlla är välkomna – du som aldrig spelat och du som spelar varje dag – vi lär oss tillsammans\, hjälper varandra och spelar för att det är kul!\n\nOm du har några frågor\, hör av dig till Trey Jonsson\, 073-098 64 25 eller Sofia Lindberg 070-615 80 22
URL:https://vaniumea.se/aktivitet/fotboll-for-alla-3-copy-copy-2-2-kopiera-3-2/2030-08-02/
LOCATION:Dragonskolan 2.0\, Dragongatan 1\, Umeå\, 903 22
CATEGORIES:30+,För tjejer och kvinnor,fotboll,sport,ungdomsgrupp
ATTACH;FMTTYPE=image/png:https://media.vaniumea.se/2023/08/fotboll.png
END:VEVENT
BEGIN:VEVENT
DTSTART;TZID=Europe/Stockholm:20300804T143000
DTEND;TZID=Europe/Stockholm:20300804T160000
DTSTAMP:20260420T060137
CREATED:20260331T140608Z
LAST-MODIFIED:20260407T121926Z
UID:10008558-1912084200-1912089600@vaniumea.se
SUMMARY:Fotboll för tjejer
DESCRIPTION:Alla tjejer/kvinnor/ickebinära är välkomna att spela fotboll med Vän i Umeå! \nDu kan vara nybörjare och aldrig ha spelat förut – vi lär oss tillsammans\, hjälper varandra och spelar för att det är kul! \n Kontakt: Sofia Lindberg 070-615 80 22 Frågor? Mejla kontakt@vaniumea.se\n––\nAll girls\, women\, and non-binary individuals are welcome to play football with Vän in Umeå! You can be someone who plays football every day\, or a beginner who has never played before – we learn together\, help each other\, and play for fun! \n Contact: Sofia Lindberg at 070-615 80 22 Questions? Email kontakt@vaniumea.se
URL:https://vaniumea.se/aktivitet/fotboll-for-tjejer-ickebinara-4-copy-copy-copy-copy-copy-2-kopiera-kopiera-2-2/2030-08-04/
LOCATION:Ålidhemshallen\, Humaniststråket 15\, Umeå\, 907 30\, Sverige
CATEGORIES:Utomhusaktivitet,30+,För tjejer och kvinnor,fotboll,sport,ungdomsgrupp
ATTACH;FMTTYPE=image/jpeg:https://media.vaniumea.se/2024/06/fotbolltjejerjuni-e1755780309718.jpeg
END:VEVENT
BEGIN:VEVENT
DTSTART;TZID=Europe/Stockholm:20300808T190000
DTEND;TZID=Europe/Stockholm:20300808T200000
DTSTAMP:20260420T060137
CREATED:20251216T124344Z
LAST-MODIFIED:20260319T113804Z
UID:10008038-1912446000-1912449600@vaniumea.se
SUMMARY:Digitalt språkcafé
DESCRIPTION:Välkommen till vårt digitala språkcafé på torsdagar! Det startar klockan 19.00\, och vi vill gärna att du kommer senast kvart över.\nKlicka på denna länk för att vara med: https://us02web.zoom.us/j/87241111674
URL:https://vaniumea.se/aktivitet/digitalt-sprakcafe-2/2030-08-08/
CATEGORIES:språkcafé
ATTACH;FMTTYPE=image/png:https://media.vaniumea.se/2025/12/Ungdomar-e1773920270807.png
END:VEVENT
BEGIN:VEVENT
DTSTART;TZID=Europe/Stockholm:20300809T190000
DTEND;TZID=Europe/Stockholm:20300809T210000
DTSTAMP:20260420T060137
CREATED:20260331T140419Z
LAST-MODIFIED:20260407T121935Z
UID:10008299-1912532400-1912539600@vaniumea.se
SUMMARY:Fotboll för alla
DESCRIPTION:Välkommen att spela fotboll varje fredag kväll.\n\nAlla är välkomna – du som aldrig spelat och du som spelar varje dag – vi lär oss tillsammans\, hjälper varandra och spelar för att det är kul!\n\nOm du har några frågor\, hör av dig till Trey Jonsson\, 073-098 64 25 eller Sofia Lindberg 070-615 80 22
URL:https://vaniumea.se/aktivitet/fotboll-for-alla-3-copy-copy-2-2-kopiera-3-2/2030-08-09/
LOCATION:Dragonskolan 2.0\, Dragongatan 1\, Umeå\, 903 22
CATEGORIES:30+,För tjejer och kvinnor,fotboll,sport,ungdomsgrupp
ATTACH;FMTTYPE=image/png:https://media.vaniumea.se/2023/08/fotboll.png
END:VEVENT
BEGIN:VEVENT
DTSTART;TZID=Europe/Stockholm:20300811T143000
DTEND;TZID=Europe/Stockholm:20300811T160000
DTSTAMP:20260420T060137
CREATED:20260331T140608Z
LAST-MODIFIED:20260407T121926Z
UID:10008559-1912689000-1912694400@vaniumea.se
SUMMARY:Fotboll för tjejer
DESCRIPTION:Alla tjejer/kvinnor/ickebinära är välkomna att spela fotboll med Vän i Umeå! \nDu kan vara nybörjare och aldrig ha spelat förut – vi lär oss tillsammans\, hjälper varandra och spelar för att det är kul! \n Kontakt: Sofia Lindberg 070-615 80 22 Frågor? Mejla kontakt@vaniumea.se\n––\nAll girls\, women\, and non-binary individuals are welcome to play football with Vän in Umeå! You can be someone who plays football every day\, or a beginner who has never played before – we learn together\, help each other\, and play for fun! \n Contact: Sofia Lindberg at 070-615 80 22 Questions? Email kontakt@vaniumea.se
URL:https://vaniumea.se/aktivitet/fotboll-for-tjejer-ickebinara-4-copy-copy-copy-copy-copy-2-kopiera-kopiera-2-2/2030-08-11/
LOCATION:Ålidhemshallen\, Humaniststråket 15\, Umeå\, 907 30\, Sverige
CATEGORIES:Utomhusaktivitet,30+,För tjejer och kvinnor,fotboll,sport,ungdomsgrupp
ATTACH;FMTTYPE=image/jpeg:https://media.vaniumea.se/2024/06/fotbolltjejerjuni-e1755780309718.jpeg
END:VEVENT
BEGIN:VEVENT
DTSTART;TZID=Europe/Stockholm:20300815T190000
DTEND;TZID=Europe/Stockholm:20300815T200000
DTSTAMP:20260420T060137
CREATED:20251216T124344Z
LAST-MODIFIED:20260319T113804Z
UID:10008039-1913050800-1913054400@vaniumea.se
SUMMARY:Digitalt språkcafé
DESCRIPTION:Välkommen till vårt digitala språkcafé på torsdagar! Det startar klockan 19.00\, och vi vill gärna att du kommer senast kvart över.\nKlicka på denna länk för att vara med: https://us02web.zoom.us/j/87241111674
URL:https://vaniumea.se/aktivitet/digitalt-sprakcafe-2/2030-08-15/
CATEGORIES:språkcafé
ATTACH;FMTTYPE=image/png:https://media.vaniumea.se/2025/12/Ungdomar-e1773920270807.png
END:VEVENT
BEGIN:VEVENT
DTSTART;TZID=Europe/Stockholm:20300816T190000
DTEND;TZID=Europe/Stockholm:20300816T210000
DTSTAMP:20260420T060137
CREATED:20260331T140419Z
LAST-MODIFIED:20260407T121935Z
UID:10008300-1913137200-1913144400@vaniumea.se
SUMMARY:Fotboll för alla
DESCRIPTION:Välkommen att spela fotboll varje fredag kväll.\n\nAlla är välkomna – du som aldrig spelat och du som spelar varje dag – vi lär oss tillsammans\, hjälper varandra och spelar för att det är kul!\n\nOm du har några frågor\, hör av dig till Trey Jonsson\, 073-098 64 25 eller Sofia Lindberg 070-615 80 22
URL:https://vaniumea.se/aktivitet/fotboll-for-alla-3-copy-copy-2-2-kopiera-3-2/2030-08-16/
LOCATION:Dragonskolan 2.0\, Dragongatan 1\, Umeå\, 903 22
CATEGORIES:30+,För tjejer och kvinnor,fotboll,sport,ungdomsgrupp
ATTACH;FMTTYPE=image/png:https://media.vaniumea.se/2023/08/fotboll.png
END:VEVENT
BEGIN:VEVENT
DTSTART;TZID=Europe/Stockholm:20300818T143000
DTEND;TZID=Europe/Stockholm:20300818T160000
DTSTAMP:20260420T060137
CREATED:20260331T140608Z
LAST-MODIFIED:20260407T121926Z
UID:10008560-1913293800-1913299200@vaniumea.se
SUMMARY:Fotboll för tjejer
DESCRIPTION:Alla tjejer/kvinnor/ickebinära är välkomna att spela fotboll med Vän i Umeå! \nDu kan vara nybörjare och aldrig ha spelat förut – vi lär oss tillsammans\, hjälper varandra och spelar för att det är kul! \n Kontakt: Sofia Lindberg 070-615 80 22 Frågor? Mejla kontakt@vaniumea.se\n––\nAll girls\, women\, and non-binary individuals are welcome to play football with Vän in Umeå! You can be someone who plays football every day\, or a beginner who has never played before – we learn together\, help each other\, and play for fun! \n Contact: Sofia Lindberg at 070-615 80 22 Questions? Email kontakt@vaniumea.se
URL:https://vaniumea.se/aktivitet/fotboll-for-tjejer-ickebinara-4-copy-copy-copy-copy-copy-2-kopiera-kopiera-2-2/2030-08-18/
LOCATION:Ålidhemshallen\, Humaniststråket 15\, Umeå\, 907 30\, Sverige
CATEGORIES:Utomhusaktivitet,30+,För tjejer och kvinnor,fotboll,sport,ungdomsgrupp
ATTACH;FMTTYPE=image/jpeg:https://media.vaniumea.se/2024/06/fotbolltjejerjuni-e1755780309718.jpeg
END:VEVENT
BEGIN:VEVENT
DTSTART;TZID=Europe/Stockholm:20300822T190000
DTEND;TZID=Europe/Stockholm:20300822T200000
DTSTAMP:20260420T060137
CREATED:20251216T124344Z
LAST-MODIFIED:20260319T113804Z
UID:10008040-1913655600-1913659200@vaniumea.se
SUMMARY:Digitalt språkcafé
DESCRIPTION:Välkommen till vårt digitala språkcafé på torsdagar! Det startar klockan 19.00\, och vi vill gärna att du kommer senast kvart över.\nKlicka på denna länk för att vara med: https://us02web.zoom.us/j/87241111674
URL:https://vaniumea.se/aktivitet/digitalt-sprakcafe-2/2030-08-22/
CATEGORIES:språkcafé
ATTACH;FMTTYPE=image/png:https://media.vaniumea.se/2025/12/Ungdomar-e1773920270807.png
END:VEVENT
BEGIN:VEVENT
DTSTART;TZID=Europe/Stockholm:20300823T190000
DTEND;TZID=Europe/Stockholm:20300823T210000
DTSTAMP:20260420T060137
CREATED:20260331T140419Z
LAST-MODIFIED:20260407T121935Z
UID:10008301-1913742000-1913749200@vaniumea.se
SUMMARY:Fotboll för alla
DESCRIPTION:Välkommen att spela fotboll varje fredag kväll.\n\nAlla är välkomna – du som aldrig spelat och du som spelar varje dag – vi lär oss tillsammans\, hjälper varandra och spelar för att det är kul!\n\nOm du har några frågor\, hör av dig till Trey Jonsson\, 073-098 64 25 eller Sofia Lindberg 070-615 80 22
URL:https://vaniumea.se/aktivitet/fotboll-for-alla-3-copy-copy-2-2-kopiera-3-2/2030-08-23/
LOCATION:Dragonskolan 2.0\, Dragongatan 1\, Umeå\, 903 22
CATEGORIES:30+,För tjejer och kvinnor,fotboll,sport,ungdomsgrupp
ATTACH;FMTTYPE=image/png:https://media.vaniumea.se/2023/08/fotboll.png
END:VEVENT
BEGIN:VEVENT
DTSTART;TZID=Europe/Stockholm:20300825T143000
DTEND;TZID=Europe/Stockholm:20300825T160000
DTSTAMP:20260420T060137
CREATED:20260331T140608Z
LAST-MODIFIED:20260407T121926Z
UID:10008561-1913898600-1913904000@vaniumea.se
SUMMARY:Fotboll för tjejer
DESCRIPTION:Alla tjejer/kvinnor/ickebinära är välkomna att spela fotboll med Vän i Umeå! \nDu kan vara nybörjare och aldrig ha spelat förut – vi lär oss tillsammans\, hjälper varandra och spelar för att det är kul! \n Kontakt: Sofia Lindberg 070-615 80 22 Frågor? Mejla kontakt@vaniumea.se\n––\nAll girls\, women\, and non-binary individuals are welcome to play football with Vän in Umeå! You can be someone who plays football every day\, or a beginner who has never played before – we learn together\, help each other\, and play for fun! \n Contact: Sofia Lindberg at 070-615 80 22 Questions? Email kontakt@vaniumea.se
URL:https://vaniumea.se/aktivitet/fotboll-for-tjejer-ickebinara-4-copy-copy-copy-copy-copy-2-kopiera-kopiera-2-2/2030-08-25/
LOCATION:Ålidhemshallen\, Humaniststråket 15\, Umeå\, 907 30\, Sverige
CATEGORIES:Utomhusaktivitet,30+,För tjejer och kvinnor,fotboll,sport,ungdomsgrupp
ATTACH;FMTTYPE=image/jpeg:https://media.vaniumea.se/2024/06/fotbolltjejerjuni-e1755780309718.jpeg
END:VEVENT
BEGIN:VEVENT
DTSTART;TZID=Europe/Stockholm:20300829T190000
DTEND;TZID=Europe/Stockholm:20300829T200000
DTSTAMP:20260420T060137
CREATED:20251216T124344Z
LAST-MODIFIED:20260319T113804Z
UID:10008041-1914260400-1914264000@vaniumea.se
SUMMARY:Digitalt språkcafé
DESCRIPTION:Välkommen till vårt digitala språkcafé på torsdagar! Det startar klockan 19.00\, och vi vill gärna att du kommer senast kvart över.\nKlicka på denna länk för att vara med: https://us02web.zoom.us/j/87241111674
URL:https://vaniumea.se/aktivitet/digitalt-sprakcafe-2/2030-08-29/
CATEGORIES:språkcafé
ATTACH;FMTTYPE=image/png:https://media.vaniumea.se/2025/12/Ungdomar-e1773920270807.png
END:VEVENT
BEGIN:VEVENT
DTSTART;TZID=Europe/Stockholm:20300830T190000
DTEND;TZID=Europe/Stockholm:20300830T210000
DTSTAMP:20260420T060137
CREATED:20260331T140419Z
LAST-MODIFIED:20260407T121935Z
UID:10008302-1914346800-1914354000@vaniumea.se
SUMMARY:Fotboll för alla
DESCRIPTION:Välkommen att spela fotboll varje fredag kväll.\n\nAlla är välkomna – du som aldrig spelat och du som spelar varje dag – vi lär oss tillsammans\, hjälper varandra och spelar för att det är kul!\n\nOm du har några frågor\, hör av dig till Trey Jonsson\, 073-098 64 25 eller Sofia Lindberg 070-615 80 22
URL:https://vaniumea.se/aktivitet/fotboll-for-alla-3-copy-copy-2-2-kopiera-3-2/2030-08-30/
LOCATION:Dragonskolan 2.0\, Dragongatan 1\, Umeå\, 903 22
CATEGORIES:30+,För tjejer och kvinnor,fotboll,sport,ungdomsgrupp
ATTACH;FMTTYPE=image/png:https://media.vaniumea.se/2023/08/fotboll.png
END:VEVENT
BEGIN:VEVENT
DTSTART;TZID=Europe/Stockholm:20300901T143000
DTEND;TZID=Europe/Stockholm:20300901T160000
DTSTAMP:20260420T060137
CREATED:20260331T140608Z
LAST-MODIFIED:20260407T121926Z
UID:10008562-1914503400-1914508800@vaniumea.se
SUMMARY:Fotboll för tjejer
DESCRIPTION:Alla tjejer/kvinnor/ickebinära är välkomna att spela fotboll med Vän i Umeå! \nDu kan vara nybörjare och aldrig ha spelat förut – vi lär oss tillsammans\, hjälper varandra och spelar för att det är kul! \n Kontakt: Sofia Lindberg 070-615 80 22 Frågor? Mejla kontakt@vaniumea.se\n––\nAll girls\, women\, and non-binary individuals are welcome to play football with Vän in Umeå! You can be someone who plays football every day\, or a beginner who has never played before – we learn together\, help each other\, and play for fun! \n Contact: Sofia Lindberg at 070-615 80 22 Questions? Email kontakt@vaniumea.se
URL:https://vaniumea.se/aktivitet/fotboll-for-tjejer-ickebinara-4-copy-copy-copy-copy-copy-2-kopiera-kopiera-2-2/2030-09-01/
LOCATION:Ålidhemshallen\, Humaniststråket 15\, Umeå\, 907 30\, Sverige
CATEGORIES:Utomhusaktivitet,30+,För tjejer och kvinnor,fotboll,sport,ungdomsgrupp
ATTACH;FMTTYPE=image/jpeg:https://media.vaniumea.se/2024/06/fotbolltjejerjuni-e1755780309718.jpeg
END:VEVENT
BEGIN:VEVENT
DTSTART;TZID=Europe/Stockholm:20300905T190000
DTEND;TZID=Europe/Stockholm:20300905T200000
DTSTAMP:20260420T060137
CREATED:20251216T124344Z
LAST-MODIFIED:20260319T113804Z
UID:10008042-1914865200-1914868800@vaniumea.se
SUMMARY:Digitalt språkcafé
DESCRIPTION:Välkommen till vårt digitala språkcafé på torsdagar! Det startar klockan 19.00\, och vi vill gärna att du kommer senast kvart över.\nKlicka på denna länk för att vara med: https://us02web.zoom.us/j/87241111674
URL:https://vaniumea.se/aktivitet/digitalt-sprakcafe-2/2030-09-05/
CATEGORIES:språkcafé
ATTACH;FMTTYPE=image/png:https://media.vaniumea.se/2025/12/Ungdomar-e1773920270807.png
END:VEVENT
BEGIN:VEVENT
DTSTART;TZID=Europe/Stockholm:20300906T190000
DTEND;TZID=Europe/Stockholm:20300906T210000
DTSTAMP:20260420T060137
CREATED:20260331T140419Z
LAST-MODIFIED:20260407T121935Z
UID:10008303-1914951600-1914958800@vaniumea.se
SUMMARY:Fotboll för alla
DESCRIPTION:Välkommen att spela fotboll varje fredag kväll.\n\nAlla är välkomna – du som aldrig spelat och du som spelar varje dag – vi lär oss tillsammans\, hjälper varandra och spelar för att det är kul!\n\nOm du har några frågor\, hör av dig till Trey Jonsson\, 073-098 64 25 eller Sofia Lindberg 070-615 80 22
URL:https://vaniumea.se/aktivitet/fotboll-for-alla-3-copy-copy-2-2-kopiera-3-2/2030-09-06/
LOCATION:Dragonskolan 2.0\, Dragongatan 1\, Umeå\, 903 22
CATEGORIES:30+,För tjejer och kvinnor,fotboll,sport,ungdomsgrupp
ATTACH;FMTTYPE=image/png:https://media.vaniumea.se/2023/08/fotboll.png
END:VEVENT
BEGIN:VEVENT
DTSTART;TZID=Europe/Stockholm:20300908T143000
DTEND;TZID=Europe/Stockholm:20300908T160000
DTSTAMP:20260420T060137
CREATED:20260331T140608Z
LAST-MODIFIED:20260407T121926Z
UID:10008563-1915108200-1915113600@vaniumea.se
SUMMARY:Fotboll för tjejer
DESCRIPTION:Alla tjejer/kvinnor/ickebinära är välkomna att spela fotboll med Vän i Umeå! \nDu kan vara nybörjare och aldrig ha spelat förut – vi lär oss tillsammans\, hjälper varandra och spelar för att det är kul! \n Kontakt: Sofia Lindberg 070-615 80 22 Frågor? Mejla kontakt@vaniumea.se\n––\nAll girls\, women\, and non-binary individuals are welcome to play football with Vän in Umeå! You can be someone who plays football every day\, or a beginner who has never played before – we learn together\, help each other\, and play for fun! \n Contact: Sofia Lindberg at 070-615 80 22 Questions? Email kontakt@vaniumea.se
URL:https://vaniumea.se/aktivitet/fotboll-for-tjejer-ickebinara-4-copy-copy-copy-copy-copy-2-kopiera-kopiera-2-2/2030-09-08/
LOCATION:Ålidhemshallen\, Humaniststråket 15\, Umeå\, 907 30\, Sverige
CATEGORIES:Utomhusaktivitet,30+,För tjejer och kvinnor,fotboll,sport,ungdomsgrupp
ATTACH;FMTTYPE=image/jpeg:https://media.vaniumea.se/2024/06/fotbolltjejerjuni-e1755780309718.jpeg
END:VEVENT
BEGIN:VEVENT
DTSTART;TZID=Europe/Stockholm:20300912T190000
DTEND;TZID=Europe/Stockholm:20300912T200000
DTSTAMP:20260420T060137
CREATED:20251216T124344Z
LAST-MODIFIED:20260319T113804Z
UID:10008043-1915470000-1915473600@vaniumea.se
SUMMARY:Digitalt språkcafé
DESCRIPTION:Välkommen till vårt digitala språkcafé på torsdagar! Det startar klockan 19.00\, och vi vill gärna att du kommer senast kvart över.\nKlicka på denna länk för att vara med: https://us02web.zoom.us/j/87241111674
URL:https://vaniumea.se/aktivitet/digitalt-sprakcafe-2/2030-09-12/
CATEGORIES:språkcafé
ATTACH;FMTTYPE=image/png:https://media.vaniumea.se/2025/12/Ungdomar-e1773920270807.png
END:VEVENT
BEGIN:VEVENT
DTSTART;TZID=Europe/Stockholm:20300913T190000
DTEND;TZID=Europe/Stockholm:20300913T210000
DTSTAMP:20260420T060137
CREATED:20260331T140419Z
LAST-MODIFIED:20260407T121935Z
UID:10008304-1915556400-1915563600@vaniumea.se
SUMMARY:Fotboll för alla
DESCRIPTION:Välkommen att spela fotboll varje fredag kväll.\n\nAlla är välkomna – du som aldrig spelat och du som spelar varje dag – vi lär oss tillsammans\, hjälper varandra och spelar för att det är kul!\n\nOm du har några frågor\, hör av dig till Trey Jonsson\, 073-098 64 25 eller Sofia Lindberg 070-615 80 22
URL:https://vaniumea.se/aktivitet/fotboll-for-alla-3-copy-copy-2-2-kopiera-3-2/2030-09-13/
LOCATION:Dragonskolan 2.0\, Dragongatan 1\, Umeå\, 903 22
CATEGORIES:30+,För tjejer och kvinnor,fotboll,sport,ungdomsgrupp
ATTACH;FMTTYPE=image/png:https://media.vaniumea.se/2023/08/fotboll.png
END:VEVENT
BEGIN:VEVENT
DTSTART;TZID=Europe/Stockholm:20300915T143000
DTEND;TZID=Europe/Stockholm:20300915T160000
DTSTAMP:20260420T060137
CREATED:20260331T140608Z
LAST-MODIFIED:20260407T121926Z
UID:10008564-1915713000-1915718400@vaniumea.se
SUMMARY:Fotboll för tjejer
DESCRIPTION:Alla tjejer/kvinnor/ickebinära är välkomna att spela fotboll med Vän i Umeå! \nDu kan vara nybörjare och aldrig ha spelat förut – vi lär oss tillsammans\, hjälper varandra och spelar för att det är kul! \n Kontakt: Sofia Lindberg 070-615 80 22 Frågor? Mejla kontakt@vaniumea.se\n––\nAll girls\, women\, and non-binary individuals are welcome to play football with Vän in Umeå! You can be someone who plays football every day\, or a beginner who has never played before – we learn together\, help each other\, and play for fun! \n Contact: Sofia Lindberg at 070-615 80 22 Questions? Email kontakt@vaniumea.se
URL:https://vaniumea.se/aktivitet/fotboll-for-tjejer-ickebinara-4-copy-copy-copy-copy-copy-2-kopiera-kopiera-2-2/2030-09-15/
LOCATION:Ålidhemshallen\, Humaniststråket 15\, Umeå\, 907 30\, Sverige
CATEGORIES:Utomhusaktivitet,30+,För tjejer och kvinnor,fotboll,sport,ungdomsgrupp
ATTACH;FMTTYPE=image/jpeg:https://media.vaniumea.se/2024/06/fotbolltjejerjuni-e1755780309718.jpeg
END:VEVENT
END:VCALENDAR