BEGIN:VCALENDAR
VERSION:2.0
PRODID:-//Vän i Umeå - ECPv6.15.20//NONSGML v1.0//EN
CALSCALE:GREGORIAN
METHOD:PUBLISH
X-WR-CALNAME:Vän i Umeå
X-ORIGINAL-URL:https://vaniumea.se
X-WR-CALDESC:Händelser för Vän i Umeå
REFRESH-INTERVAL;VALUE=DURATION:PT1H
X-Robots-Tag:noindex
X-PUBLISHED-TTL:PT1H
BEGIN:VTIMEZONE
TZID:Europe/Stockholm
BEGIN:DAYLIGHT
TZOFFSETFROM:+0100
TZOFFSETTO:+0200
TZNAME:CEST
DTSTART:20280326T010000
END:DAYLIGHT
BEGIN:STANDARD
TZOFFSETFROM:+0200
TZOFFSETTO:+0100
TZNAME:CET
DTSTART:20281029T010000
END:STANDARD
BEGIN:DAYLIGHT
TZOFFSETFROM:+0100
TZOFFSETTO:+0200
TZNAME:CEST
DTSTART:20290325T010000
END:DAYLIGHT
BEGIN:STANDARD
TZOFFSETFROM:+0200
TZOFFSETTO:+0100
TZNAME:CET
DTSTART:20291028T010000
END:STANDARD
BEGIN:DAYLIGHT
TZOFFSETFROM:+0100
TZOFFSETTO:+0200
TZNAME:CEST
DTSTART:20300331T010000
END:DAYLIGHT
BEGIN:STANDARD
TZOFFSETFROM:+0200
TZOFFSETTO:+0100
TZNAME:CET
DTSTART:20301027T010000
END:STANDARD
END:VTIMEZONE
BEGIN:VEVENT
DTSTART;TZID=Europe/Stockholm:20290216T190000
DTEND;TZID=Europe/Stockholm:20290216T210000
DTSTAMP:20260420T060048
CREATED:20260331T140419Z
LAST-MODIFIED:20260407T121935Z
UID:10008222-1865962800-1865970000@vaniumea.se
SUMMARY:Fotboll för alla
DESCRIPTION:Välkommen att spela fotboll varje fredag kväll.\n\nAlla är välkomna – du som aldrig spelat och du som spelar varje dag – vi lär oss tillsammans\, hjälper varandra och spelar för att det är kul!\n\nOm du har några frågor\, hör av dig till Trey Jonsson\, 073-098 64 25 eller Sofia Lindberg 070-615 80 22
URL:https://vaniumea.se/aktivitet/fotboll-for-alla-3-copy-copy-2-2-kopiera-3-2/2029-02-16/
LOCATION:Dragonskolan 2.0\, Dragongatan 1\, Umeå\, 903 22
CATEGORIES:30+,För tjejer och kvinnor,fotboll,sport,ungdomsgrupp
ATTACH;FMTTYPE=image/png:https://media.vaniumea.se/2023/08/fotboll.png
END:VEVENT
BEGIN:VEVENT
DTSTART;TZID=Europe/Stockholm:20290218T143000
DTEND;TZID=Europe/Stockholm:20290218T160000
DTSTAMP:20260420T060048
CREATED:20260331T140608Z
LAST-MODIFIED:20260407T121926Z
UID:10008482-1866119400-1866124800@vaniumea.se
SUMMARY:Fotboll för tjejer
DESCRIPTION:Alla tjejer/kvinnor/ickebinära är välkomna att spela fotboll med Vän i Umeå! \nDu kan vara nybörjare och aldrig ha spelat förut – vi lär oss tillsammans\, hjälper varandra och spelar för att det är kul! \n Kontakt: Sofia Lindberg 070-615 80 22 Frågor? Mejla kontakt@vaniumea.se\n––\nAll girls\, women\, and non-binary individuals are welcome to play football with Vän in Umeå! You can be someone who plays football every day\, or a beginner who has never played before – we learn together\, help each other\, and play for fun! \n Contact: Sofia Lindberg at 070-615 80 22 Questions? Email kontakt@vaniumea.se
URL:https://vaniumea.se/aktivitet/fotboll-for-tjejer-ickebinara-4-copy-copy-copy-copy-copy-2-kopiera-kopiera-2-2/2029-02-18/
LOCATION:Ålidhemshallen\, Humaniststråket 15\, Umeå\, 907 30\, Sverige
CATEGORIES:Utomhusaktivitet,30+,För tjejer och kvinnor,fotboll,sport,ungdomsgrupp
ATTACH;FMTTYPE=image/jpeg:https://media.vaniumea.se/2024/06/fotbolltjejerjuni-e1755780309718.jpeg
END:VEVENT
BEGIN:VEVENT
DTSTART;TZID=Europe/Stockholm:20290222T190000
DTEND;TZID=Europe/Stockholm:20290222T200000
DTSTAMP:20260420T060048
CREATED:20251216T124344Z
LAST-MODIFIED:20260319T113804Z
UID:10007962-1866481200-1866484800@vaniumea.se
SUMMARY:Digitalt språkcafé
DESCRIPTION:Välkommen till vårt digitala språkcafé på torsdagar! Det startar klockan 19.00\, och vi vill gärna att du kommer senast kvart över.\nKlicka på denna länk för att vara med: https://us02web.zoom.us/j/87241111674
URL:https://vaniumea.se/aktivitet/digitalt-sprakcafe-2/2029-02-22/
CATEGORIES:språkcafé
ATTACH;FMTTYPE=image/png:https://media.vaniumea.se/2025/12/Ungdomar-e1773920270807.png
END:VEVENT
BEGIN:VEVENT
DTSTART;TZID=Europe/Stockholm:20290223T190000
DTEND;TZID=Europe/Stockholm:20290223T210000
DTSTAMP:20260420T060048
CREATED:20260331T140419Z
LAST-MODIFIED:20260407T121935Z
UID:10008223-1866567600-1866574800@vaniumea.se
SUMMARY:Fotboll för alla
DESCRIPTION:Välkommen att spela fotboll varje fredag kväll.\n\nAlla är välkomna – du som aldrig spelat och du som spelar varje dag – vi lär oss tillsammans\, hjälper varandra och spelar för att det är kul!\n\nOm du har några frågor\, hör av dig till Trey Jonsson\, 073-098 64 25 eller Sofia Lindberg 070-615 80 22
URL:https://vaniumea.se/aktivitet/fotboll-for-alla-3-copy-copy-2-2-kopiera-3-2/2029-02-23/
LOCATION:Dragonskolan 2.0\, Dragongatan 1\, Umeå\, 903 22
CATEGORIES:30+,För tjejer och kvinnor,fotboll,sport,ungdomsgrupp
ATTACH;FMTTYPE=image/png:https://media.vaniumea.se/2023/08/fotboll.png
END:VEVENT
BEGIN:VEVENT
DTSTART;TZID=Europe/Stockholm:20290225T143000
DTEND;TZID=Europe/Stockholm:20290225T160000
DTSTAMP:20260420T060048
CREATED:20260331T140608Z
LAST-MODIFIED:20260407T121926Z
UID:10008483-1866724200-1866729600@vaniumea.se
SUMMARY:Fotboll för tjejer
DESCRIPTION:Alla tjejer/kvinnor/ickebinära är välkomna att spela fotboll med Vän i Umeå! \nDu kan vara nybörjare och aldrig ha spelat förut – vi lär oss tillsammans\, hjälper varandra och spelar för att det är kul! \n Kontakt: Sofia Lindberg 070-615 80 22 Frågor? Mejla kontakt@vaniumea.se\n––\nAll girls\, women\, and non-binary individuals are welcome to play football with Vän in Umeå! You can be someone who plays football every day\, or a beginner who has never played before – we learn together\, help each other\, and play for fun! \n Contact: Sofia Lindberg at 070-615 80 22 Questions? Email kontakt@vaniumea.se
URL:https://vaniumea.se/aktivitet/fotboll-for-tjejer-ickebinara-4-copy-copy-copy-copy-copy-2-kopiera-kopiera-2-2/2029-02-25/
LOCATION:Ålidhemshallen\, Humaniststråket 15\, Umeå\, 907 30\, Sverige
CATEGORIES:Utomhusaktivitet,30+,För tjejer och kvinnor,fotboll,sport,ungdomsgrupp
ATTACH;FMTTYPE=image/jpeg:https://media.vaniumea.se/2024/06/fotbolltjejerjuni-e1755780309718.jpeg
END:VEVENT
BEGIN:VEVENT
DTSTART;TZID=Europe/Stockholm:20290301T190000
DTEND;TZID=Europe/Stockholm:20290301T200000
DTSTAMP:20260420T060048
CREATED:20251216T124344Z
LAST-MODIFIED:20260319T113804Z
UID:10007963-1867086000-1867089600@vaniumea.se
SUMMARY:Digitalt språkcafé
DESCRIPTION:Välkommen till vårt digitala språkcafé på torsdagar! Det startar klockan 19.00\, och vi vill gärna att du kommer senast kvart över.\nKlicka på denna länk för att vara med: https://us02web.zoom.us/j/87241111674
URL:https://vaniumea.se/aktivitet/digitalt-sprakcafe-2/2029-03-01/
CATEGORIES:språkcafé
ATTACH;FMTTYPE=image/png:https://media.vaniumea.se/2025/12/Ungdomar-e1773920270807.png
END:VEVENT
BEGIN:VEVENT
DTSTART;TZID=Europe/Stockholm:20290302T190000
DTEND;TZID=Europe/Stockholm:20290302T210000
DTSTAMP:20260420T060048
CREATED:20260331T140419Z
LAST-MODIFIED:20260407T121935Z
UID:10008224-1867172400-1867179600@vaniumea.se
SUMMARY:Fotboll för alla
DESCRIPTION:Välkommen att spela fotboll varje fredag kväll.\n\nAlla är välkomna – du som aldrig spelat och du som spelar varje dag – vi lär oss tillsammans\, hjälper varandra och spelar för att det är kul!\n\nOm du har några frågor\, hör av dig till Trey Jonsson\, 073-098 64 25 eller Sofia Lindberg 070-615 80 22
URL:https://vaniumea.se/aktivitet/fotboll-for-alla-3-copy-copy-2-2-kopiera-3-2/2029-03-02/
LOCATION:Dragonskolan 2.0\, Dragongatan 1\, Umeå\, 903 22
CATEGORIES:30+,För tjejer och kvinnor,fotboll,sport,ungdomsgrupp
ATTACH;FMTTYPE=image/png:https://media.vaniumea.se/2023/08/fotboll.png
END:VEVENT
BEGIN:VEVENT
DTSTART;TZID=Europe/Stockholm:20290304T143000
DTEND;TZID=Europe/Stockholm:20290304T160000
DTSTAMP:20260420T060048
CREATED:20260331T140608Z
LAST-MODIFIED:20260407T121926Z
UID:10008484-1867329000-1867334400@vaniumea.se
SUMMARY:Fotboll för tjejer
DESCRIPTION:Alla tjejer/kvinnor/ickebinära är välkomna att spela fotboll med Vän i Umeå! \nDu kan vara nybörjare och aldrig ha spelat förut – vi lär oss tillsammans\, hjälper varandra och spelar för att det är kul! \n Kontakt: Sofia Lindberg 070-615 80 22 Frågor? Mejla kontakt@vaniumea.se\n––\nAll girls\, women\, and non-binary individuals are welcome to play football with Vän in Umeå! You can be someone who plays football every day\, or a beginner who has never played before – we learn together\, help each other\, and play for fun! \n Contact: Sofia Lindberg at 070-615 80 22 Questions? Email kontakt@vaniumea.se
URL:https://vaniumea.se/aktivitet/fotboll-for-tjejer-ickebinara-4-copy-copy-copy-copy-copy-2-kopiera-kopiera-2-2/2029-03-04/
LOCATION:Ålidhemshallen\, Humaniststråket 15\, Umeå\, 907 30\, Sverige
CATEGORIES:Utomhusaktivitet,30+,För tjejer och kvinnor,fotboll,sport,ungdomsgrupp
ATTACH;FMTTYPE=image/jpeg:https://media.vaniumea.se/2024/06/fotbolltjejerjuni-e1755780309718.jpeg
END:VEVENT
BEGIN:VEVENT
DTSTART;TZID=Europe/Stockholm:20290308T190000
DTEND;TZID=Europe/Stockholm:20290308T200000
DTSTAMP:20260420T060048
CREATED:20251216T124344Z
LAST-MODIFIED:20260319T113804Z
UID:10007964-1867690800-1867694400@vaniumea.se
SUMMARY:Digitalt språkcafé
DESCRIPTION:Välkommen till vårt digitala språkcafé på torsdagar! Det startar klockan 19.00\, och vi vill gärna att du kommer senast kvart över.\nKlicka på denna länk för att vara med: https://us02web.zoom.us/j/87241111674
URL:https://vaniumea.se/aktivitet/digitalt-sprakcafe-2/2029-03-08/
CATEGORIES:språkcafé
ATTACH;FMTTYPE=image/png:https://media.vaniumea.se/2025/12/Ungdomar-e1773920270807.png
END:VEVENT
BEGIN:VEVENT
DTSTART;TZID=Europe/Stockholm:20290309T190000
DTEND;TZID=Europe/Stockholm:20290309T210000
DTSTAMP:20260420T060048
CREATED:20260331T140419Z
LAST-MODIFIED:20260407T121935Z
UID:10008225-1867777200-1867784400@vaniumea.se
SUMMARY:Fotboll för alla
DESCRIPTION:Välkommen att spela fotboll varje fredag kväll.\n\nAlla är välkomna – du som aldrig spelat och du som spelar varje dag – vi lär oss tillsammans\, hjälper varandra och spelar för att det är kul!\n\nOm du har några frågor\, hör av dig till Trey Jonsson\, 073-098 64 25 eller Sofia Lindberg 070-615 80 22
URL:https://vaniumea.se/aktivitet/fotboll-for-alla-3-copy-copy-2-2-kopiera-3-2/2029-03-09/
LOCATION:Dragonskolan 2.0\, Dragongatan 1\, Umeå\, 903 22
CATEGORIES:30+,För tjejer och kvinnor,fotboll,sport,ungdomsgrupp
ATTACH;FMTTYPE=image/png:https://media.vaniumea.se/2023/08/fotboll.png
END:VEVENT
BEGIN:VEVENT
DTSTART;TZID=Europe/Stockholm:20290311T143000
DTEND;TZID=Europe/Stockholm:20290311T160000
DTSTAMP:20260420T060048
CREATED:20260331T140608Z
LAST-MODIFIED:20260407T121926Z
UID:10008485-1867933800-1867939200@vaniumea.se
SUMMARY:Fotboll för tjejer
DESCRIPTION:Alla tjejer/kvinnor/ickebinära är välkomna att spela fotboll med Vän i Umeå! \nDu kan vara nybörjare och aldrig ha spelat förut – vi lär oss tillsammans\, hjälper varandra och spelar för att det är kul! \n Kontakt: Sofia Lindberg 070-615 80 22 Frågor? Mejla kontakt@vaniumea.se\n––\nAll girls\, women\, and non-binary individuals are welcome to play football with Vän in Umeå! You can be someone who plays football every day\, or a beginner who has never played before – we learn together\, help each other\, and play for fun! \n Contact: Sofia Lindberg at 070-615 80 22 Questions? Email kontakt@vaniumea.se
URL:https://vaniumea.se/aktivitet/fotboll-for-tjejer-ickebinara-4-copy-copy-copy-copy-copy-2-kopiera-kopiera-2-2/2029-03-11/
LOCATION:Ålidhemshallen\, Humaniststråket 15\, Umeå\, 907 30\, Sverige
CATEGORIES:Utomhusaktivitet,30+,För tjejer och kvinnor,fotboll,sport,ungdomsgrupp
ATTACH;FMTTYPE=image/jpeg:https://media.vaniumea.se/2024/06/fotbolltjejerjuni-e1755780309718.jpeg
END:VEVENT
BEGIN:VEVENT
DTSTART;TZID=Europe/Stockholm:20290315T190000
DTEND;TZID=Europe/Stockholm:20290315T200000
DTSTAMP:20260420T060048
CREATED:20251216T124344Z
LAST-MODIFIED:20260319T113804Z
UID:10007965-1868295600-1868299200@vaniumea.se
SUMMARY:Digitalt språkcafé
DESCRIPTION:Välkommen till vårt digitala språkcafé på torsdagar! Det startar klockan 19.00\, och vi vill gärna att du kommer senast kvart över.\nKlicka på denna länk för att vara med: https://us02web.zoom.us/j/87241111674
URL:https://vaniumea.se/aktivitet/digitalt-sprakcafe-2/2029-03-15/
CATEGORIES:språkcafé
ATTACH;FMTTYPE=image/png:https://media.vaniumea.se/2025/12/Ungdomar-e1773920270807.png
END:VEVENT
BEGIN:VEVENT
DTSTART;TZID=Europe/Stockholm:20290316T190000
DTEND;TZID=Europe/Stockholm:20290316T210000
DTSTAMP:20260420T060048
CREATED:20260331T140419Z
LAST-MODIFIED:20260407T121935Z
UID:10008226-1868382000-1868389200@vaniumea.se
SUMMARY:Fotboll för alla
DESCRIPTION:Välkommen att spela fotboll varje fredag kväll.\n\nAlla är välkomna – du som aldrig spelat och du som spelar varje dag – vi lär oss tillsammans\, hjälper varandra och spelar för att det är kul!\n\nOm du har några frågor\, hör av dig till Trey Jonsson\, 073-098 64 25 eller Sofia Lindberg 070-615 80 22
URL:https://vaniumea.se/aktivitet/fotboll-for-alla-3-copy-copy-2-2-kopiera-3-2/2029-03-16/
LOCATION:Dragonskolan 2.0\, Dragongatan 1\, Umeå\, 903 22
CATEGORIES:30+,För tjejer och kvinnor,fotboll,sport,ungdomsgrupp
ATTACH;FMTTYPE=image/png:https://media.vaniumea.se/2023/08/fotboll.png
END:VEVENT
BEGIN:VEVENT
DTSTART;TZID=Europe/Stockholm:20290318T143000
DTEND;TZID=Europe/Stockholm:20290318T160000
DTSTAMP:20260420T060048
CREATED:20260331T140608Z
LAST-MODIFIED:20260407T121926Z
UID:10008486-1868538600-1868544000@vaniumea.se
SUMMARY:Fotboll för tjejer
DESCRIPTION:Alla tjejer/kvinnor/ickebinära är välkomna att spela fotboll med Vän i Umeå! \nDu kan vara nybörjare och aldrig ha spelat förut – vi lär oss tillsammans\, hjälper varandra och spelar för att det är kul! \n Kontakt: Sofia Lindberg 070-615 80 22 Frågor? Mejla kontakt@vaniumea.se\n––\nAll girls\, women\, and non-binary individuals are welcome to play football with Vän in Umeå! You can be someone who plays football every day\, or a beginner who has never played before – we learn together\, help each other\, and play for fun! \n Contact: Sofia Lindberg at 070-615 80 22 Questions? Email kontakt@vaniumea.se
URL:https://vaniumea.se/aktivitet/fotboll-for-tjejer-ickebinara-4-copy-copy-copy-copy-copy-2-kopiera-kopiera-2-2/2029-03-18/
LOCATION:Ålidhemshallen\, Humaniststråket 15\, Umeå\, 907 30\, Sverige
CATEGORIES:Utomhusaktivitet,30+,För tjejer och kvinnor,fotboll,sport,ungdomsgrupp
ATTACH;FMTTYPE=image/jpeg:https://media.vaniumea.se/2024/06/fotbolltjejerjuni-e1755780309718.jpeg
END:VEVENT
BEGIN:VEVENT
DTSTART;TZID=Europe/Stockholm:20290322T190000
DTEND;TZID=Europe/Stockholm:20290322T200000
DTSTAMP:20260420T060048
CREATED:20251216T124344Z
LAST-MODIFIED:20260319T113804Z
UID:10007966-1868900400-1868904000@vaniumea.se
SUMMARY:Digitalt språkcafé
DESCRIPTION:Välkommen till vårt digitala språkcafé på torsdagar! Det startar klockan 19.00\, och vi vill gärna att du kommer senast kvart över.\nKlicka på denna länk för att vara med: https://us02web.zoom.us/j/87241111674
URL:https://vaniumea.se/aktivitet/digitalt-sprakcafe-2/2029-03-22/
CATEGORIES:språkcafé
ATTACH;FMTTYPE=image/png:https://media.vaniumea.se/2025/12/Ungdomar-e1773920270807.png
END:VEVENT
BEGIN:VEVENT
DTSTART;TZID=Europe/Stockholm:20290323T190000
DTEND;TZID=Europe/Stockholm:20290323T210000
DTSTAMP:20260420T060048
CREATED:20260331T140419Z
LAST-MODIFIED:20260407T121935Z
UID:10008227-1868986800-1868994000@vaniumea.se
SUMMARY:Fotboll för alla
DESCRIPTION:Välkommen att spela fotboll varje fredag kväll.\n\nAlla är välkomna – du som aldrig spelat och du som spelar varje dag – vi lär oss tillsammans\, hjälper varandra och spelar för att det är kul!\n\nOm du har några frågor\, hör av dig till Trey Jonsson\, 073-098 64 25 eller Sofia Lindberg 070-615 80 22
URL:https://vaniumea.se/aktivitet/fotboll-for-alla-3-copy-copy-2-2-kopiera-3-2/2029-03-23/
LOCATION:Dragonskolan 2.0\, Dragongatan 1\, Umeå\, 903 22
CATEGORIES:30+,För tjejer och kvinnor,fotboll,sport,ungdomsgrupp
ATTACH;FMTTYPE=image/png:https://media.vaniumea.se/2023/08/fotboll.png
END:VEVENT
BEGIN:VEVENT
DTSTART;TZID=Europe/Stockholm:20290325T143000
DTEND;TZID=Europe/Stockholm:20290325T160000
DTSTAMP:20260420T060048
CREATED:20260331T140608Z
LAST-MODIFIED:20260407T121926Z
UID:10008487-1869143400-1869148800@vaniumea.se
SUMMARY:Fotboll för tjejer
DESCRIPTION:Alla tjejer/kvinnor/ickebinära är välkomna att spela fotboll med Vän i Umeå! \nDu kan vara nybörjare och aldrig ha spelat förut – vi lär oss tillsammans\, hjälper varandra och spelar för att det är kul! \n Kontakt: Sofia Lindberg 070-615 80 22 Frågor? Mejla kontakt@vaniumea.se\n––\nAll girls\, women\, and non-binary individuals are welcome to play football with Vän in Umeå! You can be someone who plays football every day\, or a beginner who has never played before – we learn together\, help each other\, and play for fun! \n Contact: Sofia Lindberg at 070-615 80 22 Questions? Email kontakt@vaniumea.se
URL:https://vaniumea.se/aktivitet/fotboll-for-tjejer-ickebinara-4-copy-copy-copy-copy-copy-2-kopiera-kopiera-2-2/2029-03-25/
LOCATION:Ålidhemshallen\, Humaniststråket 15\, Umeå\, 907 30\, Sverige
CATEGORIES:Utomhusaktivitet,30+,För tjejer och kvinnor,fotboll,sport,ungdomsgrupp
ATTACH;FMTTYPE=image/jpeg:https://media.vaniumea.se/2024/06/fotbolltjejerjuni-e1755780309718.jpeg
END:VEVENT
BEGIN:VEVENT
DTSTART;TZID=Europe/Stockholm:20290329T190000
DTEND;TZID=Europe/Stockholm:20290329T200000
DTSTAMP:20260420T060048
CREATED:20251216T124344Z
LAST-MODIFIED:20260319T113804Z
UID:10007967-1869505200-1869508800@vaniumea.se
SUMMARY:Digitalt språkcafé
DESCRIPTION:Välkommen till vårt digitala språkcafé på torsdagar! Det startar klockan 19.00\, och vi vill gärna att du kommer senast kvart över.\nKlicka på denna länk för att vara med: https://us02web.zoom.us/j/87241111674
URL:https://vaniumea.se/aktivitet/digitalt-sprakcafe-2/2029-03-29/
CATEGORIES:språkcafé
ATTACH;FMTTYPE=image/png:https://media.vaniumea.se/2025/12/Ungdomar-e1773920270807.png
END:VEVENT
BEGIN:VEVENT
DTSTART;TZID=Europe/Stockholm:20290330T190000
DTEND;TZID=Europe/Stockholm:20290330T210000
DTSTAMP:20260420T060048
CREATED:20260331T140419Z
LAST-MODIFIED:20260407T121935Z
UID:10008228-1869591600-1869598800@vaniumea.se
SUMMARY:Fotboll för alla
DESCRIPTION:Välkommen att spela fotboll varje fredag kväll.\n\nAlla är välkomna – du som aldrig spelat och du som spelar varje dag – vi lär oss tillsammans\, hjälper varandra och spelar för att det är kul!\n\nOm du har några frågor\, hör av dig till Trey Jonsson\, 073-098 64 25 eller Sofia Lindberg 070-615 80 22
URL:https://vaniumea.se/aktivitet/fotboll-for-alla-3-copy-copy-2-2-kopiera-3-2/2029-03-30/
LOCATION:Dragonskolan 2.0\, Dragongatan 1\, Umeå\, 903 22
CATEGORIES:30+,För tjejer och kvinnor,fotboll,sport,ungdomsgrupp
ATTACH;FMTTYPE=image/png:https://media.vaniumea.se/2023/08/fotboll.png
END:VEVENT
BEGIN:VEVENT
DTSTART;TZID=Europe/Stockholm:20290401T143000
DTEND;TZID=Europe/Stockholm:20290401T160000
DTSTAMP:20260420T060048
CREATED:20260331T140608Z
LAST-MODIFIED:20260407T121926Z
UID:10008488-1869748200-1869753600@vaniumea.se
SUMMARY:Fotboll för tjejer
DESCRIPTION:Alla tjejer/kvinnor/ickebinära är välkomna att spela fotboll med Vän i Umeå! \nDu kan vara nybörjare och aldrig ha spelat förut – vi lär oss tillsammans\, hjälper varandra och spelar för att det är kul! \n Kontakt: Sofia Lindberg 070-615 80 22 Frågor? Mejla kontakt@vaniumea.se\n––\nAll girls\, women\, and non-binary individuals are welcome to play football with Vän in Umeå! You can be someone who plays football every day\, or a beginner who has never played before – we learn together\, help each other\, and play for fun! \n Contact: Sofia Lindberg at 070-615 80 22 Questions? Email kontakt@vaniumea.se
URL:https://vaniumea.se/aktivitet/fotboll-for-tjejer-ickebinara-4-copy-copy-copy-copy-copy-2-kopiera-kopiera-2-2/2029-04-01/
LOCATION:Ålidhemshallen\, Humaniststråket 15\, Umeå\, 907 30\, Sverige
CATEGORIES:Utomhusaktivitet,30+,För tjejer och kvinnor,fotboll,sport,ungdomsgrupp
ATTACH;FMTTYPE=image/jpeg:https://media.vaniumea.se/2024/06/fotbolltjejerjuni-e1755780309718.jpeg
END:VEVENT
BEGIN:VEVENT
DTSTART;TZID=Europe/Stockholm:20290405T190000
DTEND;TZID=Europe/Stockholm:20290405T200000
DTSTAMP:20260420T060048
CREATED:20251216T124344Z
LAST-MODIFIED:20260319T113804Z
UID:10007968-1870110000-1870113600@vaniumea.se
SUMMARY:Digitalt språkcafé
DESCRIPTION:Välkommen till vårt digitala språkcafé på torsdagar! Det startar klockan 19.00\, och vi vill gärna att du kommer senast kvart över.\nKlicka på denna länk för att vara med: https://us02web.zoom.us/j/87241111674
URL:https://vaniumea.se/aktivitet/digitalt-sprakcafe-2/2029-04-05/
CATEGORIES:språkcafé
ATTACH;FMTTYPE=image/png:https://media.vaniumea.se/2025/12/Ungdomar-e1773920270807.png
END:VEVENT
BEGIN:VEVENT
DTSTART;TZID=Europe/Stockholm:20290406T190000
DTEND;TZID=Europe/Stockholm:20290406T210000
DTSTAMP:20260420T060048
CREATED:20260331T140419Z
LAST-MODIFIED:20260407T121935Z
UID:10008229-1870196400-1870203600@vaniumea.se
SUMMARY:Fotboll för alla
DESCRIPTION:Välkommen att spela fotboll varje fredag kväll.\n\nAlla är välkomna – du som aldrig spelat och du som spelar varje dag – vi lär oss tillsammans\, hjälper varandra och spelar för att det är kul!\n\nOm du har några frågor\, hör av dig till Trey Jonsson\, 073-098 64 25 eller Sofia Lindberg 070-615 80 22
URL:https://vaniumea.se/aktivitet/fotboll-for-alla-3-copy-copy-2-2-kopiera-3-2/2029-04-06/
LOCATION:Dragonskolan 2.0\, Dragongatan 1\, Umeå\, 903 22
CATEGORIES:30+,För tjejer och kvinnor,fotboll,sport,ungdomsgrupp
ATTACH;FMTTYPE=image/png:https://media.vaniumea.se/2023/08/fotboll.png
END:VEVENT
BEGIN:VEVENT
DTSTART;TZID=Europe/Stockholm:20290408T143000
DTEND;TZID=Europe/Stockholm:20290408T160000
DTSTAMP:20260420T060048
CREATED:20260331T140608Z
LAST-MODIFIED:20260407T121926Z
UID:10008489-1870353000-1870358400@vaniumea.se
SUMMARY:Fotboll för tjejer
DESCRIPTION:Alla tjejer/kvinnor/ickebinära är välkomna att spela fotboll med Vän i Umeå! \nDu kan vara nybörjare och aldrig ha spelat förut – vi lär oss tillsammans\, hjälper varandra och spelar för att det är kul! \n Kontakt: Sofia Lindberg 070-615 80 22 Frågor? Mejla kontakt@vaniumea.se\n––\nAll girls\, women\, and non-binary individuals are welcome to play football with Vän in Umeå! You can be someone who plays football every day\, or a beginner who has never played before – we learn together\, help each other\, and play for fun! \n Contact: Sofia Lindberg at 070-615 80 22 Questions? Email kontakt@vaniumea.se
URL:https://vaniumea.se/aktivitet/fotboll-for-tjejer-ickebinara-4-copy-copy-copy-copy-copy-2-kopiera-kopiera-2-2/2029-04-08/
LOCATION:Ålidhemshallen\, Humaniststråket 15\, Umeå\, 907 30\, Sverige
CATEGORIES:Utomhusaktivitet,30+,För tjejer och kvinnor,fotboll,sport,ungdomsgrupp
ATTACH;FMTTYPE=image/jpeg:https://media.vaniumea.se/2024/06/fotbolltjejerjuni-e1755780309718.jpeg
END:VEVENT
BEGIN:VEVENT
DTSTART;TZID=Europe/Stockholm:20290412T190000
DTEND;TZID=Europe/Stockholm:20290412T200000
DTSTAMP:20260420T060048
CREATED:20251216T124344Z
LAST-MODIFIED:20260319T113804Z
UID:10007969-1870714800-1870718400@vaniumea.se
SUMMARY:Digitalt språkcafé
DESCRIPTION:Välkommen till vårt digitala språkcafé på torsdagar! Det startar klockan 19.00\, och vi vill gärna att du kommer senast kvart över.\nKlicka på denna länk för att vara med: https://us02web.zoom.us/j/87241111674
URL:https://vaniumea.se/aktivitet/digitalt-sprakcafe-2/2029-04-12/
CATEGORIES:språkcafé
ATTACH;FMTTYPE=image/png:https://media.vaniumea.se/2025/12/Ungdomar-e1773920270807.png
END:VEVENT
BEGIN:VEVENT
DTSTART;TZID=Europe/Stockholm:20290413T190000
DTEND;TZID=Europe/Stockholm:20290413T210000
DTSTAMP:20260420T060048
CREATED:20260331T140419Z
LAST-MODIFIED:20260407T121935Z
UID:10008230-1870801200-1870808400@vaniumea.se
SUMMARY:Fotboll för alla
DESCRIPTION:Välkommen att spela fotboll varje fredag kväll.\n\nAlla är välkomna – du som aldrig spelat och du som spelar varje dag – vi lär oss tillsammans\, hjälper varandra och spelar för att det är kul!\n\nOm du har några frågor\, hör av dig till Trey Jonsson\, 073-098 64 25 eller Sofia Lindberg 070-615 80 22
URL:https://vaniumea.se/aktivitet/fotboll-for-alla-3-copy-copy-2-2-kopiera-3-2/2029-04-13/
LOCATION:Dragonskolan 2.0\, Dragongatan 1\, Umeå\, 903 22
CATEGORIES:30+,För tjejer och kvinnor,fotboll,sport,ungdomsgrupp
ATTACH;FMTTYPE=image/png:https://media.vaniumea.se/2023/08/fotboll.png
END:VEVENT
BEGIN:VEVENT
DTSTART;TZID=Europe/Stockholm:20290415T143000
DTEND;TZID=Europe/Stockholm:20290415T160000
DTSTAMP:20260420T060048
CREATED:20260331T140608Z
LAST-MODIFIED:20260407T121926Z
UID:10008490-1870957800-1870963200@vaniumea.se
SUMMARY:Fotboll för tjejer
DESCRIPTION:Alla tjejer/kvinnor/ickebinära är välkomna att spela fotboll med Vän i Umeå! \nDu kan vara nybörjare och aldrig ha spelat förut – vi lär oss tillsammans\, hjälper varandra och spelar för att det är kul! \n Kontakt: Sofia Lindberg 070-615 80 22 Frågor? Mejla kontakt@vaniumea.se\n––\nAll girls\, women\, and non-binary individuals are welcome to play football with Vän in Umeå! You can be someone who plays football every day\, or a beginner who has never played before – we learn together\, help each other\, and play for fun! \n Contact: Sofia Lindberg at 070-615 80 22 Questions? Email kontakt@vaniumea.se
URL:https://vaniumea.se/aktivitet/fotboll-for-tjejer-ickebinara-4-copy-copy-copy-copy-copy-2-kopiera-kopiera-2-2/2029-04-15/
LOCATION:Ålidhemshallen\, Humaniststråket 15\, Umeå\, 907 30\, Sverige
CATEGORIES:Utomhusaktivitet,30+,För tjejer och kvinnor,fotboll,sport,ungdomsgrupp
ATTACH;FMTTYPE=image/jpeg:https://media.vaniumea.se/2024/06/fotbolltjejerjuni-e1755780309718.jpeg
END:VEVENT
BEGIN:VEVENT
DTSTART;TZID=Europe/Stockholm:20290419T190000
DTEND;TZID=Europe/Stockholm:20290419T200000
DTSTAMP:20260420T060048
CREATED:20251216T124344Z
LAST-MODIFIED:20260319T113804Z
UID:10007970-1871319600-1871323200@vaniumea.se
SUMMARY:Digitalt språkcafé
DESCRIPTION:Välkommen till vårt digitala språkcafé på torsdagar! Det startar klockan 19.00\, och vi vill gärna att du kommer senast kvart över.\nKlicka på denna länk för att vara med: https://us02web.zoom.us/j/87241111674
URL:https://vaniumea.se/aktivitet/digitalt-sprakcafe-2/2029-04-19/
CATEGORIES:språkcafé
ATTACH;FMTTYPE=image/png:https://media.vaniumea.se/2025/12/Ungdomar-e1773920270807.png
END:VEVENT
BEGIN:VEVENT
DTSTART;TZID=Europe/Stockholm:20290420T190000
DTEND;TZID=Europe/Stockholm:20290420T210000
DTSTAMP:20260420T060048
CREATED:20260331T140419Z
LAST-MODIFIED:20260407T121935Z
UID:10008231-1871406000-1871413200@vaniumea.se
SUMMARY:Fotboll för alla
DESCRIPTION:Välkommen att spela fotboll varje fredag kväll.\n\nAlla är välkomna – du som aldrig spelat och du som spelar varje dag – vi lär oss tillsammans\, hjälper varandra och spelar för att det är kul!\n\nOm du har några frågor\, hör av dig till Trey Jonsson\, 073-098 64 25 eller Sofia Lindberg 070-615 80 22
URL:https://vaniumea.se/aktivitet/fotboll-for-alla-3-copy-copy-2-2-kopiera-3-2/2029-04-20/
LOCATION:Dragonskolan 2.0\, Dragongatan 1\, Umeå\, 903 22
CATEGORIES:30+,För tjejer och kvinnor,fotboll,sport,ungdomsgrupp
ATTACH;FMTTYPE=image/png:https://media.vaniumea.se/2023/08/fotboll.png
END:VEVENT
BEGIN:VEVENT
DTSTART;TZID=Europe/Stockholm:20290422T143000
DTEND;TZID=Europe/Stockholm:20290422T160000
DTSTAMP:20260420T060048
CREATED:20260331T140608Z
LAST-MODIFIED:20260407T121926Z
UID:10008491-1871562600-1871568000@vaniumea.se
SUMMARY:Fotboll för tjejer
DESCRIPTION:Alla tjejer/kvinnor/ickebinära är välkomna att spela fotboll med Vän i Umeå! \nDu kan vara nybörjare och aldrig ha spelat förut – vi lär oss tillsammans\, hjälper varandra och spelar för att det är kul! \n Kontakt: Sofia Lindberg 070-615 80 22 Frågor? Mejla kontakt@vaniumea.se\n––\nAll girls\, women\, and non-binary individuals are welcome to play football with Vän in Umeå! You can be someone who plays football every day\, or a beginner who has never played before – we learn together\, help each other\, and play for fun! \n Contact: Sofia Lindberg at 070-615 80 22 Questions? Email kontakt@vaniumea.se
URL:https://vaniumea.se/aktivitet/fotboll-for-tjejer-ickebinara-4-copy-copy-copy-copy-copy-2-kopiera-kopiera-2-2/2029-04-22/
LOCATION:Ålidhemshallen\, Humaniststråket 15\, Umeå\, 907 30\, Sverige
CATEGORIES:Utomhusaktivitet,30+,För tjejer och kvinnor,fotboll,sport,ungdomsgrupp
ATTACH;FMTTYPE=image/jpeg:https://media.vaniumea.se/2024/06/fotbolltjejerjuni-e1755780309718.jpeg
END:VEVENT
BEGIN:VEVENT
DTSTART;TZID=Europe/Stockholm:20290426T190000
DTEND;TZID=Europe/Stockholm:20290426T200000
DTSTAMP:20260420T060048
CREATED:20251216T124344Z
LAST-MODIFIED:20260319T113804Z
UID:10007971-1871924400-1871928000@vaniumea.se
SUMMARY:Digitalt språkcafé
DESCRIPTION:Välkommen till vårt digitala språkcafé på torsdagar! Det startar klockan 19.00\, och vi vill gärna att du kommer senast kvart över.\nKlicka på denna länk för att vara med: https://us02web.zoom.us/j/87241111674
URL:https://vaniumea.se/aktivitet/digitalt-sprakcafe-2/2029-04-26/
CATEGORIES:språkcafé
ATTACH;FMTTYPE=image/png:https://media.vaniumea.se/2025/12/Ungdomar-e1773920270807.png
END:VEVENT
END:VCALENDAR