BEGIN:VCALENDAR
VERSION:2.0
PRODID:-//Vän i Umeå - ECPv6.15.20//NONSGML v1.0//EN
CALSCALE:GREGORIAN
METHOD:PUBLISH
X-WR-CALNAME:Vän i Umeå
X-ORIGINAL-URL:https://vaniumea.se
X-WR-CALDESC:Händelser för Vän i Umeå
REFRESH-INTERVAL;VALUE=DURATION:PT1H
X-Robots-Tag:noindex
X-PUBLISHED-TTL:PT1H
BEGIN:VTIMEZONE
TZID:Europe/Stockholm
BEGIN:DAYLIGHT
TZOFFSETFROM:+0100
TZOFFSETTO:+0200
TZNAME:CEST
DTSTART:20280326T010000
END:DAYLIGHT
BEGIN:STANDARD
TZOFFSETFROM:+0200
TZOFFSETTO:+0100
TZNAME:CET
DTSTART:20281029T010000
END:STANDARD
BEGIN:DAYLIGHT
TZOFFSETFROM:+0100
TZOFFSETTO:+0200
TZNAME:CEST
DTSTART:20290325T010000
END:DAYLIGHT
BEGIN:STANDARD
TZOFFSETFROM:+0200
TZOFFSETTO:+0100
TZNAME:CET
DTSTART:20291028T010000
END:STANDARD
BEGIN:DAYLIGHT
TZOFFSETFROM:+0100
TZOFFSETTO:+0200
TZNAME:CEST
DTSTART:20300331T010000
END:DAYLIGHT
BEGIN:STANDARD
TZOFFSETFROM:+0200
TZOFFSETTO:+0100
TZNAME:CET
DTSTART:20301027T010000
END:STANDARD
END:VTIMEZONE
BEGIN:VEVENT
DTSTART;TZID=Europe/Stockholm:20290831T190000
DTEND;TZID=Europe/Stockholm:20290831T210000
DTSTAMP:20260420T055928
CREATED:20260331T140419Z
LAST-MODIFIED:20260407T121935Z
UID:10008250-1882897200-1882904400@vaniumea.se
SUMMARY:Fotboll för alla
DESCRIPTION:Välkommen att spela fotboll varje fredag kväll.\n\nAlla är välkomna – du som aldrig spelat och du som spelar varje dag – vi lär oss tillsammans\, hjälper varandra och spelar för att det är kul!\n\nOm du har några frågor\, hör av dig till Trey Jonsson\, 073-098 64 25 eller Sofia Lindberg 070-615 80 22
URL:https://vaniumea.se/aktivitet/fotboll-for-alla-3-copy-copy-2-2-kopiera-3-2/2029-08-31/
LOCATION:Dragonskolan 2.0\, Dragongatan 1\, Umeå\, 903 22
CATEGORIES:30+,För tjejer och kvinnor,fotboll,sport,ungdomsgrupp
ATTACH;FMTTYPE=image/png:https://media.vaniumea.se/2023/08/fotboll.png
END:VEVENT
BEGIN:VEVENT
DTSTART;TZID=Europe/Stockholm:20290902T143000
DTEND;TZID=Europe/Stockholm:20290902T160000
DTSTAMP:20260420T055928
CREATED:20260331T140608Z
LAST-MODIFIED:20260407T121926Z
UID:10008510-1883053800-1883059200@vaniumea.se
SUMMARY:Fotboll för tjejer
DESCRIPTION:Alla tjejer/kvinnor/ickebinära är välkomna att spela fotboll med Vän i Umeå! \nDu kan vara nybörjare och aldrig ha spelat förut – vi lär oss tillsammans\, hjälper varandra och spelar för att det är kul! \n Kontakt: Sofia Lindberg 070-615 80 22 Frågor? Mejla kontakt@vaniumea.se\n––\nAll girls\, women\, and non-binary individuals are welcome to play football with Vän in Umeå! You can be someone who plays football every day\, or a beginner who has never played before – we learn together\, help each other\, and play for fun! \n Contact: Sofia Lindberg at 070-615 80 22 Questions? Email kontakt@vaniumea.se
URL:https://vaniumea.se/aktivitet/fotboll-for-tjejer-ickebinara-4-copy-copy-copy-copy-copy-2-kopiera-kopiera-2-2/2029-09-02/
LOCATION:Ålidhemshallen\, Humaniststråket 15\, Umeå\, 907 30\, Sverige
CATEGORIES:Utomhusaktivitet,30+,För tjejer och kvinnor,fotboll,sport,ungdomsgrupp
ATTACH;FMTTYPE=image/jpeg:https://media.vaniumea.se/2024/06/fotbolltjejerjuni-e1755780309718.jpeg
END:VEVENT
BEGIN:VEVENT
DTSTART;TZID=Europe/Stockholm:20290906T190000
DTEND;TZID=Europe/Stockholm:20290906T200000
DTSTAMP:20260420T055928
CREATED:20251216T124344Z
LAST-MODIFIED:20260319T113804Z
UID:10007990-1883415600-1883419200@vaniumea.se
SUMMARY:Digitalt språkcafé
DESCRIPTION:Välkommen till vårt digitala språkcafé på torsdagar! Det startar klockan 19.00\, och vi vill gärna att du kommer senast kvart över.\nKlicka på denna länk för att vara med: https://us02web.zoom.us/j/87241111674
URL:https://vaniumea.se/aktivitet/digitalt-sprakcafe-2/2029-09-06/
CATEGORIES:språkcafé
ATTACH;FMTTYPE=image/png:https://media.vaniumea.se/2025/12/Ungdomar-e1773920270807.png
END:VEVENT
BEGIN:VEVENT
DTSTART;TZID=Europe/Stockholm:20290907T190000
DTEND;TZID=Europe/Stockholm:20290907T210000
DTSTAMP:20260420T055928
CREATED:20260331T140419Z
LAST-MODIFIED:20260407T121935Z
UID:10008251-1883502000-1883509200@vaniumea.se
SUMMARY:Fotboll för alla
DESCRIPTION:Välkommen att spela fotboll varje fredag kväll.\n\nAlla är välkomna – du som aldrig spelat och du som spelar varje dag – vi lär oss tillsammans\, hjälper varandra och spelar för att det är kul!\n\nOm du har några frågor\, hör av dig till Trey Jonsson\, 073-098 64 25 eller Sofia Lindberg 070-615 80 22
URL:https://vaniumea.se/aktivitet/fotboll-for-alla-3-copy-copy-2-2-kopiera-3-2/2029-09-07/
LOCATION:Dragonskolan 2.0\, Dragongatan 1\, Umeå\, 903 22
CATEGORIES:30+,För tjejer och kvinnor,fotboll,sport,ungdomsgrupp
ATTACH;FMTTYPE=image/png:https://media.vaniumea.se/2023/08/fotboll.png
END:VEVENT
BEGIN:VEVENT
DTSTART;TZID=Europe/Stockholm:20290909T143000
DTEND;TZID=Europe/Stockholm:20290909T160000
DTSTAMP:20260420T055928
CREATED:20260331T140608Z
LAST-MODIFIED:20260407T121926Z
UID:10008511-1883658600-1883664000@vaniumea.se
SUMMARY:Fotboll för tjejer
DESCRIPTION:Alla tjejer/kvinnor/ickebinära är välkomna att spela fotboll med Vän i Umeå! \nDu kan vara nybörjare och aldrig ha spelat förut – vi lär oss tillsammans\, hjälper varandra och spelar för att det är kul! \n Kontakt: Sofia Lindberg 070-615 80 22 Frågor? Mejla kontakt@vaniumea.se\n––\nAll girls\, women\, and non-binary individuals are welcome to play football with Vän in Umeå! You can be someone who plays football every day\, or a beginner who has never played before – we learn together\, help each other\, and play for fun! \n Contact: Sofia Lindberg at 070-615 80 22 Questions? Email kontakt@vaniumea.se
URL:https://vaniumea.se/aktivitet/fotboll-for-tjejer-ickebinara-4-copy-copy-copy-copy-copy-2-kopiera-kopiera-2-2/2029-09-09/
LOCATION:Ålidhemshallen\, Humaniststråket 15\, Umeå\, 907 30\, Sverige
CATEGORIES:Utomhusaktivitet,30+,För tjejer och kvinnor,fotboll,sport,ungdomsgrupp
ATTACH;FMTTYPE=image/jpeg:https://media.vaniumea.se/2024/06/fotbolltjejerjuni-e1755780309718.jpeg
END:VEVENT
BEGIN:VEVENT
DTSTART;TZID=Europe/Stockholm:20290913T190000
DTEND;TZID=Europe/Stockholm:20290913T200000
DTSTAMP:20260420T055928
CREATED:20251216T124344Z
LAST-MODIFIED:20260319T113804Z
UID:10007991-1884020400-1884024000@vaniumea.se
SUMMARY:Digitalt språkcafé
DESCRIPTION:Välkommen till vårt digitala språkcafé på torsdagar! Det startar klockan 19.00\, och vi vill gärna att du kommer senast kvart över.\nKlicka på denna länk för att vara med: https://us02web.zoom.us/j/87241111674
URL:https://vaniumea.se/aktivitet/digitalt-sprakcafe-2/2029-09-13/
CATEGORIES:språkcafé
ATTACH;FMTTYPE=image/png:https://media.vaniumea.se/2025/12/Ungdomar-e1773920270807.png
END:VEVENT
BEGIN:VEVENT
DTSTART;TZID=Europe/Stockholm:20290914T190000
DTEND;TZID=Europe/Stockholm:20290914T210000
DTSTAMP:20260420T055928
CREATED:20260331T140419Z
LAST-MODIFIED:20260407T121935Z
UID:10008252-1884106800-1884114000@vaniumea.se
SUMMARY:Fotboll för alla
DESCRIPTION:Välkommen att spela fotboll varje fredag kväll.\n\nAlla är välkomna – du som aldrig spelat och du som spelar varje dag – vi lär oss tillsammans\, hjälper varandra och spelar för att det är kul!\n\nOm du har några frågor\, hör av dig till Trey Jonsson\, 073-098 64 25 eller Sofia Lindberg 070-615 80 22
URL:https://vaniumea.se/aktivitet/fotboll-for-alla-3-copy-copy-2-2-kopiera-3-2/2029-09-14/
LOCATION:Dragonskolan 2.0\, Dragongatan 1\, Umeå\, 903 22
CATEGORIES:30+,För tjejer och kvinnor,fotboll,sport,ungdomsgrupp
ATTACH;FMTTYPE=image/png:https://media.vaniumea.se/2023/08/fotboll.png
END:VEVENT
BEGIN:VEVENT
DTSTART;TZID=Europe/Stockholm:20290916T143000
DTEND;TZID=Europe/Stockholm:20290916T160000
DTSTAMP:20260420T055928
CREATED:20260331T140608Z
LAST-MODIFIED:20260407T121926Z
UID:10008512-1884263400-1884268800@vaniumea.se
SUMMARY:Fotboll för tjejer
DESCRIPTION:Alla tjejer/kvinnor/ickebinära är välkomna att spela fotboll med Vän i Umeå! \nDu kan vara nybörjare och aldrig ha spelat förut – vi lär oss tillsammans\, hjälper varandra och spelar för att det är kul! \n Kontakt: Sofia Lindberg 070-615 80 22 Frågor? Mejla kontakt@vaniumea.se\n––\nAll girls\, women\, and non-binary individuals are welcome to play football with Vän in Umeå! You can be someone who plays football every day\, or a beginner who has never played before – we learn together\, help each other\, and play for fun! \n Contact: Sofia Lindberg at 070-615 80 22 Questions? Email kontakt@vaniumea.se
URL:https://vaniumea.se/aktivitet/fotboll-for-tjejer-ickebinara-4-copy-copy-copy-copy-copy-2-kopiera-kopiera-2-2/2029-09-16/
LOCATION:Ålidhemshallen\, Humaniststråket 15\, Umeå\, 907 30\, Sverige
CATEGORIES:Utomhusaktivitet,30+,För tjejer och kvinnor,fotboll,sport,ungdomsgrupp
ATTACH;FMTTYPE=image/jpeg:https://media.vaniumea.se/2024/06/fotbolltjejerjuni-e1755780309718.jpeg
END:VEVENT
BEGIN:VEVENT
DTSTART;TZID=Europe/Stockholm:20290920T190000
DTEND;TZID=Europe/Stockholm:20290920T200000
DTSTAMP:20260420T055928
CREATED:20251216T124344Z
LAST-MODIFIED:20260319T113804Z
UID:10007992-1884625200-1884628800@vaniumea.se
SUMMARY:Digitalt språkcafé
DESCRIPTION:Välkommen till vårt digitala språkcafé på torsdagar! Det startar klockan 19.00\, och vi vill gärna att du kommer senast kvart över.\nKlicka på denna länk för att vara med: https://us02web.zoom.us/j/87241111674
URL:https://vaniumea.se/aktivitet/digitalt-sprakcafe-2/2029-09-20/
CATEGORIES:språkcafé
ATTACH;FMTTYPE=image/png:https://media.vaniumea.se/2025/12/Ungdomar-e1773920270807.png
END:VEVENT
BEGIN:VEVENT
DTSTART;TZID=Europe/Stockholm:20290921T190000
DTEND;TZID=Europe/Stockholm:20290921T210000
DTSTAMP:20260420T055928
CREATED:20260331T140419Z
LAST-MODIFIED:20260407T121935Z
UID:10008253-1884711600-1884718800@vaniumea.se
SUMMARY:Fotboll för alla
DESCRIPTION:Välkommen att spela fotboll varje fredag kväll.\n\nAlla är välkomna – du som aldrig spelat och du som spelar varje dag – vi lär oss tillsammans\, hjälper varandra och spelar för att det är kul!\n\nOm du har några frågor\, hör av dig till Trey Jonsson\, 073-098 64 25 eller Sofia Lindberg 070-615 80 22
URL:https://vaniumea.se/aktivitet/fotboll-for-alla-3-copy-copy-2-2-kopiera-3-2/2029-09-21/
LOCATION:Dragonskolan 2.0\, Dragongatan 1\, Umeå\, 903 22
CATEGORIES:30+,För tjejer och kvinnor,fotboll,sport,ungdomsgrupp
ATTACH;FMTTYPE=image/png:https://media.vaniumea.se/2023/08/fotboll.png
END:VEVENT
BEGIN:VEVENT
DTSTART;TZID=Europe/Stockholm:20290923T143000
DTEND;TZID=Europe/Stockholm:20290923T160000
DTSTAMP:20260420T055928
CREATED:20260331T140608Z
LAST-MODIFIED:20260407T121926Z
UID:10008513-1884868200-1884873600@vaniumea.se
SUMMARY:Fotboll för tjejer
DESCRIPTION:Alla tjejer/kvinnor/ickebinära är välkomna att spela fotboll med Vän i Umeå! \nDu kan vara nybörjare och aldrig ha spelat förut – vi lär oss tillsammans\, hjälper varandra och spelar för att det är kul! \n Kontakt: Sofia Lindberg 070-615 80 22 Frågor? Mejla kontakt@vaniumea.se\n––\nAll girls\, women\, and non-binary individuals are welcome to play football with Vän in Umeå! You can be someone who plays football every day\, or a beginner who has never played before – we learn together\, help each other\, and play for fun! \n Contact: Sofia Lindberg at 070-615 80 22 Questions? Email kontakt@vaniumea.se
URL:https://vaniumea.se/aktivitet/fotboll-for-tjejer-ickebinara-4-copy-copy-copy-copy-copy-2-kopiera-kopiera-2-2/2029-09-23/
LOCATION:Ålidhemshallen\, Humaniststråket 15\, Umeå\, 907 30\, Sverige
CATEGORIES:Utomhusaktivitet,30+,För tjejer och kvinnor,fotboll,sport,ungdomsgrupp
ATTACH;FMTTYPE=image/jpeg:https://media.vaniumea.se/2024/06/fotbolltjejerjuni-e1755780309718.jpeg
END:VEVENT
BEGIN:VEVENT
DTSTART;TZID=Europe/Stockholm:20290927T190000
DTEND;TZID=Europe/Stockholm:20290927T200000
DTSTAMP:20260420T055928
CREATED:20251216T124344Z
LAST-MODIFIED:20260319T113804Z
UID:10007993-1885230000-1885233600@vaniumea.se
SUMMARY:Digitalt språkcafé
DESCRIPTION:Välkommen till vårt digitala språkcafé på torsdagar! Det startar klockan 19.00\, och vi vill gärna att du kommer senast kvart över.\nKlicka på denna länk för att vara med: https://us02web.zoom.us/j/87241111674
URL:https://vaniumea.se/aktivitet/digitalt-sprakcafe-2/2029-09-27/
CATEGORIES:språkcafé
ATTACH;FMTTYPE=image/png:https://media.vaniumea.se/2025/12/Ungdomar-e1773920270807.png
END:VEVENT
BEGIN:VEVENT
DTSTART;TZID=Europe/Stockholm:20290928T190000
DTEND;TZID=Europe/Stockholm:20290928T210000
DTSTAMP:20260420T055928
CREATED:20260331T140419Z
LAST-MODIFIED:20260407T121935Z
UID:10008254-1885316400-1885323600@vaniumea.se
SUMMARY:Fotboll för alla
DESCRIPTION:Välkommen att spela fotboll varje fredag kväll.\n\nAlla är välkomna – du som aldrig spelat och du som spelar varje dag – vi lär oss tillsammans\, hjälper varandra och spelar för att det är kul!\n\nOm du har några frågor\, hör av dig till Trey Jonsson\, 073-098 64 25 eller Sofia Lindberg 070-615 80 22
URL:https://vaniumea.se/aktivitet/fotboll-for-alla-3-copy-copy-2-2-kopiera-3-2/2029-09-28/
LOCATION:Dragonskolan 2.0\, Dragongatan 1\, Umeå\, 903 22
CATEGORIES:30+,För tjejer och kvinnor,fotboll,sport,ungdomsgrupp
ATTACH;FMTTYPE=image/png:https://media.vaniumea.se/2023/08/fotboll.png
END:VEVENT
BEGIN:VEVENT
DTSTART;TZID=Europe/Stockholm:20290930T143000
DTEND;TZID=Europe/Stockholm:20290930T160000
DTSTAMP:20260420T055928
CREATED:20260331T140608Z
LAST-MODIFIED:20260407T121926Z
UID:10008514-1885473000-1885478400@vaniumea.se
SUMMARY:Fotboll för tjejer
DESCRIPTION:Alla tjejer/kvinnor/ickebinära är välkomna att spela fotboll med Vän i Umeå! \nDu kan vara nybörjare och aldrig ha spelat förut – vi lär oss tillsammans\, hjälper varandra och spelar för att det är kul! \n Kontakt: Sofia Lindberg 070-615 80 22 Frågor? Mejla kontakt@vaniumea.se\n––\nAll girls\, women\, and non-binary individuals are welcome to play football with Vän in Umeå! You can be someone who plays football every day\, or a beginner who has never played before – we learn together\, help each other\, and play for fun! \n Contact: Sofia Lindberg at 070-615 80 22 Questions? Email kontakt@vaniumea.se
URL:https://vaniumea.se/aktivitet/fotboll-for-tjejer-ickebinara-4-copy-copy-copy-copy-copy-2-kopiera-kopiera-2-2/2029-09-30/
LOCATION:Ålidhemshallen\, Humaniststråket 15\, Umeå\, 907 30\, Sverige
CATEGORIES:Utomhusaktivitet,30+,För tjejer och kvinnor,fotboll,sport,ungdomsgrupp
ATTACH;FMTTYPE=image/jpeg:https://media.vaniumea.se/2024/06/fotbolltjejerjuni-e1755780309718.jpeg
END:VEVENT
BEGIN:VEVENT
DTSTART;TZID=Europe/Stockholm:20291004T190000
DTEND;TZID=Europe/Stockholm:20291004T200000
DTSTAMP:20260420T055928
CREATED:20251216T124344Z
LAST-MODIFIED:20260319T113804Z
UID:10007994-1885834800-1885838400@vaniumea.se
SUMMARY:Digitalt språkcafé
DESCRIPTION:Välkommen till vårt digitala språkcafé på torsdagar! Det startar klockan 19.00\, och vi vill gärna att du kommer senast kvart över.\nKlicka på denna länk för att vara med: https://us02web.zoom.us/j/87241111674
URL:https://vaniumea.se/aktivitet/digitalt-sprakcafe-2/2029-10-04/
CATEGORIES:språkcafé
ATTACH;FMTTYPE=image/png:https://media.vaniumea.se/2025/12/Ungdomar-e1773920270807.png
END:VEVENT
BEGIN:VEVENT
DTSTART;TZID=Europe/Stockholm:20291005T190000
DTEND;TZID=Europe/Stockholm:20291005T210000
DTSTAMP:20260420T055928
CREATED:20260331T140419Z
LAST-MODIFIED:20260407T121935Z
UID:10008255-1885921200-1885928400@vaniumea.se
SUMMARY:Fotboll för alla
DESCRIPTION:Välkommen att spela fotboll varje fredag kväll.\n\nAlla är välkomna – du som aldrig spelat och du som spelar varje dag – vi lär oss tillsammans\, hjälper varandra och spelar för att det är kul!\n\nOm du har några frågor\, hör av dig till Trey Jonsson\, 073-098 64 25 eller Sofia Lindberg 070-615 80 22
URL:https://vaniumea.se/aktivitet/fotboll-for-alla-3-copy-copy-2-2-kopiera-3-2/2029-10-05/
LOCATION:Dragonskolan 2.0\, Dragongatan 1\, Umeå\, 903 22
CATEGORIES:30+,För tjejer och kvinnor,fotboll,sport,ungdomsgrupp
ATTACH;FMTTYPE=image/png:https://media.vaniumea.se/2023/08/fotboll.png
END:VEVENT
BEGIN:VEVENT
DTSTART;TZID=Europe/Stockholm:20291007T143000
DTEND;TZID=Europe/Stockholm:20291007T160000
DTSTAMP:20260420T055928
CREATED:20260331T140608Z
LAST-MODIFIED:20260407T121926Z
UID:10008515-1886077800-1886083200@vaniumea.se
SUMMARY:Fotboll för tjejer
DESCRIPTION:Alla tjejer/kvinnor/ickebinära är välkomna att spela fotboll med Vän i Umeå! \nDu kan vara nybörjare och aldrig ha spelat förut – vi lär oss tillsammans\, hjälper varandra och spelar för att det är kul! \n Kontakt: Sofia Lindberg 070-615 80 22 Frågor? Mejla kontakt@vaniumea.se\n––\nAll girls\, women\, and non-binary individuals are welcome to play football with Vän in Umeå! You can be someone who plays football every day\, or a beginner who has never played before – we learn together\, help each other\, and play for fun! \n Contact: Sofia Lindberg at 070-615 80 22 Questions? Email kontakt@vaniumea.se
URL:https://vaniumea.se/aktivitet/fotboll-for-tjejer-ickebinara-4-copy-copy-copy-copy-copy-2-kopiera-kopiera-2-2/2029-10-07/
LOCATION:Ålidhemshallen\, Humaniststråket 15\, Umeå\, 907 30\, Sverige
CATEGORIES:Utomhusaktivitet,30+,För tjejer och kvinnor,fotboll,sport,ungdomsgrupp
ATTACH;FMTTYPE=image/jpeg:https://media.vaniumea.se/2024/06/fotbolltjejerjuni-e1755780309718.jpeg
END:VEVENT
BEGIN:VEVENT
DTSTART;TZID=Europe/Stockholm:20291011T190000
DTEND;TZID=Europe/Stockholm:20291011T200000
DTSTAMP:20260420T055928
CREATED:20251216T124344Z
LAST-MODIFIED:20260319T113804Z
UID:10007995-1886439600-1886443200@vaniumea.se
SUMMARY:Digitalt språkcafé
DESCRIPTION:Välkommen till vårt digitala språkcafé på torsdagar! Det startar klockan 19.00\, och vi vill gärna att du kommer senast kvart över.\nKlicka på denna länk för att vara med: https://us02web.zoom.us/j/87241111674
URL:https://vaniumea.se/aktivitet/digitalt-sprakcafe-2/2029-10-11/
CATEGORIES:språkcafé
ATTACH;FMTTYPE=image/png:https://media.vaniumea.se/2025/12/Ungdomar-e1773920270807.png
END:VEVENT
BEGIN:VEVENT
DTSTART;TZID=Europe/Stockholm:20291012T190000
DTEND;TZID=Europe/Stockholm:20291012T210000
DTSTAMP:20260420T055928
CREATED:20260331T140419Z
LAST-MODIFIED:20260407T121935Z
UID:10008256-1886526000-1886533200@vaniumea.se
SUMMARY:Fotboll för alla
DESCRIPTION:Välkommen att spela fotboll varje fredag kväll.\n\nAlla är välkomna – du som aldrig spelat och du som spelar varje dag – vi lär oss tillsammans\, hjälper varandra och spelar för att det är kul!\n\nOm du har några frågor\, hör av dig till Trey Jonsson\, 073-098 64 25 eller Sofia Lindberg 070-615 80 22
URL:https://vaniumea.se/aktivitet/fotboll-for-alla-3-copy-copy-2-2-kopiera-3-2/2029-10-12/
LOCATION:Dragonskolan 2.0\, Dragongatan 1\, Umeå\, 903 22
CATEGORIES:30+,För tjejer och kvinnor,fotboll,sport,ungdomsgrupp
ATTACH;FMTTYPE=image/png:https://media.vaniumea.se/2023/08/fotboll.png
END:VEVENT
BEGIN:VEVENT
DTSTART;TZID=Europe/Stockholm:20291014T143000
DTEND;TZID=Europe/Stockholm:20291014T160000
DTSTAMP:20260420T055928
CREATED:20260331T140608Z
LAST-MODIFIED:20260407T121926Z
UID:10008516-1886682600-1886688000@vaniumea.se
SUMMARY:Fotboll för tjejer
DESCRIPTION:Alla tjejer/kvinnor/ickebinära är välkomna att spela fotboll med Vän i Umeå! \nDu kan vara nybörjare och aldrig ha spelat förut – vi lär oss tillsammans\, hjälper varandra och spelar för att det är kul! \n Kontakt: Sofia Lindberg 070-615 80 22 Frågor? Mejla kontakt@vaniumea.se\n––\nAll girls\, women\, and non-binary individuals are welcome to play football with Vän in Umeå! You can be someone who plays football every day\, or a beginner who has never played before – we learn together\, help each other\, and play for fun! \n Contact: Sofia Lindberg at 070-615 80 22 Questions? Email kontakt@vaniumea.se
URL:https://vaniumea.se/aktivitet/fotboll-for-tjejer-ickebinara-4-copy-copy-copy-copy-copy-2-kopiera-kopiera-2-2/2029-10-14/
LOCATION:Ålidhemshallen\, Humaniststråket 15\, Umeå\, 907 30\, Sverige
CATEGORIES:Utomhusaktivitet,30+,För tjejer och kvinnor,fotboll,sport,ungdomsgrupp
ATTACH;FMTTYPE=image/jpeg:https://media.vaniumea.se/2024/06/fotbolltjejerjuni-e1755780309718.jpeg
END:VEVENT
BEGIN:VEVENT
DTSTART;TZID=Europe/Stockholm:20291018T190000
DTEND;TZID=Europe/Stockholm:20291018T200000
DTSTAMP:20260420T055928
CREATED:20251216T124344Z
LAST-MODIFIED:20260319T113804Z
UID:10007996-1887044400-1887048000@vaniumea.se
SUMMARY:Digitalt språkcafé
DESCRIPTION:Välkommen till vårt digitala språkcafé på torsdagar! Det startar klockan 19.00\, och vi vill gärna att du kommer senast kvart över.\nKlicka på denna länk för att vara med: https://us02web.zoom.us/j/87241111674
URL:https://vaniumea.se/aktivitet/digitalt-sprakcafe-2/2029-10-18/
CATEGORIES:språkcafé
ATTACH;FMTTYPE=image/png:https://media.vaniumea.se/2025/12/Ungdomar-e1773920270807.png
END:VEVENT
BEGIN:VEVENT
DTSTART;TZID=Europe/Stockholm:20291019T190000
DTEND;TZID=Europe/Stockholm:20291019T210000
DTSTAMP:20260420T055928
CREATED:20260331T140419Z
LAST-MODIFIED:20260407T121935Z
UID:10008257-1887130800-1887138000@vaniumea.se
SUMMARY:Fotboll för alla
DESCRIPTION:Välkommen att spela fotboll varje fredag kväll.\n\nAlla är välkomna – du som aldrig spelat och du som spelar varje dag – vi lär oss tillsammans\, hjälper varandra och spelar för att det är kul!\n\nOm du har några frågor\, hör av dig till Trey Jonsson\, 073-098 64 25 eller Sofia Lindberg 070-615 80 22
URL:https://vaniumea.se/aktivitet/fotboll-for-alla-3-copy-copy-2-2-kopiera-3-2/2029-10-19/
LOCATION:Dragonskolan 2.0\, Dragongatan 1\, Umeå\, 903 22
CATEGORIES:30+,För tjejer och kvinnor,fotboll,sport,ungdomsgrupp
ATTACH;FMTTYPE=image/png:https://media.vaniumea.se/2023/08/fotboll.png
END:VEVENT
BEGIN:VEVENT
DTSTART;TZID=Europe/Stockholm:20291021T143000
DTEND;TZID=Europe/Stockholm:20291021T160000
DTSTAMP:20260420T055928
CREATED:20260331T140608Z
LAST-MODIFIED:20260407T121926Z
UID:10008517-1887287400-1887292800@vaniumea.se
SUMMARY:Fotboll för tjejer
DESCRIPTION:Alla tjejer/kvinnor/ickebinära är välkomna att spela fotboll med Vän i Umeå! \nDu kan vara nybörjare och aldrig ha spelat förut – vi lär oss tillsammans\, hjälper varandra och spelar för att det är kul! \n Kontakt: Sofia Lindberg 070-615 80 22 Frågor? Mejla kontakt@vaniumea.se\n––\nAll girls\, women\, and non-binary individuals are welcome to play football with Vän in Umeå! You can be someone who plays football every day\, or a beginner who has never played before – we learn together\, help each other\, and play for fun! \n Contact: Sofia Lindberg at 070-615 80 22 Questions? Email kontakt@vaniumea.se
URL:https://vaniumea.se/aktivitet/fotboll-for-tjejer-ickebinara-4-copy-copy-copy-copy-copy-2-kopiera-kopiera-2-2/2029-10-21/
LOCATION:Ålidhemshallen\, Humaniststråket 15\, Umeå\, 907 30\, Sverige
CATEGORIES:Utomhusaktivitet,30+,För tjejer och kvinnor,fotboll,sport,ungdomsgrupp
ATTACH;FMTTYPE=image/jpeg:https://media.vaniumea.se/2024/06/fotbolltjejerjuni-e1755780309718.jpeg
END:VEVENT
BEGIN:VEVENT
DTSTART;TZID=Europe/Stockholm:20291025T190000
DTEND;TZID=Europe/Stockholm:20291025T200000
DTSTAMP:20260420T055928
CREATED:20251216T124344Z
LAST-MODIFIED:20260319T113804Z
UID:10007997-1887649200-1887652800@vaniumea.se
SUMMARY:Digitalt språkcafé
DESCRIPTION:Välkommen till vårt digitala språkcafé på torsdagar! Det startar klockan 19.00\, och vi vill gärna att du kommer senast kvart över.\nKlicka på denna länk för att vara med: https://us02web.zoom.us/j/87241111674
URL:https://vaniumea.se/aktivitet/digitalt-sprakcafe-2/2029-10-25/
CATEGORIES:språkcafé
ATTACH;FMTTYPE=image/png:https://media.vaniumea.se/2025/12/Ungdomar-e1773920270807.png
END:VEVENT
BEGIN:VEVENT
DTSTART;TZID=Europe/Stockholm:20291026T190000
DTEND;TZID=Europe/Stockholm:20291026T210000
DTSTAMP:20260420T055928
CREATED:20260331T140419Z
LAST-MODIFIED:20260407T121935Z
UID:10008258-1887735600-1887742800@vaniumea.se
SUMMARY:Fotboll för alla
DESCRIPTION:Välkommen att spela fotboll varje fredag kväll.\n\nAlla är välkomna – du som aldrig spelat och du som spelar varje dag – vi lär oss tillsammans\, hjälper varandra och spelar för att det är kul!\n\nOm du har några frågor\, hör av dig till Trey Jonsson\, 073-098 64 25 eller Sofia Lindberg 070-615 80 22
URL:https://vaniumea.se/aktivitet/fotboll-for-alla-3-copy-copy-2-2-kopiera-3-2/2029-10-26/
LOCATION:Dragonskolan 2.0\, Dragongatan 1\, Umeå\, 903 22
CATEGORIES:30+,För tjejer och kvinnor,fotboll,sport,ungdomsgrupp
ATTACH;FMTTYPE=image/png:https://media.vaniumea.se/2023/08/fotboll.png
END:VEVENT
BEGIN:VEVENT
DTSTART;TZID=Europe/Stockholm:20291028T143000
DTEND;TZID=Europe/Stockholm:20291028T160000
DTSTAMP:20260420T055928
CREATED:20260331T140608Z
LAST-MODIFIED:20260407T121926Z
UID:10008518-1887892200-1887897600@vaniumea.se
SUMMARY:Fotboll för tjejer
DESCRIPTION:Alla tjejer/kvinnor/ickebinära är välkomna att spela fotboll med Vän i Umeå! \nDu kan vara nybörjare och aldrig ha spelat förut – vi lär oss tillsammans\, hjälper varandra och spelar för att det är kul! \n Kontakt: Sofia Lindberg 070-615 80 22 Frågor? Mejla kontakt@vaniumea.se\n––\nAll girls\, women\, and non-binary individuals are welcome to play football with Vän in Umeå! You can be someone who plays football every day\, or a beginner who has never played before – we learn together\, help each other\, and play for fun! \n Contact: Sofia Lindberg at 070-615 80 22 Questions? Email kontakt@vaniumea.se
URL:https://vaniumea.se/aktivitet/fotboll-for-tjejer-ickebinara-4-copy-copy-copy-copy-copy-2-kopiera-kopiera-2-2/2029-10-28/
LOCATION:Ålidhemshallen\, Humaniststråket 15\, Umeå\, 907 30\, Sverige
CATEGORIES:Utomhusaktivitet,30+,För tjejer och kvinnor,fotboll,sport,ungdomsgrupp
ATTACH;FMTTYPE=image/jpeg:https://media.vaniumea.se/2024/06/fotbolltjejerjuni-e1755780309718.jpeg
END:VEVENT
BEGIN:VEVENT
DTSTART;TZID=Europe/Stockholm:20291101T190000
DTEND;TZID=Europe/Stockholm:20291101T200000
DTSTAMP:20260420T055928
CREATED:20251216T124344Z
LAST-MODIFIED:20260319T113804Z
UID:10007998-1888254000-1888257600@vaniumea.se
SUMMARY:Digitalt språkcafé
DESCRIPTION:Välkommen till vårt digitala språkcafé på torsdagar! Det startar klockan 19.00\, och vi vill gärna att du kommer senast kvart över.\nKlicka på denna länk för att vara med: https://us02web.zoom.us/j/87241111674
URL:https://vaniumea.se/aktivitet/digitalt-sprakcafe-2/2029-11-01/
CATEGORIES:språkcafé
ATTACH;FMTTYPE=image/png:https://media.vaniumea.se/2025/12/Ungdomar-e1773920270807.png
END:VEVENT
BEGIN:VEVENT
DTSTART;TZID=Europe/Stockholm:20291102T190000
DTEND;TZID=Europe/Stockholm:20291102T210000
DTSTAMP:20260420T055928
CREATED:20260331T140419Z
LAST-MODIFIED:20260407T121935Z
UID:10008259-1888340400-1888347600@vaniumea.se
SUMMARY:Fotboll för alla
DESCRIPTION:Välkommen att spela fotboll varje fredag kväll.\n\nAlla är välkomna – du som aldrig spelat och du som spelar varje dag – vi lär oss tillsammans\, hjälper varandra och spelar för att det är kul!\n\nOm du har några frågor\, hör av dig till Trey Jonsson\, 073-098 64 25 eller Sofia Lindberg 070-615 80 22
URL:https://vaniumea.se/aktivitet/fotboll-for-alla-3-copy-copy-2-2-kopiera-3-2/2029-11-02/
LOCATION:Dragonskolan 2.0\, Dragongatan 1\, Umeå\, 903 22
CATEGORIES:30+,För tjejer och kvinnor,fotboll,sport,ungdomsgrupp
ATTACH;FMTTYPE=image/png:https://media.vaniumea.se/2023/08/fotboll.png
END:VEVENT
BEGIN:VEVENT
DTSTART;TZID=Europe/Stockholm:20291104T143000
DTEND;TZID=Europe/Stockholm:20291104T160000
DTSTAMP:20260420T055928
CREATED:20260331T140608Z
LAST-MODIFIED:20260407T121926Z
UID:10008519-1888497000-1888502400@vaniumea.se
SUMMARY:Fotboll för tjejer
DESCRIPTION:Alla tjejer/kvinnor/ickebinära är välkomna att spela fotboll med Vän i Umeå! \nDu kan vara nybörjare och aldrig ha spelat förut – vi lär oss tillsammans\, hjälper varandra och spelar för att det är kul! \n Kontakt: Sofia Lindberg 070-615 80 22 Frågor? Mejla kontakt@vaniumea.se\n––\nAll girls\, women\, and non-binary individuals are welcome to play football with Vän in Umeå! You can be someone who plays football every day\, or a beginner who has never played before – we learn together\, help each other\, and play for fun! \n Contact: Sofia Lindberg at 070-615 80 22 Questions? Email kontakt@vaniumea.se
URL:https://vaniumea.se/aktivitet/fotboll-for-tjejer-ickebinara-4-copy-copy-copy-copy-copy-2-kopiera-kopiera-2-2/2029-11-04/
LOCATION:Ålidhemshallen\, Humaniststråket 15\, Umeå\, 907 30\, Sverige
CATEGORIES:Utomhusaktivitet,30+,För tjejer och kvinnor,fotboll,sport,ungdomsgrupp
ATTACH;FMTTYPE=image/jpeg:https://media.vaniumea.se/2024/06/fotbolltjejerjuni-e1755780309718.jpeg
END:VEVENT
BEGIN:VEVENT
DTSTART;TZID=Europe/Stockholm:20291108T190000
DTEND;TZID=Europe/Stockholm:20291108T200000
DTSTAMP:20260420T055928
CREATED:20251216T124344Z
LAST-MODIFIED:20260319T113804Z
UID:10007999-1888858800-1888862400@vaniumea.se
SUMMARY:Digitalt språkcafé
DESCRIPTION:Välkommen till vårt digitala språkcafé på torsdagar! Det startar klockan 19.00\, och vi vill gärna att du kommer senast kvart över.\nKlicka på denna länk för att vara med: https://us02web.zoom.us/j/87241111674
URL:https://vaniumea.se/aktivitet/digitalt-sprakcafe-2/2029-11-08/
CATEGORIES:språkcafé
ATTACH;FMTTYPE=image/png:https://media.vaniumea.se/2025/12/Ungdomar-e1773920270807.png
END:VEVENT
END:VCALENDAR