BEGIN:VCALENDAR
VERSION:2.0
PRODID:-//Vän i Umeå - ECPv6.15.20//NONSGML v1.0//EN
CALSCALE:GREGORIAN
METHOD:PUBLISH
X-ORIGINAL-URL:https://vaniumea.se
X-WR-CALDESC:Händelser för Vän i Umeå
REFRESH-INTERVAL;VALUE=DURATION:PT1H
X-Robots-Tag:noindex
X-PUBLISHED-TTL:PT1H
BEGIN:VTIMEZONE
TZID:Europe/Stockholm
BEGIN:DAYLIGHT
TZOFFSETFROM:+0100
TZOFFSETTO:+0200
TZNAME:CEST
DTSTART:20290325T010000
END:DAYLIGHT
BEGIN:STANDARD
TZOFFSETFROM:+0200
TZOFFSETTO:+0100
TZNAME:CET
DTSTART:20291028T010000
END:STANDARD
BEGIN:DAYLIGHT
TZOFFSETFROM:+0100
TZOFFSETTO:+0200
TZNAME:CEST
DTSTART:20300331T010000
END:DAYLIGHT
BEGIN:STANDARD
TZOFFSETFROM:+0200
TZOFFSETTO:+0100
TZNAME:CET
DTSTART:20301027T010000
END:STANDARD
BEGIN:DAYLIGHT
TZOFFSETFROM:+0100
TZOFFSETTO:+0200
TZNAME:CEST
DTSTART:20310330T010000
END:DAYLIGHT
BEGIN:STANDARD
TZOFFSETFROM:+0200
TZOFFSETTO:+0100
TZNAME:CET
DTSTART:20311026T010000
END:STANDARD
END:VTIMEZONE
BEGIN:VEVENT
DTSTART;TZID=Europe/Stockholm:20300421T143000
DTEND;TZID=Europe/Stockholm:20300421T160000
DTSTAMP:20260424T123259
CREATED:20260423T091043Z
LAST-MODIFIED:20260423T091044Z
UID:10008543-1903012200-1903017600@vaniumea.se
SUMMARY:Fotboll för tjejer
DESCRIPTION:Alla tjejer/kvinnor/ickebinära är välkomna att spela fotboll med Vän i Umeå! \nDu kan vara nybörjare och aldrig ha spelat förut – vi lär oss tillsammans\, hjälper varandra och spelar för att det är kul! \n Kontakt: Sofia Lindberg 070-615 80 22 Frågor? Mejla kontakt@vaniumea.se\n––\nAll girls\, women\, and non-binary individuals are welcome to play football with Vän in Umeå! You can be someone who plays football every day\, or a beginner who has never played before – we learn together\, help each other\, and play for fun! \n Contact: Sofia Lindberg at 070-615 80 22 Questions? Email kontakt@vaniumea.se
URL:https://vaniumea.se/aktivitet/fotboll-for-tjejer-ickebinara-4-copy-copy-copy-copy-copy-2-kopiera-kopiera-2-2-2/2030-04-21/
LOCATION:Campus Arena\, Campus arena\, Umeå\, 90736\, Sverige
CATEGORIES:Utomhusaktivitet,30+,För tjejer och kvinnor,fotboll,sport,ungdomsgrupp
ATTACH;FMTTYPE=image/jpeg:https://media.vaniumea.se/2023/05/fotboll-new-size-scaled.jpg
END:VEVENT
BEGIN:VEVENT
DTSTART;TZID=Europe/Stockholm:20300425T190000
DTEND;TZID=Europe/Stockholm:20300425T200000
DTSTAMP:20260424T123259
CREATED:20251216T124344Z
LAST-MODIFIED:20260319T113804Z
UID:10008023-1903374000-1903377600@vaniumea.se
SUMMARY:Digitalt språkcafé
DESCRIPTION:Välkommen till vårt digitala språkcafé på torsdagar! Det startar klockan 19.00\, och vi vill gärna att du kommer senast kvart över.\nKlicka på denna länk för att vara med: https://us02web.zoom.us/j/87241111674
URL:https://vaniumea.se/aktivitet/digitalt-sprakcafe-2/2030-04-25/
CATEGORIES:språkcafé
ATTACH;FMTTYPE=image/png:https://media.vaniumea.se/2025/12/Ungdomar-e1773920270807.png
END:VEVENT
BEGIN:VEVENT
DTSTART;TZID=Europe/Stockholm:20300426T190000
DTEND;TZID=Europe/Stockholm:20300426T210000
DTSTAMP:20260424T123259
CREATED:20260423T090950Z
LAST-MODIFIED:20260423T090951Z
UID:10008284-1903460400-1903467600@vaniumea.se
SUMMARY:Fotboll för alla
DESCRIPTION:Välkommen att spela fotboll varje fredag kväll.\n\nAlla är välkomna – du som aldrig spelat och du som spelar varje dag – vi lär oss tillsammans\, hjälper varandra och spelar för att det är kul!\n\nOm du har några frågor\, hör av dig till Trey Jonsson\, 073-098 64 25 eller Sofia Lindberg 070-615 80 22
URL:https://vaniumea.se/aktivitet/fotboll-for-alla-3-copy-copy-2-2-kopiera-3-2-2/2030-04-26/
LOCATION:Minervaskolans utomhusplan\, Nygatan 47\, Umeå
CATEGORIES:30+,För tjejer och kvinnor,fotboll,sport,ungdomsgrupp
ATTACH;FMTTYPE=image/jpeg:https://media.vaniumea.se/2023/05/fotboll-new-size-scaled.jpg
END:VEVENT
BEGIN:VEVENT
DTSTART;TZID=Europe/Stockholm:20300428T143000
DTEND;TZID=Europe/Stockholm:20300428T160000
DTSTAMP:20260424T123259
CREATED:20260423T091043Z
LAST-MODIFIED:20260423T091044Z
UID:10008544-1903617000-1903622400@vaniumea.se
SUMMARY:Fotboll för tjejer
DESCRIPTION:Alla tjejer/kvinnor/ickebinära är välkomna att spela fotboll med Vän i Umeå! \nDu kan vara nybörjare och aldrig ha spelat förut – vi lär oss tillsammans\, hjälper varandra och spelar för att det är kul! \n Kontakt: Sofia Lindberg 070-615 80 22 Frågor? Mejla kontakt@vaniumea.se\n––\nAll girls\, women\, and non-binary individuals are welcome to play football with Vän in Umeå! You can be someone who plays football every day\, or a beginner who has never played before – we learn together\, help each other\, and play for fun! \n Contact: Sofia Lindberg at 070-615 80 22 Questions? Email kontakt@vaniumea.se
URL:https://vaniumea.se/aktivitet/fotboll-for-tjejer-ickebinara-4-copy-copy-copy-copy-copy-2-kopiera-kopiera-2-2-2/2030-04-28/
LOCATION:Campus Arena\, Campus arena\, Umeå\, 90736\, Sverige
CATEGORIES:Utomhusaktivitet,30+,För tjejer och kvinnor,fotboll,sport,ungdomsgrupp
ATTACH;FMTTYPE=image/jpeg:https://media.vaniumea.se/2023/05/fotboll-new-size-scaled.jpg
END:VEVENT
BEGIN:VEVENT
DTSTART;TZID=Europe/Stockholm:20300502T190000
DTEND;TZID=Europe/Stockholm:20300502T200000
DTSTAMP:20260424T123259
CREATED:20251216T124344Z
LAST-MODIFIED:20260319T113804Z
UID:10008024-1903978800-1903982400@vaniumea.se
SUMMARY:Digitalt språkcafé
DESCRIPTION:Välkommen till vårt digitala språkcafé på torsdagar! Det startar klockan 19.00\, och vi vill gärna att du kommer senast kvart över.\nKlicka på denna länk för att vara med: https://us02web.zoom.us/j/87241111674
URL:https://vaniumea.se/aktivitet/digitalt-sprakcafe-2/2030-05-02/
CATEGORIES:språkcafé
ATTACH;FMTTYPE=image/png:https://media.vaniumea.se/2025/12/Ungdomar-e1773920270807.png
END:VEVENT
BEGIN:VEVENT
DTSTART;TZID=Europe/Stockholm:20300503T190000
DTEND;TZID=Europe/Stockholm:20300503T210000
DTSTAMP:20260424T123259
CREATED:20260423T090950Z
LAST-MODIFIED:20260423T090951Z
UID:10008285-1904065200-1904072400@vaniumea.se
SUMMARY:Fotboll för alla
DESCRIPTION:Välkommen att spela fotboll varje fredag kväll.\n\nAlla är välkomna – du som aldrig spelat och du som spelar varje dag – vi lär oss tillsammans\, hjälper varandra och spelar för att det är kul!\n\nOm du har några frågor\, hör av dig till Trey Jonsson\, 073-098 64 25 eller Sofia Lindberg 070-615 80 22
URL:https://vaniumea.se/aktivitet/fotboll-for-alla-3-copy-copy-2-2-kopiera-3-2-2/2030-05-03/
LOCATION:Minervaskolans utomhusplan\, Nygatan 47\, Umeå
CATEGORIES:30+,För tjejer och kvinnor,fotboll,sport,ungdomsgrupp
ATTACH;FMTTYPE=image/jpeg:https://media.vaniumea.se/2023/05/fotboll-new-size-scaled.jpg
END:VEVENT
BEGIN:VEVENT
DTSTART;TZID=Europe/Stockholm:20300505T143000
DTEND;TZID=Europe/Stockholm:20300505T160000
DTSTAMP:20260424T123259
CREATED:20260423T091043Z
LAST-MODIFIED:20260423T091044Z
UID:10008545-1904221800-1904227200@vaniumea.se
SUMMARY:Fotboll för tjejer
DESCRIPTION:Alla tjejer/kvinnor/ickebinära är välkomna att spela fotboll med Vän i Umeå! \nDu kan vara nybörjare och aldrig ha spelat förut – vi lär oss tillsammans\, hjälper varandra och spelar för att det är kul! \n Kontakt: Sofia Lindberg 070-615 80 22 Frågor? Mejla kontakt@vaniumea.se\n––\nAll girls\, women\, and non-binary individuals are welcome to play football with Vän in Umeå! You can be someone who plays football every day\, or a beginner who has never played before – we learn together\, help each other\, and play for fun! \n Contact: Sofia Lindberg at 070-615 80 22 Questions? Email kontakt@vaniumea.se
URL:https://vaniumea.se/aktivitet/fotboll-for-tjejer-ickebinara-4-copy-copy-copy-copy-copy-2-kopiera-kopiera-2-2-2/2030-05-05/
LOCATION:Campus Arena\, Campus arena\, Umeå\, 90736\, Sverige
CATEGORIES:Utomhusaktivitet,30+,För tjejer och kvinnor,fotboll,sport,ungdomsgrupp
ATTACH;FMTTYPE=image/jpeg:https://media.vaniumea.se/2023/05/fotboll-new-size-scaled.jpg
END:VEVENT
BEGIN:VEVENT
DTSTART;TZID=Europe/Stockholm:20300509T190000
DTEND;TZID=Europe/Stockholm:20300509T200000
DTSTAMP:20260424T123259
CREATED:20251216T124344Z
LAST-MODIFIED:20260319T113804Z
UID:10008025-1904583600-1904587200@vaniumea.se
SUMMARY:Digitalt språkcafé
DESCRIPTION:Välkommen till vårt digitala språkcafé på torsdagar! Det startar klockan 19.00\, och vi vill gärna att du kommer senast kvart över.\nKlicka på denna länk för att vara med: https://us02web.zoom.us/j/87241111674
URL:https://vaniumea.se/aktivitet/digitalt-sprakcafe-2/2030-05-09/
CATEGORIES:språkcafé
ATTACH;FMTTYPE=image/png:https://media.vaniumea.se/2025/12/Ungdomar-e1773920270807.png
END:VEVENT
BEGIN:VEVENT
DTSTART;TZID=Europe/Stockholm:20300510T190000
DTEND;TZID=Europe/Stockholm:20300510T210000
DTSTAMP:20260424T123259
CREATED:20260423T090950Z
LAST-MODIFIED:20260423T090951Z
UID:10008286-1904670000-1904677200@vaniumea.se
SUMMARY:Fotboll för alla
DESCRIPTION:Välkommen att spela fotboll varje fredag kväll.\n\nAlla är välkomna – du som aldrig spelat och du som spelar varje dag – vi lär oss tillsammans\, hjälper varandra och spelar för att det är kul!\n\nOm du har några frågor\, hör av dig till Trey Jonsson\, 073-098 64 25 eller Sofia Lindberg 070-615 80 22
URL:https://vaniumea.se/aktivitet/fotboll-for-alla-3-copy-copy-2-2-kopiera-3-2-2/2030-05-10/
LOCATION:Minervaskolans utomhusplan\, Nygatan 47\, Umeå
CATEGORIES:30+,För tjejer och kvinnor,fotboll,sport,ungdomsgrupp
ATTACH;FMTTYPE=image/jpeg:https://media.vaniumea.se/2023/05/fotboll-new-size-scaled.jpg
END:VEVENT
BEGIN:VEVENT
DTSTART;TZID=Europe/Stockholm:20300512T143000
DTEND;TZID=Europe/Stockholm:20300512T160000
DTSTAMP:20260424T123259
CREATED:20260423T091043Z
LAST-MODIFIED:20260423T091044Z
UID:10008546-1904826600-1904832000@vaniumea.se
SUMMARY:Fotboll för tjejer
DESCRIPTION:Alla tjejer/kvinnor/ickebinära är välkomna att spela fotboll med Vän i Umeå! \nDu kan vara nybörjare och aldrig ha spelat förut – vi lär oss tillsammans\, hjälper varandra och spelar för att det är kul! \n Kontakt: Sofia Lindberg 070-615 80 22 Frågor? Mejla kontakt@vaniumea.se\n––\nAll girls\, women\, and non-binary individuals are welcome to play football with Vän in Umeå! You can be someone who plays football every day\, or a beginner who has never played before – we learn together\, help each other\, and play for fun! \n Contact: Sofia Lindberg at 070-615 80 22 Questions? Email kontakt@vaniumea.se
URL:https://vaniumea.se/aktivitet/fotboll-for-tjejer-ickebinara-4-copy-copy-copy-copy-copy-2-kopiera-kopiera-2-2-2/2030-05-12/
LOCATION:Campus Arena\, Campus arena\, Umeå\, 90736\, Sverige
CATEGORIES:Utomhusaktivitet,30+,För tjejer och kvinnor,fotboll,sport,ungdomsgrupp
ATTACH;FMTTYPE=image/jpeg:https://media.vaniumea.se/2023/05/fotboll-new-size-scaled.jpg
END:VEVENT
BEGIN:VEVENT
DTSTART;TZID=Europe/Stockholm:20300516T190000
DTEND;TZID=Europe/Stockholm:20300516T200000
DTSTAMP:20260424T123259
CREATED:20251216T124344Z
LAST-MODIFIED:20260319T113804Z
UID:10008026-1905188400-1905192000@vaniumea.se
SUMMARY:Digitalt språkcafé
DESCRIPTION:Välkommen till vårt digitala språkcafé på torsdagar! Det startar klockan 19.00\, och vi vill gärna att du kommer senast kvart över.\nKlicka på denna länk för att vara med: https://us02web.zoom.us/j/87241111674
URL:https://vaniumea.se/aktivitet/digitalt-sprakcafe-2/2030-05-16/
CATEGORIES:språkcafé
ATTACH;FMTTYPE=image/png:https://media.vaniumea.se/2025/12/Ungdomar-e1773920270807.png
END:VEVENT
BEGIN:VEVENT
DTSTART;TZID=Europe/Stockholm:20300517T190000
DTEND;TZID=Europe/Stockholm:20300517T210000
DTSTAMP:20260424T123259
CREATED:20260423T090950Z
LAST-MODIFIED:20260423T090951Z
UID:10008287-1905274800-1905282000@vaniumea.se
SUMMARY:Fotboll för alla
DESCRIPTION:Välkommen att spela fotboll varje fredag kväll.\n\nAlla är välkomna – du som aldrig spelat och du som spelar varje dag – vi lär oss tillsammans\, hjälper varandra och spelar för att det är kul!\n\nOm du har några frågor\, hör av dig till Trey Jonsson\, 073-098 64 25 eller Sofia Lindberg 070-615 80 22
URL:https://vaniumea.se/aktivitet/fotboll-for-alla-3-copy-copy-2-2-kopiera-3-2-2/2030-05-17/
LOCATION:Minervaskolans utomhusplan\, Nygatan 47\, Umeå
CATEGORIES:30+,För tjejer och kvinnor,fotboll,sport,ungdomsgrupp
ATTACH;FMTTYPE=image/jpeg:https://media.vaniumea.se/2023/05/fotboll-new-size-scaled.jpg
END:VEVENT
BEGIN:VEVENT
DTSTART;TZID=Europe/Stockholm:20300519T143000
DTEND;TZID=Europe/Stockholm:20300519T160000
DTSTAMP:20260424T123259
CREATED:20260423T091043Z
LAST-MODIFIED:20260423T091044Z
UID:10008547-1905431400-1905436800@vaniumea.se
SUMMARY:Fotboll för tjejer
DESCRIPTION:Alla tjejer/kvinnor/ickebinära är välkomna att spela fotboll med Vän i Umeå! \nDu kan vara nybörjare och aldrig ha spelat förut – vi lär oss tillsammans\, hjälper varandra och spelar för att det är kul! \n Kontakt: Sofia Lindberg 070-615 80 22 Frågor? Mejla kontakt@vaniumea.se\n––\nAll girls\, women\, and non-binary individuals are welcome to play football with Vän in Umeå! You can be someone who plays football every day\, or a beginner who has never played before – we learn together\, help each other\, and play for fun! \n Contact: Sofia Lindberg at 070-615 80 22 Questions? Email kontakt@vaniumea.se
URL:https://vaniumea.se/aktivitet/fotboll-for-tjejer-ickebinara-4-copy-copy-copy-copy-copy-2-kopiera-kopiera-2-2-2/2030-05-19/
LOCATION:Campus Arena\, Campus arena\, Umeå\, 90736\, Sverige
CATEGORIES:Utomhusaktivitet,30+,För tjejer och kvinnor,fotboll,sport,ungdomsgrupp
ATTACH;FMTTYPE=image/jpeg:https://media.vaniumea.se/2023/05/fotboll-new-size-scaled.jpg
END:VEVENT
BEGIN:VEVENT
DTSTART;TZID=Europe/Stockholm:20300523T190000
DTEND;TZID=Europe/Stockholm:20300523T200000
DTSTAMP:20260424T123259
CREATED:20251216T124344Z
LAST-MODIFIED:20260319T113804Z
UID:10008027-1905793200-1905796800@vaniumea.se
SUMMARY:Digitalt språkcafé
DESCRIPTION:Välkommen till vårt digitala språkcafé på torsdagar! Det startar klockan 19.00\, och vi vill gärna att du kommer senast kvart över.\nKlicka på denna länk för att vara med: https://us02web.zoom.us/j/87241111674
URL:https://vaniumea.se/aktivitet/digitalt-sprakcafe-2/2030-05-23/
CATEGORIES:språkcafé
ATTACH;FMTTYPE=image/png:https://media.vaniumea.se/2025/12/Ungdomar-e1773920270807.png
END:VEVENT
BEGIN:VEVENT
DTSTART;TZID=Europe/Stockholm:20300524T190000
DTEND;TZID=Europe/Stockholm:20300524T210000
DTSTAMP:20260424T123259
CREATED:20260423T090950Z
LAST-MODIFIED:20260423T090951Z
UID:10008288-1905879600-1905886800@vaniumea.se
SUMMARY:Fotboll för alla
DESCRIPTION:Välkommen att spela fotboll varje fredag kväll.\n\nAlla är välkomna – du som aldrig spelat och du som spelar varje dag – vi lär oss tillsammans\, hjälper varandra och spelar för att det är kul!\n\nOm du har några frågor\, hör av dig till Trey Jonsson\, 073-098 64 25 eller Sofia Lindberg 070-615 80 22
URL:https://vaniumea.se/aktivitet/fotboll-for-alla-3-copy-copy-2-2-kopiera-3-2-2/2030-05-24/
LOCATION:Minervaskolans utomhusplan\, Nygatan 47\, Umeå
CATEGORIES:30+,För tjejer och kvinnor,fotboll,sport,ungdomsgrupp
ATTACH;FMTTYPE=image/jpeg:https://media.vaniumea.se/2023/05/fotboll-new-size-scaled.jpg
END:VEVENT
BEGIN:VEVENT
DTSTART;TZID=Europe/Stockholm:20300526T143000
DTEND;TZID=Europe/Stockholm:20300526T160000
DTSTAMP:20260424T123259
CREATED:20260423T091043Z
LAST-MODIFIED:20260423T091044Z
UID:10008548-1906036200-1906041600@vaniumea.se
SUMMARY:Fotboll för tjejer
DESCRIPTION:Alla tjejer/kvinnor/ickebinära är välkomna att spela fotboll med Vän i Umeå! \nDu kan vara nybörjare och aldrig ha spelat förut – vi lär oss tillsammans\, hjälper varandra och spelar för att det är kul! \n Kontakt: Sofia Lindberg 070-615 80 22 Frågor? Mejla kontakt@vaniumea.se\n––\nAll girls\, women\, and non-binary individuals are welcome to play football with Vän in Umeå! You can be someone who plays football every day\, or a beginner who has never played before – we learn together\, help each other\, and play for fun! \n Contact: Sofia Lindberg at 070-615 80 22 Questions? Email kontakt@vaniumea.se
URL:https://vaniumea.se/aktivitet/fotboll-for-tjejer-ickebinara-4-copy-copy-copy-copy-copy-2-kopiera-kopiera-2-2-2/2030-05-26/
LOCATION:Campus Arena\, Campus arena\, Umeå\, 90736\, Sverige
CATEGORIES:Utomhusaktivitet,30+,För tjejer och kvinnor,fotboll,sport,ungdomsgrupp
ATTACH;FMTTYPE=image/jpeg:https://media.vaniumea.se/2023/05/fotboll-new-size-scaled.jpg
END:VEVENT
BEGIN:VEVENT
DTSTART;TZID=Europe/Stockholm:20300530T190000
DTEND;TZID=Europe/Stockholm:20300530T200000
DTSTAMP:20260424T123259
CREATED:20251216T124344Z
LAST-MODIFIED:20260319T113804Z
UID:10008028-1906398000-1906401600@vaniumea.se
SUMMARY:Digitalt språkcafé
DESCRIPTION:Välkommen till vårt digitala språkcafé på torsdagar! Det startar klockan 19.00\, och vi vill gärna att du kommer senast kvart över.\nKlicka på denna länk för att vara med: https://us02web.zoom.us/j/87241111674
URL:https://vaniumea.se/aktivitet/digitalt-sprakcafe-2/2030-05-30/
CATEGORIES:språkcafé
ATTACH;FMTTYPE=image/png:https://media.vaniumea.se/2025/12/Ungdomar-e1773920270807.png
END:VEVENT
BEGIN:VEVENT
DTSTART;TZID=Europe/Stockholm:20300531T190000
DTEND;TZID=Europe/Stockholm:20300531T210000
DTSTAMP:20260424T123259
CREATED:20260423T090950Z
LAST-MODIFIED:20260423T090951Z
UID:10008289-1906484400-1906491600@vaniumea.se
SUMMARY:Fotboll för alla
DESCRIPTION:Välkommen att spela fotboll varje fredag kväll.\n\nAlla är välkomna – du som aldrig spelat och du som spelar varje dag – vi lär oss tillsammans\, hjälper varandra och spelar för att det är kul!\n\nOm du har några frågor\, hör av dig till Trey Jonsson\, 073-098 64 25 eller Sofia Lindberg 070-615 80 22
URL:https://vaniumea.se/aktivitet/fotboll-for-alla-3-copy-copy-2-2-kopiera-3-2-2/2030-05-31/
LOCATION:Minervaskolans utomhusplan\, Nygatan 47\, Umeå
CATEGORIES:30+,För tjejer och kvinnor,fotboll,sport,ungdomsgrupp
ATTACH;FMTTYPE=image/jpeg:https://media.vaniumea.se/2023/05/fotboll-new-size-scaled.jpg
END:VEVENT
BEGIN:VEVENT
DTSTART;TZID=Europe/Stockholm:20300602T143000
DTEND;TZID=Europe/Stockholm:20300602T160000
DTSTAMP:20260424T123259
CREATED:20260423T091043Z
LAST-MODIFIED:20260423T091044Z
UID:10008549-1906641000-1906646400@vaniumea.se
SUMMARY:Fotboll för tjejer
DESCRIPTION:Alla tjejer/kvinnor/ickebinära är välkomna att spela fotboll med Vän i Umeå! \nDu kan vara nybörjare och aldrig ha spelat förut – vi lär oss tillsammans\, hjälper varandra och spelar för att det är kul! \n Kontakt: Sofia Lindberg 070-615 80 22 Frågor? Mejla kontakt@vaniumea.se\n––\nAll girls\, women\, and non-binary individuals are welcome to play football with Vän in Umeå! You can be someone who plays football every day\, or a beginner who has never played before – we learn together\, help each other\, and play for fun! \n Contact: Sofia Lindberg at 070-615 80 22 Questions? Email kontakt@vaniumea.se
URL:https://vaniumea.se/aktivitet/fotboll-for-tjejer-ickebinara-4-copy-copy-copy-copy-copy-2-kopiera-kopiera-2-2-2/2030-06-02/
LOCATION:Campus Arena\, Campus arena\, Umeå\, 90736\, Sverige
CATEGORIES:Utomhusaktivitet,30+,För tjejer och kvinnor,fotboll,sport,ungdomsgrupp
ATTACH;FMTTYPE=image/jpeg:https://media.vaniumea.se/2023/05/fotboll-new-size-scaled.jpg
END:VEVENT
BEGIN:VEVENT
DTSTART;TZID=Europe/Stockholm:20300606T190000
DTEND;TZID=Europe/Stockholm:20300606T200000
DTSTAMP:20260424T123259
CREATED:20251216T124344Z
LAST-MODIFIED:20260319T113804Z
UID:10008029-1907002800-1907006400@vaniumea.se
SUMMARY:Digitalt språkcafé
DESCRIPTION:Välkommen till vårt digitala språkcafé på torsdagar! Det startar klockan 19.00\, och vi vill gärna att du kommer senast kvart över.\nKlicka på denna länk för att vara med: https://us02web.zoom.us/j/87241111674
URL:https://vaniumea.se/aktivitet/digitalt-sprakcafe-2/2030-06-06/
CATEGORIES:språkcafé
ATTACH;FMTTYPE=image/png:https://media.vaniumea.se/2025/12/Ungdomar-e1773920270807.png
END:VEVENT
BEGIN:VEVENT
DTSTART;TZID=Europe/Stockholm:20300607T190000
DTEND;TZID=Europe/Stockholm:20300607T210000
DTSTAMP:20260424T123259
CREATED:20260423T090950Z
LAST-MODIFIED:20260423T090951Z
UID:10008290-1907089200-1907096400@vaniumea.se
SUMMARY:Fotboll för alla
DESCRIPTION:Välkommen att spela fotboll varje fredag kväll.\n\nAlla är välkomna – du som aldrig spelat och du som spelar varje dag – vi lär oss tillsammans\, hjälper varandra och spelar för att det är kul!\n\nOm du har några frågor\, hör av dig till Trey Jonsson\, 073-098 64 25 eller Sofia Lindberg 070-615 80 22
URL:https://vaniumea.se/aktivitet/fotboll-for-alla-3-copy-copy-2-2-kopiera-3-2-2/2030-06-07/
LOCATION:Minervaskolans utomhusplan\, Nygatan 47\, Umeå
CATEGORIES:30+,För tjejer och kvinnor,fotboll,sport,ungdomsgrupp
ATTACH;FMTTYPE=image/jpeg:https://media.vaniumea.se/2023/05/fotboll-new-size-scaled.jpg
END:VEVENT
BEGIN:VEVENT
DTSTART;TZID=Europe/Stockholm:20300609T143000
DTEND;TZID=Europe/Stockholm:20300609T160000
DTSTAMP:20260424T123259
CREATED:20260423T091043Z
LAST-MODIFIED:20260423T091044Z
UID:10008550-1907245800-1907251200@vaniumea.se
SUMMARY:Fotboll för tjejer
DESCRIPTION:Alla tjejer/kvinnor/ickebinära är välkomna att spela fotboll med Vän i Umeå! \nDu kan vara nybörjare och aldrig ha spelat förut – vi lär oss tillsammans\, hjälper varandra och spelar för att det är kul! \n Kontakt: Sofia Lindberg 070-615 80 22 Frågor? Mejla kontakt@vaniumea.se\n––\nAll girls\, women\, and non-binary individuals are welcome to play football with Vän in Umeå! You can be someone who plays football every day\, or a beginner who has never played before – we learn together\, help each other\, and play for fun! \n Contact: Sofia Lindberg at 070-615 80 22 Questions? Email kontakt@vaniumea.se
URL:https://vaniumea.se/aktivitet/fotboll-for-tjejer-ickebinara-4-copy-copy-copy-copy-copy-2-kopiera-kopiera-2-2-2/2030-06-09/
LOCATION:Campus Arena\, Campus arena\, Umeå\, 90736\, Sverige
CATEGORIES:Utomhusaktivitet,30+,För tjejer och kvinnor,fotboll,sport,ungdomsgrupp
ATTACH;FMTTYPE=image/jpeg:https://media.vaniumea.se/2023/05/fotboll-new-size-scaled.jpg
END:VEVENT
BEGIN:VEVENT
DTSTART;TZID=Europe/Stockholm:20300613T190000
DTEND;TZID=Europe/Stockholm:20300613T200000
DTSTAMP:20260424T123259
CREATED:20251216T124344Z
LAST-MODIFIED:20260319T113804Z
UID:10008030-1907607600-1907611200@vaniumea.se
SUMMARY:Digitalt språkcafé
DESCRIPTION:Välkommen till vårt digitala språkcafé på torsdagar! Det startar klockan 19.00\, och vi vill gärna att du kommer senast kvart över.\nKlicka på denna länk för att vara med: https://us02web.zoom.us/j/87241111674
URL:https://vaniumea.se/aktivitet/digitalt-sprakcafe-2/2030-06-13/
CATEGORIES:språkcafé
ATTACH;FMTTYPE=image/png:https://media.vaniumea.se/2025/12/Ungdomar-e1773920270807.png
END:VEVENT
BEGIN:VEVENT
DTSTART;TZID=Europe/Stockholm:20300614T190000
DTEND;TZID=Europe/Stockholm:20300614T210000
DTSTAMP:20260424T123259
CREATED:20260423T090950Z
LAST-MODIFIED:20260423T090951Z
UID:10008291-1907694000-1907701200@vaniumea.se
SUMMARY:Fotboll för alla
DESCRIPTION:Välkommen att spela fotboll varje fredag kväll.\n\nAlla är välkomna – du som aldrig spelat och du som spelar varje dag – vi lär oss tillsammans\, hjälper varandra och spelar för att det är kul!\n\nOm du har några frågor\, hör av dig till Trey Jonsson\, 073-098 64 25 eller Sofia Lindberg 070-615 80 22
URL:https://vaniumea.se/aktivitet/fotboll-for-alla-3-copy-copy-2-2-kopiera-3-2-2/2030-06-14/
LOCATION:Minervaskolans utomhusplan\, Nygatan 47\, Umeå
CATEGORIES:30+,För tjejer och kvinnor,fotboll,sport,ungdomsgrupp
ATTACH;FMTTYPE=image/jpeg:https://media.vaniumea.se/2023/05/fotboll-new-size-scaled.jpg
END:VEVENT
BEGIN:VEVENT
DTSTART;TZID=Europe/Stockholm:20300616T143000
DTEND;TZID=Europe/Stockholm:20300616T160000
DTSTAMP:20260424T123259
CREATED:20260423T091043Z
LAST-MODIFIED:20260423T091044Z
UID:10008551-1907850600-1907856000@vaniumea.se
SUMMARY:Fotboll för tjejer
DESCRIPTION:Alla tjejer/kvinnor/ickebinära är välkomna att spela fotboll med Vän i Umeå! \nDu kan vara nybörjare och aldrig ha spelat förut – vi lär oss tillsammans\, hjälper varandra och spelar för att det är kul! \n Kontakt: Sofia Lindberg 070-615 80 22 Frågor? Mejla kontakt@vaniumea.se\n––\nAll girls\, women\, and non-binary individuals are welcome to play football with Vän in Umeå! You can be someone who plays football every day\, or a beginner who has never played before – we learn together\, help each other\, and play for fun! \n Contact: Sofia Lindberg at 070-615 80 22 Questions? Email kontakt@vaniumea.se
URL:https://vaniumea.se/aktivitet/fotboll-for-tjejer-ickebinara-4-copy-copy-copy-copy-copy-2-kopiera-kopiera-2-2-2/2030-06-16/
LOCATION:Campus Arena\, Campus arena\, Umeå\, 90736\, Sverige
CATEGORIES:Utomhusaktivitet,30+,För tjejer och kvinnor,fotboll,sport,ungdomsgrupp
ATTACH;FMTTYPE=image/jpeg:https://media.vaniumea.se/2023/05/fotboll-new-size-scaled.jpg
END:VEVENT
BEGIN:VEVENT
DTSTART;TZID=Europe/Stockholm:20300620T190000
DTEND;TZID=Europe/Stockholm:20300620T200000
DTSTAMP:20260424T123259
CREATED:20251216T124344Z
LAST-MODIFIED:20260319T113804Z
UID:10008031-1908212400-1908216000@vaniumea.se
SUMMARY:Digitalt språkcafé
DESCRIPTION:Välkommen till vårt digitala språkcafé på torsdagar! Det startar klockan 19.00\, och vi vill gärna att du kommer senast kvart över.\nKlicka på denna länk för att vara med: https://us02web.zoom.us/j/87241111674
URL:https://vaniumea.se/aktivitet/digitalt-sprakcafe-2/2030-06-20/
CATEGORIES:språkcafé
ATTACH;FMTTYPE=image/png:https://media.vaniumea.se/2025/12/Ungdomar-e1773920270807.png
END:VEVENT
BEGIN:VEVENT
DTSTART;TZID=Europe/Stockholm:20300621T190000
DTEND;TZID=Europe/Stockholm:20300621T210000
DTSTAMP:20260424T123259
CREATED:20260423T090950Z
LAST-MODIFIED:20260423T090951Z
UID:10008292-1908298800-1908306000@vaniumea.se
SUMMARY:Fotboll för alla
DESCRIPTION:Välkommen att spela fotboll varje fredag kväll.\n\nAlla är välkomna – du som aldrig spelat och du som spelar varje dag – vi lär oss tillsammans\, hjälper varandra och spelar för att det är kul!\n\nOm du har några frågor\, hör av dig till Trey Jonsson\, 073-098 64 25 eller Sofia Lindberg 070-615 80 22
URL:https://vaniumea.se/aktivitet/fotboll-for-alla-3-copy-copy-2-2-kopiera-3-2-2/2030-06-21/
LOCATION:Minervaskolans utomhusplan\, Nygatan 47\, Umeå
CATEGORIES:30+,För tjejer och kvinnor,fotboll,sport,ungdomsgrupp
ATTACH;FMTTYPE=image/jpeg:https://media.vaniumea.se/2023/05/fotboll-new-size-scaled.jpg
END:VEVENT
BEGIN:VEVENT
DTSTART;TZID=Europe/Stockholm:20300623T143000
DTEND;TZID=Europe/Stockholm:20300623T160000
DTSTAMP:20260424T123259
CREATED:20260423T091043Z
LAST-MODIFIED:20260423T091044Z
UID:10008552-1908455400-1908460800@vaniumea.se
SUMMARY:Fotboll för tjejer
DESCRIPTION:Alla tjejer/kvinnor/ickebinära är välkomna att spela fotboll med Vän i Umeå! \nDu kan vara nybörjare och aldrig ha spelat förut – vi lär oss tillsammans\, hjälper varandra och spelar för att det är kul! \n Kontakt: Sofia Lindberg 070-615 80 22 Frågor? Mejla kontakt@vaniumea.se\n––\nAll girls\, women\, and non-binary individuals are welcome to play football with Vän in Umeå! You can be someone who plays football every day\, or a beginner who has never played before – we learn together\, help each other\, and play for fun! \n Contact: Sofia Lindberg at 070-615 80 22 Questions? Email kontakt@vaniumea.se
URL:https://vaniumea.se/aktivitet/fotboll-for-tjejer-ickebinara-4-copy-copy-copy-copy-copy-2-kopiera-kopiera-2-2-2/2030-06-23/
LOCATION:Campus Arena\, Campus arena\, Umeå\, 90736\, Sverige
CATEGORIES:Utomhusaktivitet,30+,För tjejer och kvinnor,fotboll,sport,ungdomsgrupp
ATTACH;FMTTYPE=image/jpeg:https://media.vaniumea.se/2023/05/fotboll-new-size-scaled.jpg
END:VEVENT
BEGIN:VEVENT
DTSTART;TZID=Europe/Stockholm:20300627T190000
DTEND;TZID=Europe/Stockholm:20300627T200000
DTSTAMP:20260424T123259
CREATED:20251216T124344Z
LAST-MODIFIED:20260319T113804Z
UID:10008032-1908817200-1908820800@vaniumea.se
SUMMARY:Digitalt språkcafé
DESCRIPTION:Välkommen till vårt digitala språkcafé på torsdagar! Det startar klockan 19.00\, och vi vill gärna att du kommer senast kvart över.\nKlicka på denna länk för att vara med: https://us02web.zoom.us/j/87241111674
URL:https://vaniumea.se/aktivitet/digitalt-sprakcafe-2/2030-06-27/
CATEGORIES:språkcafé
ATTACH;FMTTYPE=image/png:https://media.vaniumea.se/2025/12/Ungdomar-e1773920270807.png
END:VEVENT
BEGIN:VEVENT
DTSTART;TZID=Europe/Stockholm:20300628T190000
DTEND;TZID=Europe/Stockholm:20300628T210000
DTSTAMP:20260424T123259
CREATED:20260423T090950Z
LAST-MODIFIED:20260423T090951Z
UID:10008293-1908903600-1908910800@vaniumea.se
SUMMARY:Fotboll för alla
DESCRIPTION:Välkommen att spela fotboll varje fredag kväll.\n\nAlla är välkomna – du som aldrig spelat och du som spelar varje dag – vi lär oss tillsammans\, hjälper varandra och spelar för att det är kul!\n\nOm du har några frågor\, hör av dig till Trey Jonsson\, 073-098 64 25 eller Sofia Lindberg 070-615 80 22
URL:https://vaniumea.se/aktivitet/fotboll-for-alla-3-copy-copy-2-2-kopiera-3-2-2/2030-06-28/
LOCATION:Minervaskolans utomhusplan\, Nygatan 47\, Umeå
CATEGORIES:30+,För tjejer och kvinnor,fotboll,sport,ungdomsgrupp
ATTACH;FMTTYPE=image/jpeg:https://media.vaniumea.se/2023/05/fotboll-new-size-scaled.jpg
END:VEVENT
END:VCALENDAR