BEGIN:VCALENDAR
VERSION:2.0
PRODID:-//Vän i Umeå - ECPv6.15.20//NONSGML v1.0//EN
CALSCALE:GREGORIAN
METHOD:PUBLISH
X-WR-CALNAME:Vän i Umeå
X-ORIGINAL-URL:https://vaniumea.se
X-WR-CALDESC:Händelser för Vän i Umeå
REFRESH-INTERVAL;VALUE=DURATION:PT1H
X-Robots-Tag:noindex
X-PUBLISHED-TTL:PT1H
BEGIN:VTIMEZONE
TZID:Europe/Stockholm
BEGIN:DAYLIGHT
TZOFFSETFROM:+0100
TZOFFSETTO:+0200
TZNAME:CEST
DTSTART:20250330T010000
END:DAYLIGHT
BEGIN:STANDARD
TZOFFSETFROM:+0200
TZOFFSETTO:+0100
TZNAME:CET
DTSTART:20251026T010000
END:STANDARD
BEGIN:DAYLIGHT
TZOFFSETFROM:+0100
TZOFFSETTO:+0200
TZNAME:CEST
DTSTART:20260329T010000
END:DAYLIGHT
BEGIN:STANDARD
TZOFFSETFROM:+0200
TZOFFSETTO:+0100
TZNAME:CET
DTSTART:20261025T010000
END:STANDARD
BEGIN:DAYLIGHT
TZOFFSETFROM:+0100
TZOFFSETTO:+0200
TZNAME:CEST
DTSTART:20270328T010000
END:DAYLIGHT
BEGIN:STANDARD
TZOFFSETFROM:+0200
TZOFFSETTO:+0100
TZNAME:CET
DTSTART:20271031T010000
END:STANDARD
END:VTIMEZONE
BEGIN:VEVENT
DTSTART;TZID=Europe/Stockholm:20260425T120000
DTEND;TZID=Europe/Stockholm:20260425T140000
DTSTAMP:20260424T200911
CREATED:20260331T141225Z
LAST-MODIFIED:20260407T121446Z
UID:10008726-1777118400-1777125600@vaniumea.se
SUMMARY:Prova-på-idrott för barn
DESCRIPTION:Varmt välkommen till prova-på-idrott för barn!\nVän i Umeå anordnar prova-på-idrott för barn i åldern 6–10 år varje lördag kl. 12–14 i Ålidhemshallen. Ålidhemshallen ligger på adressen Humaniststråket 15.\nTräffarna leds av Vän i Umeås ungdomsledare. Ibland får vi även besök av idrottsföreningar som håller i en aktivitet för barnen. Det kan till exempel vara gymnastik\, kampsport\, fäktning\, innebandy\, dans\, basket eller något annat.  De gånger ingen förening är på plats planerar ungdomsledarna olika lekar eller spelar den sport som barnen själva önskar. \nEfter varje tillfälle bjuds barnen på fika! \nObservera att aktiviteten är för barn 6–10 år. Om du som förälder vill ta med yngre syskon ansvarar du själv för dem under tiden.\nVill ni komma? Gå gärna med i vår WhatsApp-grupp för föräldrar. Där skickar vi ut information om vilken förening som kommer\, och om ett tillfälle skulle ställas in eller ändras. Det är därför bra att vara med i gruppen.\nHär är länken till WhatsApp-gruppen:https://chat.whatsapp.com/IBEP85BPTmSIcX3Jz5kL2l?mode=gi_t\nDu kan också skanna QR-koden i omslagsbilden för att komma till gruppen.\nVarmt välkomna!
URL:https://vaniumea.se/aktivitet/prova-pa-idrott-for-barn-2/2026-04-25/
LOCATION:Ålidhemshallen\, Humaniststråket 15\, Umeå\, 907 30\, Sverige
CATEGORIES:barn,Familj,sport
ATTACH;FMTTYPE=image/png:https://media.vaniumea.se/2026/01/Facebookeventprovapaforbarn1.png
END:VEVENT
BEGIN:VEVENT
DTSTART;TZID=Europe/Stockholm:20260502T120000
DTEND;TZID=Europe/Stockholm:20260502T140000
DTSTAMP:20260424T200911
CREATED:20260331T141225Z
LAST-MODIFIED:20260407T121446Z
UID:10008727-1777723200-1777730400@vaniumea.se
SUMMARY:Prova-på-idrott för barn
DESCRIPTION:Varmt välkommen till prova-på-idrott för barn!\nVän i Umeå anordnar prova-på-idrott för barn i åldern 6–10 år varje lördag kl. 12–14 i Ålidhemshallen. Ålidhemshallen ligger på adressen Humaniststråket 15.\nTräffarna leds av Vän i Umeås ungdomsledare. Ibland får vi även besök av idrottsföreningar som håller i en aktivitet för barnen. Det kan till exempel vara gymnastik\, kampsport\, fäktning\, innebandy\, dans\, basket eller något annat.  De gånger ingen förening är på plats planerar ungdomsledarna olika lekar eller spelar den sport som barnen själva önskar. \nEfter varje tillfälle bjuds barnen på fika! \nObservera att aktiviteten är för barn 6–10 år. Om du som förälder vill ta med yngre syskon ansvarar du själv för dem under tiden.\nVill ni komma? Gå gärna med i vår WhatsApp-grupp för föräldrar. Där skickar vi ut information om vilken förening som kommer\, och om ett tillfälle skulle ställas in eller ändras. Det är därför bra att vara med i gruppen.\nHär är länken till WhatsApp-gruppen:https://chat.whatsapp.com/IBEP85BPTmSIcX3Jz5kL2l?mode=gi_t\nDu kan också skanna QR-koden i omslagsbilden för att komma till gruppen.\nVarmt välkomna!
URL:https://vaniumea.se/aktivitet/prova-pa-idrott-for-barn-2/2026-05-02/
LOCATION:Ålidhemshallen\, Humaniststråket 15\, Umeå\, 907 30\, Sverige
CATEGORIES:barn,Familj,sport
ATTACH;FMTTYPE=image/png:https://media.vaniumea.se/2026/01/Facebookeventprovapaforbarn1.png
END:VEVENT
BEGIN:VEVENT
DTSTART;TZID=Europe/Stockholm:20260509T120000
DTEND;TZID=Europe/Stockholm:20260509T140000
DTSTAMP:20260424T200911
CREATED:20260331T141225Z
LAST-MODIFIED:20260407T121446Z
UID:10008728-1778328000-1778335200@vaniumea.se
SUMMARY:Prova-på-idrott för barn
DESCRIPTION:Varmt välkommen till prova-på-idrott för barn!\nVän i Umeå anordnar prova-på-idrott för barn i åldern 6–10 år varje lördag kl. 12–14 i Ålidhemshallen. Ålidhemshallen ligger på adressen Humaniststråket 15.\nTräffarna leds av Vän i Umeås ungdomsledare. Ibland får vi även besök av idrottsföreningar som håller i en aktivitet för barnen. Det kan till exempel vara gymnastik\, kampsport\, fäktning\, innebandy\, dans\, basket eller något annat.  De gånger ingen förening är på plats planerar ungdomsledarna olika lekar eller spelar den sport som barnen själva önskar. \nEfter varje tillfälle bjuds barnen på fika! \nObservera att aktiviteten är för barn 6–10 år. Om du som förälder vill ta med yngre syskon ansvarar du själv för dem under tiden.\nVill ni komma? Gå gärna med i vår WhatsApp-grupp för föräldrar. Där skickar vi ut information om vilken förening som kommer\, och om ett tillfälle skulle ställas in eller ändras. Det är därför bra att vara med i gruppen.\nHär är länken till WhatsApp-gruppen:https://chat.whatsapp.com/IBEP85BPTmSIcX3Jz5kL2l?mode=gi_t\nDu kan också skanna QR-koden i omslagsbilden för att komma till gruppen.\nVarmt välkomna!
URL:https://vaniumea.se/aktivitet/prova-pa-idrott-for-barn-2/2026-05-09/
LOCATION:Ålidhemshallen\, Humaniststråket 15\, Umeå\, 907 30\, Sverige
CATEGORIES:barn,Familj,sport
ATTACH;FMTTYPE=image/png:https://media.vaniumea.se/2026/01/Facebookeventprovapaforbarn1.png
END:VEVENT
BEGIN:VEVENT
DTSTART;TZID=Europe/Stockholm:20260516T120000
DTEND;TZID=Europe/Stockholm:20260516T140000
DTSTAMP:20260424T200911
CREATED:20260331T141225Z
LAST-MODIFIED:20260407T121446Z
UID:10008729-1778932800-1778940000@vaniumea.se
SUMMARY:Prova-på-idrott för barn
DESCRIPTION:Varmt välkommen till prova-på-idrott för barn!\nVän i Umeå anordnar prova-på-idrott för barn i åldern 6–10 år varje lördag kl. 12–14 i Ålidhemshallen. Ålidhemshallen ligger på adressen Humaniststråket 15.\nTräffarna leds av Vän i Umeås ungdomsledare. Ibland får vi även besök av idrottsföreningar som håller i en aktivitet för barnen. Det kan till exempel vara gymnastik\, kampsport\, fäktning\, innebandy\, dans\, basket eller något annat.  De gånger ingen förening är på plats planerar ungdomsledarna olika lekar eller spelar den sport som barnen själva önskar. \nEfter varje tillfälle bjuds barnen på fika! \nObservera att aktiviteten är för barn 6–10 år. Om du som förälder vill ta med yngre syskon ansvarar du själv för dem under tiden.\nVill ni komma? Gå gärna med i vår WhatsApp-grupp för föräldrar. Där skickar vi ut information om vilken förening som kommer\, och om ett tillfälle skulle ställas in eller ändras. Det är därför bra att vara med i gruppen.\nHär är länken till WhatsApp-gruppen:https://chat.whatsapp.com/IBEP85BPTmSIcX3Jz5kL2l?mode=gi_t\nDu kan också skanna QR-koden i omslagsbilden för att komma till gruppen.\nVarmt välkomna!
URL:https://vaniumea.se/aktivitet/prova-pa-idrott-for-barn-2/2026-05-16/
LOCATION:Ålidhemshallen\, Humaniststråket 15\, Umeå\, 907 30\, Sverige
CATEGORIES:barn,Familj,sport
ATTACH;FMTTYPE=image/png:https://media.vaniumea.se/2026/01/Facebookeventprovapaforbarn1.png
END:VEVENT
BEGIN:VEVENT
DTSTART;TZID=Europe/Stockholm:20260523T120000
DTEND;TZID=Europe/Stockholm:20260523T140000
DTSTAMP:20260424T200911
CREATED:20260331T141225Z
LAST-MODIFIED:20260407T121446Z
UID:10008730-1779537600-1779544800@vaniumea.se
SUMMARY:Prova-på-idrott för barn
DESCRIPTION:Varmt välkommen till prova-på-idrott för barn!\nVän i Umeå anordnar prova-på-idrott för barn i åldern 6–10 år varje lördag kl. 12–14 i Ålidhemshallen. Ålidhemshallen ligger på adressen Humaniststråket 15.\nTräffarna leds av Vän i Umeås ungdomsledare. Ibland får vi även besök av idrottsföreningar som håller i en aktivitet för barnen. Det kan till exempel vara gymnastik\, kampsport\, fäktning\, innebandy\, dans\, basket eller något annat.  De gånger ingen förening är på plats planerar ungdomsledarna olika lekar eller spelar den sport som barnen själva önskar. \nEfter varje tillfälle bjuds barnen på fika! \nObservera att aktiviteten är för barn 6–10 år. Om du som förälder vill ta med yngre syskon ansvarar du själv för dem under tiden.\nVill ni komma? Gå gärna med i vår WhatsApp-grupp för föräldrar. Där skickar vi ut information om vilken förening som kommer\, och om ett tillfälle skulle ställas in eller ändras. Det är därför bra att vara med i gruppen.\nHär är länken till WhatsApp-gruppen:https://chat.whatsapp.com/IBEP85BPTmSIcX3Jz5kL2l?mode=gi_t\nDu kan också skanna QR-koden i omslagsbilden för att komma till gruppen.\nVarmt välkomna!
URL:https://vaniumea.se/aktivitet/prova-pa-idrott-for-barn-2/2026-05-23/
LOCATION:Ålidhemshallen\, Humaniststråket 15\, Umeå\, 907 30\, Sverige
CATEGORIES:barn,Familj,sport
ATTACH;FMTTYPE=image/png:https://media.vaniumea.se/2026/01/Facebookeventprovapaforbarn1.png
END:VEVENT
BEGIN:VEVENT
DTSTART;TZID=Europe/Stockholm:20260530T120000
DTEND;TZID=Europe/Stockholm:20260530T140000
DTSTAMP:20260424T200911
CREATED:20260331T141225Z
LAST-MODIFIED:20260407T121446Z
UID:10008731-1780142400-1780149600@vaniumea.se
SUMMARY:Prova-på-idrott för barn
DESCRIPTION:Varmt välkommen till prova-på-idrott för barn!\nVän i Umeå anordnar prova-på-idrott för barn i åldern 6–10 år varje lördag kl. 12–14 i Ålidhemshallen. Ålidhemshallen ligger på adressen Humaniststråket 15.\nTräffarna leds av Vän i Umeås ungdomsledare. Ibland får vi även besök av idrottsföreningar som håller i en aktivitet för barnen. Det kan till exempel vara gymnastik\, kampsport\, fäktning\, innebandy\, dans\, basket eller något annat.  De gånger ingen förening är på plats planerar ungdomsledarna olika lekar eller spelar den sport som barnen själva önskar. \nEfter varje tillfälle bjuds barnen på fika! \nObservera att aktiviteten är för barn 6–10 år. Om du som förälder vill ta med yngre syskon ansvarar du själv för dem under tiden.\nVill ni komma? Gå gärna med i vår WhatsApp-grupp för föräldrar. Där skickar vi ut information om vilken förening som kommer\, och om ett tillfälle skulle ställas in eller ändras. Det är därför bra att vara med i gruppen.\nHär är länken till WhatsApp-gruppen:https://chat.whatsapp.com/IBEP85BPTmSIcX3Jz5kL2l?mode=gi_t\nDu kan också skanna QR-koden i omslagsbilden för att komma till gruppen.\nVarmt välkomna!
URL:https://vaniumea.se/aktivitet/prova-pa-idrott-for-barn-2/2026-05-30/
LOCATION:Ålidhemshallen\, Humaniststråket 15\, Umeå\, 907 30\, Sverige
CATEGORIES:barn,Familj,sport
ATTACH;FMTTYPE=image/png:https://media.vaniumea.se/2026/01/Facebookeventprovapaforbarn1.png
END:VEVENT
BEGIN:VEVENT
DTSTART;TZID=Europe/Stockholm:20260605T170000
DTEND;TZID=Europe/Stockholm:20260607T170000
DTSTAMP:20260424T200911
CREATED:20260423T085411Z
LAST-MODIFIED:20260423T085411Z
UID:10008881-1780678800-1780851600@vaniumea.se
SUMMARY:Familjeläger i Tavelsjö
DESCRIPTION:På lägret har vi roliga aktiviteter för både barn och vuxna. Vi äter frukost\, lunch och middag tillsammans (allt är vegetariskt) och du behöver inte ta med dig mat själv. Du behöver anmäla i formuläret om din familj behöver särskild mat så att vi kan ta hänsyn till det.\n\nFamiljer med barn från 5 år är välkomna att anmäla sig. Tyvärr kan vi inte ta emot barn som är yngre än 5 år. Vi bor på en lägergård där det finns många rum\, och alla familjer får ett eget rum. Vi reser tillsammans med buss till Tavelsjö (ca 3 mil) på fredag kl. 17:00 och åker tillbaka på söndag kl. 17:00. \n\nOBS! Sista anmälningsdag är torsdag den 4 maj. Även om du anmäler dig så är det inte säkert att du får plats. Den 5-7 maj kommer du att få veta om din familj har fått plats på lägret. Ledarna för lägret kommer att kontakta alla familjer som har fått plats\, så det är viktigt att du håller koll på din mejl/telefon efter den 7 maj för att bekräfta att ni fortfarande vill vara med på lägret. Vid avhopp kommer vi att kontakta familjer på reservlistan tills alla platser är fyllda.Lägret är kostnadsfritt.\n\nFör frågor: Kontakta Åsa Norin på 072-539 11 46 eller mejla till kontakt@vaniumea.se\n\nAnmäl dig och din familj här: https://forms.cloud.microsoft/e/H3QMvMRvT0
URL:https://vaniumea.se/aktivitet/familjelager-i-tavelsjo-2/
LOCATION:Tavelsjö\, SVEDJAN 29\, Östra Tavelsjö\, Umeå\, 922 66\, Sweden
CATEGORIES:barn,Utomhusaktivitet,bak och mat,Familj,natur
ATTACH;FMTTYPE=image/png:https://media.vaniumea.se/2026/04/Familjelager.png
GEO:64.0226928;20.074888
X-APPLE-STRUCTURED-LOCATION;VALUE=URI;X-ADDRESS=Tavelsjö SVEDJAN 29 Östra Tavelsjö Umeå 922 66 Sweden;X-APPLE-RADIUS=500;X-TITLE=SVEDJAN 29:geo:20.074888,64.0226928
END:VEVENT
END:VCALENDAR