BEGIN:VCALENDAR
VERSION:2.0
PRODID:-//Vän i Umeå - ECPv6.15.20//NONSGML v1.0//EN
CALSCALE:GREGORIAN
METHOD:PUBLISH
X-ORIGINAL-URL:https://vaniumea.se
X-WR-CALDESC:Händelser för Vän i Umeå
REFRESH-INTERVAL;VALUE=DURATION:PT1H
X-Robots-Tag:noindex
X-PUBLISHED-TTL:PT1H
BEGIN:VTIMEZONE
TZID:Europe/Stockholm
BEGIN:DAYLIGHT
TZOFFSETFROM:+0100
TZOFFSETTO:+0200
TZNAME:CEST
DTSTART:20250330T010000
END:DAYLIGHT
BEGIN:STANDARD
TZOFFSETFROM:+0200
TZOFFSETTO:+0100
TZNAME:CET
DTSTART:20251026T010000
END:STANDARD
BEGIN:DAYLIGHT
TZOFFSETFROM:+0100
TZOFFSETTO:+0200
TZNAME:CEST
DTSTART:20260329T010000
END:DAYLIGHT
BEGIN:STANDARD
TZOFFSETFROM:+0200
TZOFFSETTO:+0100
TZNAME:CET
DTSTART:20261025T010000
END:STANDARD
BEGIN:DAYLIGHT
TZOFFSETFROM:+0100
TZOFFSETTO:+0200
TZNAME:CEST
DTSTART:20270328T010000
END:DAYLIGHT
BEGIN:STANDARD
TZOFFSETFROM:+0200
TZOFFSETTO:+0100
TZNAME:CET
DTSTART:20271031T010000
END:STANDARD
END:VTIMEZONE
BEGIN:VEVENT
DTSTART;TZID=Europe/Stockholm:20260131T080000
DTEND;TZID=Europe/Stockholm:20260131T170000
DTSTAMP:20260425T142537
CREATED:20260126T135043Z
LAST-MODIFIED:20260126T135043Z
UID:10008713-1769846400-1769878800@vaniumea.se
SUMMARY:Prova-på-idrott för barn
DESCRIPTION:Varmt välkommen till prova-på-idrott för barn!\nVän i Umeå anordnar prova-på-idrott för barn i åldern 6–10 år varje lördag kl. 12–14 i Ålidhemshallen. Ålidhemshallen ligger på adressen Humaniststråket 15.\nTräffarna leds av Vän i Umeås ungdomsledare. Ibland får vi även besök av idrottsföreningar som håller i en aktivitet för barnen. Det kan till exempel vara gymnastik\, kampsport\, fäktning\, innebandy\, dans\, basket eller något annat.  De gånger ingen förening är på plats planerar ungdomsledarna olika lekar eller spelar den sport som barnen själva önskar. \nEfter varje tillfälle bjuds barnen på fika! \nObservera att aktiviteten är för barn 6–10 år. Om du som förälder vill ta med yngre syskon ansvarar du själv för dem under tiden.\nVill ni komma? Gå gärna med i vår WhatsApp-grupp för föräldrar. Där skickar vi ut information om vilken förening som kommer\, och om ett tillfälle skulle ställas in eller ändras. Det är därför bra att vara med i gruppen.\nHär är länken till WhatsApp-gruppen:https://chat.whatsapp.com/IBEP85BPTmSIcX3Jz5kL2l?mode=gi_t\nDu kan också skanna QR-koden i omslagsbilden för att komma till gruppen.\nVarmt välkomna!
URL:https://vaniumea.se/aktivitet/prova-pa-idrott-for-barn/2026-01-31/1/
LOCATION:Ålidhemshallen\, Humaniststråket 15\, Umeå\, 907 30\, Sverige
CATEGORIES:barn,Familj,sport
ATTACH;FMTTYPE=image/png:https://media.vaniumea.se/2026/01/Facebookeventprovapaforbarn1.png
END:VEVENT
BEGIN:VEVENT
DTSTART;TZID=Europe/Stockholm:20260131T120000
DTEND;TZID=Europe/Stockholm:20260131T140000
DTSTAMP:20260425T142537
CREATED:20260126T135043Z
LAST-MODIFIED:20260126T135043Z
UID:10008714-1769860800-1769868000@vaniumea.se
SUMMARY:Prova-på-idrott för barn
DESCRIPTION:Varmt välkommen till prova-på-idrott för barn!\nVän i Umeå anordnar prova-på-idrott för barn i åldern 6–10 år varje lördag kl. 12–14 i Ålidhemshallen. Ålidhemshallen ligger på adressen Humaniststråket 15.\nTräffarna leds av Vän i Umeås ungdomsledare. Ibland får vi även besök av idrottsföreningar som håller i en aktivitet för barnen. Det kan till exempel vara gymnastik\, kampsport\, fäktning\, innebandy\, dans\, basket eller något annat.  De gånger ingen förening är på plats planerar ungdomsledarna olika lekar eller spelar den sport som barnen själva önskar. \nEfter varje tillfälle bjuds barnen på fika! \nObservera att aktiviteten är för barn 6–10 år. Om du som förälder vill ta med yngre syskon ansvarar du själv för dem under tiden.\nVill ni komma? Gå gärna med i vår WhatsApp-grupp för föräldrar. Där skickar vi ut information om vilken förening som kommer\, och om ett tillfälle skulle ställas in eller ändras. Det är därför bra att vara med i gruppen.\nHär är länken till WhatsApp-gruppen:https://chat.whatsapp.com/IBEP85BPTmSIcX3Jz5kL2l?mode=gi_t\nDu kan också skanna QR-koden i omslagsbilden för att komma till gruppen.\nVarmt välkomna!
URL:https://vaniumea.se/aktivitet/prova-pa-idrott-for-barn/2026-01-31/2/
LOCATION:Ålidhemshallen\, Humaniststråket 15\, Umeå\, 907 30\, Sverige
CATEGORIES:barn,Familj,sport
ATTACH;FMTTYPE=image/png:https://media.vaniumea.se/2026/01/Facebookeventprovapaforbarn1.png
END:VEVENT
END:VCALENDAR