BEGIN:VCALENDAR
VERSION:2.0
PRODID:-//Vän i Umeå - ECPv6.15.20//NONSGML v1.0//EN
CALSCALE:GREGORIAN
METHOD:PUBLISH
X-WR-CALNAME:Vän i Umeå
X-ORIGINAL-URL:https://vaniumea.se
X-WR-CALDESC:Händelser för Vän i Umeå
REFRESH-INTERVAL;VALUE=DURATION:PT1H
X-Robots-Tag:noindex
X-PUBLISHED-TTL:PT1H
BEGIN:VTIMEZONE
TZID:Europe/Stockholm
BEGIN:DAYLIGHT
TZOFFSETFROM:+0100
TZOFFSETTO:+0200
TZNAME:CEST
DTSTART:20250330T010000
END:DAYLIGHT
BEGIN:STANDARD
TZOFFSETFROM:+0200
TZOFFSETTO:+0100
TZNAME:CET
DTSTART:20251026T010000
END:STANDARD
BEGIN:DAYLIGHT
TZOFFSETFROM:+0100
TZOFFSETTO:+0200
TZNAME:CEST
DTSTART:20260329T010000
END:DAYLIGHT
BEGIN:STANDARD
TZOFFSETFROM:+0200
TZOFFSETTO:+0100
TZNAME:CET
DTSTART:20261025T010000
END:STANDARD
BEGIN:DAYLIGHT
TZOFFSETFROM:+0100
TZOFFSETTO:+0200
TZNAME:CEST
DTSTART:20270328T010000
END:DAYLIGHT
BEGIN:STANDARD
TZOFFSETFROM:+0200
TZOFFSETTO:+0100
TZNAME:CET
DTSTART:20271031T010000
END:STANDARD
END:VTIMEZONE
BEGIN:VEVENT
DTSTART;TZID=Europe/Stockholm:20260503T110000
DTEND;TZID=Europe/Stockholm:20260503T143000
DTSTAMP:20260419T161403
CREATED:20260414T083200Z
LAST-MODIFIED:20260414T083200Z
UID:10008878-1777806000-1777818600@vaniumea.se
SUMMARY:Cykelutflykt med Vän i Umeå
DESCRIPTION:Vän i Umeås friluftsgrupp bjuder in till årets första cykelutflykt! \nVi träffas söndag den 3 maj i Broparken kl. 11:00 och cyklar tillsammans i lugnt tempo. Utflykten beräknas pågå till cirka kl. 14:30. Ingen förhandsanmälan krävs\, men det är viktigt att vara på plats i tid kl. 11! Rekommenderad ålder är från cirka 11 år\, men ni avgör själva.\n\nVi kommer att cykla främst längs cykelvägar och utforska området kring Ön och broarna nedströms mot Kolbäcksbron. Vi stannar till på vägen och tar en gemensam fikapaus \nDen totala sträckan är cirka 12 km och vi cyklar tillsammans hela vägen.\n\nTa gärna med eget fika\, gärna i termos\, och något att sitta på. Vi rekommenderar att alla deltagare använder cykelhjälm.\nTa med familj och vänner om du vill! \n\n För frågor\, kontakta Thomas 070 66 888 07 eller Will 070 796 2871\n–––\nVän i Umeå’s outdoor group invites you to the first bike excursion of the year! \nWe will meet in Broparken at 11:00 AM and cycle together at a relaxed pace. The excursion will last until approximately 2:30 PM. No registration is required\, but it is important to arrive on time. Recommended age is around 11 years and up\, but you decide what suits you.\n\nWe will cycle mostly along bike paths and explore the area around Ön and the bridges downstream towards Kolbäcksbron. We will make stops along the way and have a fika break together \nThe total distance is approximately 12 km\, and we will cycle together the whole way.\n\nFika is an important part of the excursion – bring your own snacks\, preferably in a thermos\, and something to sit on. We recommend all participants wear a helmet.\nBring your family and friends and join us! \n\n For questions\, contact Thomas at 070 66 888 07 or Will at 070 796 2871
URL:https://vaniumea.se/aktivitet/cykelutflykt-med-van-i-umea-5/
LOCATION:Broparken\, Brogatan\, Umeå\, Västerbotten\, 90325\, Sverige
CATEGORIES:Utomhusaktivitet,Cykling,utflykt
ATTACH;FMTTYPE=image/jpeg:https://media.vaniumea.se/2024/05/Cykelutflykt_fotoSungHyuk-scaled.jpg
END:VEVENT
BEGIN:VEVENT
DTSTART;TZID=Europe/Stockholm:20260524T110000
DTEND;TZID=Europe/Stockholm:20260524T150000
DTSTAMP:20260419T161403
CREATED:20260414T083516Z
LAST-MODIFIED:20260414T083516Z
UID:10008879-1779620400-1779634800@vaniumea.se
SUMMARY:Cykelutflykt med Vän i Umeå
DESCRIPTION: Vän i Umeås friluftsgrupp bjuder in dig till en cykeltur (förutsatt att vädret tillåter) söndagen den 24 maj!\n\nVi träffas på den runda dansbanan vid Strömpilen kl. 11:00. Utflykten beräknas pågå till cirka kl. 15:00. Ingen förhandsanmälan krävs\, men det är viktigt att vara på plats i tid kl. 11 vid Strömpilen! Rekommenderad ålder är från 15 år och uppåt.\n\nVi cyklar tillsammans\, främst längs cykelvägar\, från Strömpilen till Nydalasjön. Därefter fortsätter vi längs sjön mot cykelvägen till Sävar\, vidare mot Innertavle med en fikapaus på en bro över en liten bäck. \n\nVi cyklar sedan tillbaka till södra delen av Nydalasjön. Här kan du välja att avsluta turen och ta dig tillbaka mot centrum\, eller fortsätta vidare mot Yttertavle och förbi Holmsjön\, där det eventuellt finns möjlighet till bad (om isen är borta).\nVi fortsätter förbi Smultronstället och gör ytterligare ett stopp hos Will och Christina\, där det finns möjlighet till fika och bad i ån.\n\nVi återvänder till Strömpilen via den gamla vägen mellan Umeå och Holmsund samt cykelvägar.\nDen totala sträckan är cirka 45 km\, eller cirka 20 km om du väljer att avsluta vid Nydalasjön.\n Att fika tillsammans är en trevlig del av utflykten – ta med eget fika\, gärna i termos\, samt något att sitta på. Vi rekommenderar att alla deltagare använder cykelhjälm.\n\nTa gärna med familj och vänner om du vill!\n\nRutten cyklas veckan innan\, och om den inte är tillräckligt bra kommer vi att publicera ett nytt datum på Facebook.\n\n För frågor\, kontakta Thomas 070 66 888 07 eller Will 070 796 2871\n–––\n Vän i Umeå’s outdoor group invites you to a bike excursion – weather permitting – on Sunday\, May 24!\nWe will meet at the round “dansbana” at Strömpilen at 11:00 AM. The excursion will last until approximately 3:00 PM. No registration is required\, but it is important to arrive on time. Recommended age is 15 years and up.\n\nWe will cycle together\, mostly along bike paths\, from Strömpilen to Nydalasjön. Then along the lake towards the bike path to Sävar\, continuing towards Innertavle with a fika break on a bridge over a small stream. \nAfter that\, we return to the south end of Nydalasjön. From here\, you can choose to stop and return to the city\, or continue towards Yttertavle and past Holmsjön\, where there may be a swimming opportunity (if the ice is gone).\n\nWe continue past Smultronstället and stop at Will and Christina’s\, where there will be another fika break and the possibility to swim in the river.\nWe return to Strömpilen via the old road between Umeå and Holmsund and bike paths.\nThe total distance is about 45 km\, or about 20 km if you stop at Nydalasjön.\n\n Refreshments are an important part of the excursion – bring your own snacks\, preferably in a thermos\, and something to sit on. We recommend all participants wear a helmet.\n\nBring your family and friends and join us!\n\nThe route will be cycled the week before\, and if it is not suitable\, a new date will be posted on Facebook.\n\n For questions\, contact Thomas at 070 66 888 07 or Will at 070 796 2871
URL:https://vaniumea.se/aktivitet/cykelutflykt-med-van-i-umea-6/
LOCATION:Strömpilen\, Strömpilen\, Strömpilsplatsen 20\, Umeå\, 907 43\, Sverige
CATEGORIES:Utomhusaktivitet,Cykling,utflykt
ATTACH;FMTTYPE=image/jpeg:https://media.vaniumea.se/2024/04/cykelutflykt.jpeg
GEO:63.7982609;20.3025699
X-APPLE-STRUCTURED-LOCATION;VALUE=URI;X-ADDRESS=Strömpilen Strömpilen Strömpilsplatsen 20 Umeå 907 43 Sverige;X-APPLE-RADIUS=500;X-TITLE=Strömpilen\, Strömpilsplatsen 20:geo:20.3025699,63.7982609
END:VEVENT
END:VCALENDAR