BEGIN:VCALENDAR
VERSION:2.0
PRODID:-//Vän i Umeå - ECPv6.15.20//NONSGML v1.0//EN
CALSCALE:GREGORIAN
METHOD:PUBLISH
X-ORIGINAL-URL:https://vaniumea.se
X-WR-CALDESC:Händelser för Vän i Umeå
REFRESH-INTERVAL;VALUE=DURATION:PT1H
X-Robots-Tag:noindex
X-PUBLISHED-TTL:PT1H
BEGIN:VTIMEZONE
TZID:Europe/Stockholm
BEGIN:DAYLIGHT
TZOFFSETFROM:+0100
TZOFFSETTO:+0200
TZNAME:CEST
DTSTART:20240331T010000
END:DAYLIGHT
BEGIN:STANDARD
TZOFFSETFROM:+0200
TZOFFSETTO:+0100
TZNAME:CET
DTSTART:20241027T010000
END:STANDARD
BEGIN:DAYLIGHT
TZOFFSETFROM:+0100
TZOFFSETTO:+0200
TZNAME:CEST
DTSTART:20250330T010000
END:DAYLIGHT
BEGIN:STANDARD
TZOFFSETFROM:+0200
TZOFFSETTO:+0100
TZNAME:CET
DTSTART:20251026T010000
END:STANDARD
BEGIN:DAYLIGHT
TZOFFSETFROM:+0100
TZOFFSETTO:+0200
TZNAME:CEST
DTSTART:20260329T010000
END:DAYLIGHT
BEGIN:STANDARD
TZOFFSETFROM:+0200
TZOFFSETTO:+0100
TZNAME:CET
DTSTART:20261025T010000
END:STANDARD
END:VTIMEZONE
BEGIN:VEVENT
DTSTART;TZID=Europe/Stockholm:20251218T160000
DTEND;TZID=Europe/Stockholm:20251218T173000
DTSTAMP:20260426T044918
CREATED:20251216T124116Z
LAST-MODIFIED:20251216T124116Z
UID:10007795-1766073600-1766079000@vaniumea.se
SUMMARY:Manifestation - Nu är det nog!
DESCRIPTION:Nu är det nog!\n\n– Dra inte tillbaka permanenta uppehållstillstånd– Försvåra inte familjeåterförening – tillämpa barnkonventionen för ALLA barn– Utvisa inte personer med arbetstillstånd\n\nTorsdag den 18 december manifesterar Umeå mot lagförslagen och utredningarna som inskränker på asylrätten\, bidrar till otrygghet och försämrar integrationen! Tillsammans står vi upp för ett samhälle som bidrar till trygghet\, stabilitet och gemenskap!\n\nOm du vill vara med i organiseringen gå med i Facebookgruppen – ”Nu är det nog! Umeå” som du hittar på denna länk: https://www.facebook.com/groups/1074625481281842/\n\nHär kan du läsa mer om det nationella uppropet och skriva under namninsamlingen: https://tinyurl.se/Namnunderskrift\n\nNär? Datum 18 december på Internationella migrationsdagenVar? Start på Rådhustorget\n\nTalare: Ola Nordebo (Västerbottens Kuriren)\, Mohammad Zare (student som kom 2015 till Sverige)\, Farah Roukachi\, Nils Seye Larsen (lyfter röster från personliga assistenter som utvisades)\, Anna-Carin Dahlberg (Individuell Människohjälp)\n\nMusik/sång: Happy Mix och väntar in fler\n\nTidsprogram kl. 16-18:16.00 Samling16.30 Fackeltåg längs gågatan17.00 Manifestation på Rådhustorget med musik\, tal och fika\n\nVill din organisation/företag/nätverk stå bakom manifestationen? Mejla asa@vaniumea.se\n\nOrganisatörer och medarrangörer: Vän i Umeå\, Svenska kyrkan i Umeå\, Individuell Människohjälp\, Aktion i Umeå för afghaner\, Frälsningsarmén\, Pingstkyrkan\, Umeå Stadsmission\, Umeå Moské\, Rädda Barnen\, Studiefrämjandet\, NBV\, Movendi/IOGT-NTO föräldraförening Umeå\, Ariana sociala-kulturella föreningen\, Kommunal\, Hedlundakyrkan och vi hoppas på många fler.
URL:https://vaniumea.se/aktivitet/manifestation-nu-ar-det-nog/
LOCATION:Rådhustorget\, Rådhustorget\, Umeå\, 903 26
CATEGORIES:Utomhusaktivitet
ATTACH;FMTTYPE=image/jpeg:https://media.vaniumea.se/2025/12/594077775_1320692940089988_5537210869303104309_n.jpg
GEO:63.8256028;20.2630655
X-APPLE-STRUCTURED-LOCATION;VALUE=URI;X-ADDRESS=Rådhustorget Rådhustorget Umeå 903 26;X-APPLE-RADIUS=500;X-TITLE=Rådhustorget:geo:20.2630655,63.8256028
END:VEVENT
END:VCALENDAR