BEGIN:VCALENDAR
VERSION:2.0
PRODID:-//Vän i Umeå - ECPv6.15.20//NONSGML v1.0//EN
CALSCALE:GREGORIAN
METHOD:PUBLISH
X-ORIGINAL-URL:https://vaniumea.se
X-WR-CALDESC:Händelser för Vän i Umeå
REFRESH-INTERVAL;VALUE=DURATION:PT1H
X-Robots-Tag:noindex
X-PUBLISHED-TTL:PT1H
BEGIN:VTIMEZONE
TZID:Europe/Stockholm
BEGIN:DAYLIGHT
TZOFFSETFROM:+0100
TZOFFSETTO:+0200
TZNAME:CEST
DTSTART:20250330T010000
END:DAYLIGHT
BEGIN:STANDARD
TZOFFSETFROM:+0200
TZOFFSETTO:+0100
TZNAME:CET
DTSTART:20251026T010000
END:STANDARD
BEGIN:DAYLIGHT
TZOFFSETFROM:+0100
TZOFFSETTO:+0200
TZNAME:CEST
DTSTART:20260329T010000
END:DAYLIGHT
BEGIN:STANDARD
TZOFFSETFROM:+0200
TZOFFSETTO:+0100
TZNAME:CET
DTSTART:20261025T010000
END:STANDARD
BEGIN:DAYLIGHT
TZOFFSETFROM:+0100
TZOFFSETTO:+0200
TZNAME:CEST
DTSTART:20270328T010000
END:DAYLIGHT
BEGIN:STANDARD
TZOFFSETFROM:+0200
TZOFFSETTO:+0100
TZNAME:CET
DTSTART:20271031T010000
END:STANDARD
END:VTIMEZONE
BEGIN:VEVENT
DTSTART;TZID=Europe/Stockholm:20260204T180000
DTEND;TZID=Europe/Stockholm:20260204T200000
DTSTAMP:20260426T013245
CREATED:20260128T201941Z
LAST-MODIFIED:20260128T201941Z
UID:10008746-1770228000-1770235200@vaniumea.se
SUMMARY:Lägereld och titta efter Norrsken (Northern lights)
DESCRIPTION:Välkommen till en enkel och social kväll vid lägerelden!\nVi ses för ett lugn kväll runt elden och spanar efter Norrsken. \nVi tänder elden kl. 18.00. \n. \nTa med något du vill grilla\, äta eller dricka. \nMed lite tur får vi en riktigt fin kväll under stjärnhimlen. \nKlä dig varmt och ta gärna med ett eget sittunderlag att sitta på. \n. \nGrillplatsen ligger vid Beachvolleybollplanerna Tomtebo/Nydalasjön. De närmaste busshållplatserna är Älvans väg och Nornaplatsen. \n. \nVid riktigt dåligt väder ställer vi in. \n. \nOm du undrar över något så är det bara att ringa! \nSigne Dahlberg 0765392878 \nUlla Ljungberg 0730510328
URL:https://vaniumea.se/aktivitet/lagereld-och-titta-efter-norrsken-northern-lights/
LOCATION:Volleybollplanerna\, Tomtebo/Nydalasjön\, Carlskroken 7\, Umeå\, 907 50
CATEGORIES:Utomhusaktivitet,natur
ATTACH;FMTTYPE=image/jpeg:https://media.vaniumea.se/2026/01/Bild-vid-lagerelden-kvall.jpg
GEO:63.811888;20.346992
X-APPLE-STRUCTURED-LOCATION;VALUE=URI;X-ADDRESS=Volleybollplanerna Tomtebo/Nydalasjön Carlskroken 7 Umeå 907 50;X-APPLE-RADIUS=500;X-TITLE=Carlskroken 7:geo:20.346992,63.811888
END:VEVENT
BEGIN:VEVENT
DTSTART;TZID=Europe/Stockholm:20260228T110000
DTEND;TZID=Europe/Stockholm:20260228T130000
DTSTAMP:20260426T013245
CREATED:20260222T122845Z
LAST-MODIFIED:20260222T122845Z
UID:10008766-1772276400-1772283600@vaniumea.se
SUMMARY:Skidåkning "Vasaloppet" på Mariehemsängarna
DESCRIPTION:Välkommen att åka längdskidor med Vän i Umeå!\n\nIdag är en speciell dag. Deltagare åker en valfri sträcka och vi hoppas tillsammans få ihop ett Vasalopp på 90 kilometer! Blir vi många försöker vi få ihop till både klassisk vasalopp och skatevasan.\n.\nAlla kan delta! Alla behövs! Är du nybörjare hjälper vi dig att komma igång.\n.\nOm du inte har utrustning så låna gärna på fritidsbanken. Be gärna om vallningsfria längdskidor. https://www.fritidsbanken.se/fritidsbank/umea/\n\nVän i Umeå bjuder på saft och varm dryck och kanske någon överraskning!\n.\nVi ses vid spåren vid MSK arena klockan 11.00.\nKom i tid för gemensam start!\n.\nBusshållplats Hermelinvägen eller Mariebergsskolan är närmast.\nFrågor – ring 073-0510328 (Ulla)
URL:https://vaniumea.se/aktivitet/skidakning-vasaloppet-pa-mariehemsangarna/
LOCATION:MSK arena\, Mariehemsvägen 39\, Umeå\, 90652
CATEGORIES:Utomhusaktivitet
ATTACH;FMTTYPE=image/jpeg:https://media.vaniumea.se/2024/02/vasalopp.jpeg
GEO:63.8439827;20.3308078
X-APPLE-STRUCTURED-LOCATION;VALUE=URI;X-ADDRESS=MSK arena Mariehemsvägen 39 Umeå 90652;X-APPLE-RADIUS=500;X-TITLE=Mariehemsvägen 39:geo:20.3308078,63.8439827
END:VEVENT
END:VCALENDAR