BEGIN:VCALENDAR
VERSION:2.0
PRODID:-//Vän i Umeå - ECPv6.15.20//NONSGML v1.0//EN
CALSCALE:GREGORIAN
METHOD:PUBLISH
X-ORIGINAL-URL:https://vaniumea.se
X-WR-CALDESC:Händelser för Vän i Umeå
REFRESH-INTERVAL;VALUE=DURATION:PT1H
X-Robots-Tag:noindex
X-PUBLISHED-TTL:PT1H
BEGIN:VTIMEZONE
TZID:Europe/Stockholm
BEGIN:DAYLIGHT
TZOFFSETFROM:+0100
TZOFFSETTO:+0200
TZNAME:CEST
DTSTART:20240331T010000
END:DAYLIGHT
BEGIN:STANDARD
TZOFFSETFROM:+0200
TZOFFSETTO:+0100
TZNAME:CET
DTSTART:20241027T010000
END:STANDARD
BEGIN:DAYLIGHT
TZOFFSETFROM:+0100
TZOFFSETTO:+0200
TZNAME:CEST
DTSTART:20250330T010000
END:DAYLIGHT
BEGIN:STANDARD
TZOFFSETFROM:+0200
TZOFFSETTO:+0100
TZNAME:CET
DTSTART:20251026T010000
END:STANDARD
BEGIN:DAYLIGHT
TZOFFSETFROM:+0100
TZOFFSETTO:+0200
TZNAME:CEST
DTSTART:20260329T010000
END:DAYLIGHT
BEGIN:STANDARD
TZOFFSETFROM:+0200
TZOFFSETTO:+0100
TZNAME:CET
DTSTART:20261025T010000
END:STANDARD
BEGIN:DAYLIGHT
TZOFFSETFROM:+0100
TZOFFSETTO:+0200
TZNAME:CEST
DTSTART:20270328T010000
END:DAYLIGHT
BEGIN:STANDARD
TZOFFSETFROM:+0200
TZOFFSETTO:+0100
TZNAME:CET
DTSTART:20271031T010000
END:STANDARD
END:VTIMEZONE
BEGIN:VEVENT
DTSTART;TZID=Europe/Stockholm:20260330T180000
DTEND;TZID=Europe/Stockholm:20260330T200000
DTSTAMP:20260419T145007
CREATED:20260325T102238Z
LAST-MODIFIED:20260325T102238Z
UID:10008786-1774893600-1774900800@vaniumea.se
SUMMARY:Demokrati och inkludering - Unga och kriminalitet: Hur upptäcker vi problem och vilket stöd finns?
DESCRIPTION:Unga och kriminalitet: Hur upptäcker vi problem och vilket stöd finns?\n\n\nVi pratar om hur vi tidigt kan se tecken på att unga riskerar att hamna i kriminalitet och ställer frågan om vem har ansvaret. Med en föreläsning och en paneldebatt kommer vi att lära oss vilket stöd som finns tillgängligt från olika aktörer i samhället och hur de samarbetar med varandra.\n\nFöreläsning av Linda Arnell (Umeå universitet)\n\nPanelsamtal med:\nGerda Berglund\, Umeå stadsbibliotekAnnelie Lindberg\, Socialsekreterare\, Första linjen\, Ålidhem familjecentralMaria Forsberg\, Områdespolis\, PolisenGabriella Alfengård\, Arbetsledare\, Hamnmagasinet Ungdomens husJohanna Franzén\, Samordnare Fältgrupp\n\nModerator: Johanna Mikkelsen Strömstedt\, socialsekreterare\n\n\nPlats: Klossen\, Ålidhem\n\nSamtalsserien “Demokrati och Inkludering” inbjuder alla till en öppen dialog kring angelägna teman som rör människors liv i Umeå. Ett samarbete mellan Vän i Umeå\, Folkuniversitetet och Umeå stadsbibliotek.\n\nAlla är välkomna!
URL:https://vaniumea.se/aktivitet/demokrati-och-inkludering-unga-och-kriminalitet-hur-upptacker-vi-problem-och-vilket-stod-finns/
LOCATION:Kulturhuset Klossen\, Ekonomistråket 6\, Umeå\, 907 30\, Sweden
CATEGORIES:30+,föreläsning
ATTACH;FMTTYPE=image/jpeg:https://media.vaniumea.se/2024/09/heder.jpg
ORGANIZER;CN="Folkuniversitetet":MAILTO:umea@folkuniversitetet.se
END:VEVENT
BEGIN:VEVENT
DTSTART;TZID=Europe/Stockholm:20251221T180000
DTEND;TZID=Europe/Stockholm:20251221T220000
DTSTAMP:20260419T145007
CREATED:20251216T130256Z
LAST-MODIFIED:20251216T131006Z
UID:10008578-1766340000-1766354400@vaniumea.se
SUMMARY:Fira Yalda
DESCRIPTION:Välkommen till en magisk Yalda-fest för att fira årets längsta natt! Kom och njut av en kväll fylld med traditioner och musik. Vi bjuder in till en oförglömlig Yalda-afton. Under kvällen samlas vi för att fira ljusets återkomst med poesi och gemenskap. Tillsammans skapar vi en varm och stämningsfull upplevelse för att välkomna det nya ljuset. Det kommer att finnas uppdukat bord med mycket snacks\, levande ljus\, vackra tyger.\n\nVarmt välkommen!\n\n\n18.00 – festen börjar18.30 – Aida Mehrani berättar om hur Årets längsta natt firas i olika kulturer
URL:https://vaniumea.se/aktivitet/fira-yalda/
LOCATION:Kulturhuset Klossen\, Ekonomistråket 6\, Umeå\, 907 30\, Sweden
CATEGORIES:barn,30+,dans och rörelse,Familj,fest,fika,För tjejer och kvinnor,musik
ATTACH;FMTTYPE=image/png:https://media.vaniumea.se/2025/12/Yalda-A3.png
END:VEVENT
BEGIN:VEVENT
DTSTART;TZID=Europe/Stockholm:20251005T140000
DTEND;TZID=Europe/Stockholm:20251005T160000
DTSTAMP:20260419T145007
CREATED:20250917T105249Z
LAST-MODIFIED:20251216T125311Z
UID:10007727-1759672800-1759680000@vaniumea.se
SUMMARY:Världens matfestival
DESCRIPTION:Vän i Umeå arrangerar Världens matfestival tillsammans med vänner från olika länder! Var med och presentera ditt land genom mat\, musik\, kläder och dekorationer. Denna dag handlar om mat\, kultur och gemenskap. Var med på eventet\, visa upp ditt land och din kultur på ditt sätt. Förutom din egen kunskapstörst och äventyrshunger uppmanar vi dig att ta med någon maträtt\, bakverk eller efterrätt från ditt land som du kan bjuda deltagarna på.\n\nAnmäl dig genom https://forms.office.com/e/M6XS1XXkjT\n\nTa med mat\, bakverk eller efterrätt. Du får gärna även ta med annat från ditt land som till exempel flagga\, foton\, hantverk\, kartor\, kläder\, musik eller andra saker du vill visa upp. Medskapare från samma land delar bord och bjuder in deltagare att få smaka och kanske veta mer om landet och kulturen. Som utställare får du också chans att gå till andra bord och smaka andra länders mat.\n\nVid frågor: mejla jessica@vaniumea.se eller elinn@vaniumea.se\nAnmäl ditt intresse genom att fylla i denna enkät: https://forms.office.com/e/M6XS1XXkjT\n\nEtt samarbete mellan Vän i Umeå och Studiefrämjandet
URL:https://vaniumea.se/aktivitet/varldens-matfestival/
LOCATION:Kulturhuset Klossen\, Ekonomistråket 6\, Umeå\, 907 30\, Sweden
ATTACH;FMTTYPE=image/jpeg:https://media.vaniumea.se/2025/09/0246359C-E045-4EFA-9019-7558CA69E5FC-scaled.jpeg
END:VEVENT
END:VCALENDAR