BEGIN:VCALENDAR
VERSION:2.0
PRODID:-//Vän i Umeå - ECPv6.15.20//NONSGML v1.0//EN
CALSCALE:GREGORIAN
METHOD:PUBLISH
X-WR-CALNAME:Vän i Umeå
X-ORIGINAL-URL:https://vaniumea.se
X-WR-CALDESC:Händelser för Vän i Umeå
REFRESH-INTERVAL;VALUE=DURATION:PT1H
X-Robots-Tag:noindex
X-PUBLISHED-TTL:PT1H
BEGIN:VTIMEZONE
TZID:Europe/Stockholm
BEGIN:DAYLIGHT
TZOFFSETFROM:+0100
TZOFFSETTO:+0200
TZNAME:CEST
DTSTART:20250330T010000
END:DAYLIGHT
BEGIN:STANDARD
TZOFFSETFROM:+0200
TZOFFSETTO:+0100
TZNAME:CET
DTSTART:20251026T010000
END:STANDARD
BEGIN:DAYLIGHT
TZOFFSETFROM:+0100
TZOFFSETTO:+0200
TZNAME:CEST
DTSTART:20260329T010000
END:DAYLIGHT
BEGIN:STANDARD
TZOFFSETFROM:+0200
TZOFFSETTO:+0100
TZNAME:CET
DTSTART:20261025T010000
END:STANDARD
BEGIN:DAYLIGHT
TZOFFSETFROM:+0100
TZOFFSETTO:+0200
TZNAME:CEST
DTSTART:20270328T010000
END:DAYLIGHT
BEGIN:STANDARD
TZOFFSETFROM:+0200
TZOFFSETTO:+0100
TZNAME:CET
DTSTART:20271031T010000
END:STANDARD
END:VTIMEZONE
BEGIN:VEVENT
DTSTART;TZID=Europe/Stockholm:20260302T173000
DTEND;TZID=Europe/Stockholm:20260302T193000
DTSTAMP:20260419T214343
CREATED:20260116T082339Z
LAST-MODIFIED:20260116T082339Z
UID:10007742-1772472600-1772479800@vaniumea.se
SUMMARY:Spelkväll på Orangeriet
DESCRIPTION:Äntligen spelkvällar på Orangeriet igen tillsammans med Vän i Umeå! \n\nKvällen börjar med att vi samlas och presenterar oss för varandra. Vi pratar sen om kvällens spel och kan välja mellan massor av olika spel – biljard\, shuffleboard\, boule\, dart och sällskapsspel. Vi spelar för att ha roligt tillsammans och träffa nya och gamla vänner.\n\nSpelkvällar med Vän i Umeå är helt gratis och alla är välkomna. Men ska du köpa någonting att dricka eller att äta så betalar du själv.\nVarmt välkommen! Har du frågor om spelkvällarna så mejla kontakt@vaniumea.se
URL:https://vaniumea.se/aktivitet/spelkvall-pa-orangeriet-2-2-kopiera-2-2/
LOCATION:Orangeriet Boule & Bistro\, Kungsgatan 71\, Umeå\, 903 26\, Sweden
CATEGORIES:30+,Spellkväll
ATTACH;FMTTYPE=image/jpeg:https://media.vaniumea.se/2023/03/orangeriet.jpeg
END:VEVENT
END:VCALENDAR